{"text_format":"1","workbook":"xlsx","n_sheets":11,"sheets":["Input","Sheet Summary","Plan Sheet","8.5x11 Plan Sheet","Sign Units Computation","D-704 Standards","Tables","Lists","Calculations","Revisions","Master"],"not_rendered":{"charts":0,"images":1,"macros":1,"external_links":0,"defined_names":4,"comments":6,"pivot_tables":0},"unopened":[],"bounds":{"document_bytes":16777216,"sheet_cells":100000,"rows_first":2000,"rows_last":500,"rows_between":2000,"halvings":0,"cell_chars":16384,"cell_head_chars":4096},"cells_cut":0,"cells_raw":0,"read":"whole","date_system":"1900"}

{"sheet":"Input","index":0,"n_rows":143,"n_cols":29,"rows_kept":143,"cut":false,"hidden":false,"merged":[[5,4,8,9],[7,3,9,3],[11,4,13,4],[11,5,11,9],[12,5,12,9],[11,3,13,3],[1,4,4,9],[7,1,7,2],[98,11,100,23],[125,5,125,9],[124,1,124,9],[125,1,127,1],[125,2,127,2],[125,3,127,3],[125,4,127,4],[126,5,126,9],[20,12,20,20],[11,2,13,2],[15,12,15,20],[24,12,24,20],[27,12,27,20],[17,12,17,20],[11,22,11,26],[10,11,10,26],[59,30,64,30],[42,12,42,20],[43,12,43,20],[56,11,63,23],[64,15,67,17],[37,29,40,30],[28,12,28,20],[29,12,29,20],[30,12,30,20],[10,28,13,28],[12,22,12,26],[11,1,13,1],[21,12,21,20],[25,12,25,20],[26,12,26,20],[18,12,18,20],[11,11,13,11],[11,12,13,20],[1,2,1,3],[40,12,40,20],[3,3,5,3],[7,16,7,19],[22,12,22,20],[3,18,3,21],[3,16,3,17],[5,20,5,21],[39,12,39,20],[10,1,10,9],[31,12,31,20],[34,12,34,20],[35,12,35,20],[32,12,32,20],[33,12,33,20],[1,10,4,11],[122,10,124,12],[36,12,36,20],[37,12,37,20],[38,12,38,20],[92,11,96,23],[88,11,91,23],[82,11,86,23],[68,11,70,23],[72,11,74,23],[54,11,55,23],[41,12,41,20],[76,11,80,23],[46,11,52,23],[111,10,114,12],[1,12,4,14],[23,12,23,20],[5,10,8,11],[5,12,8,14],[16,12,16,20],[7,20,7,21],[5,16,5,19],[14,12,14,20],[19,12,19,20],[11,21,13,21]]}
[]
[null,"Project #",null,null,null,null,null,null,null,null,null,null,null,null,null,null,null,"North Dakota Department of Transportation",{"$f":"CONCATENATE(\"This document was\noriginally issued\nand sealed by\n\",S4,\",\nRegistration Number\nPE-\",U6,\",\non \",TEXT(U8,\"m/d/yy\"),\" and the\noriginal document\nis stored at the \", R2, \".\")","v":"This document was\noriginally issued\nand sealed by\n,\nRegistration Number\nPE-,\non 1/0/00 and the\noriginal document\nis stored at the North Dakota Department of Transportation."}]
[]
[null,"Page #",null,null,null,null,null,null,null,null,null,null,null,null,null,null,"PE Name:"]
[]
[null,null,null,null,null,null,null,null,null,null,null,null,null,null,null,null,"PE Registration No.:"]
[]
[null,null,null,null,null,null,null,null,null,null,null,null,null,null,null,null,"Date Signed:"]
[]
[]
[null,"TRAFFIC CONTROL SIGNS",null,null,null,null,null,null,null,null,null,"TRAFFIC CONTROL DEVICES",null,null,null,null,null,null,null,null,null,null,null,null,null,null,null,null,"SUM  QUANTITY"]
[null,"SIGN NUMBER","SIGN SIZE","DESCRIPTION","UNITS","AMOUNT REQUIRED",null,null,null,null,null,"SPEC & CODE","DESCRIPTION",null,null,null,null,null,null,null,null,"UNIT","QUANTITY"]
[null,null,null,null,null,"PHASE",null,null,null,null,null,null,null,null,null,null,null,null,null,null,null,null,"PHASE"]
[null,null,null,null,null,null,null,null,null,null,null,null,null,null,null,null,null,null,null,null,null,null,{"$f":"F14","v":0},{"$f":"G14","v":0},{"$f":"H14","v":0},{"$f":"I14","v":0},{"$f":"J14","v":0}]
[null,{"$f":"'D-704 Standards'!B7","v":"E5-1-48"},{"$f":"'D-704 Standards'!C7","v":"48\"x48\""},{"$f":"'D-704 Standards'!D7","v":"EXIT GORE"},{"$f":"'D-704 Standards'!F7","v":35},{"$f":"'Sheet Summary'!AC7","v":0},{"$f":"IF($G$14=0,0,'Sheet Summary'!AD7)","v":0},{"$f":"IF($H$14=0,0,'Sheet Summary'!AE7)","v":0},{"$f":"IF($I$14=0,0,'Sheet Summary'!AF7)","v":0},{"$f":"IF($J$14=0,0,'Sheet Summary'!AG7)","v":0},null,{"$f":"VALUE(CONCATENATE('D-704 Standards'!B137,IF('D-704 Standards'!C137<1000,CONCATENATE(\"0\",'D-704 Standards'!C137),CONCATENATE('D-704 Standards'!C137))))","v":7040100},{"$f":"'D-704 Standards'!D137","v":"FLAGGING"},null,null,null,null,null,null,null,null,{"$f":"'D-704 Standards'!E137","v":"MHR"},{"$f":"'Sheet Summary'!AC137","v":0},{"$f":"IF($G$14=0,0,'Sheet Summary'!AD137)","v":0},{"$f":"IF($H$14=0,0,'Sheet Summary'!AE137)","v":0},{"$f":"IF($I$14=0,0,'Sheet Summary'!AF137)","v":0},{"$f":"IF($J$14=0,0,'Sheet Summary'!AG137)","v":0},null,{"$f":"'D-704 Standards'!F137","v":"X"}]
[null,{"$f":"'D-704 Standards'!B8","v":"G20-1-60"},{"$f":"'D-704 Standards'!C8","v":"60\"x24\""},{"$f":"'D-704 Standards'!D8","v":"ROAD WORK NEXT __ MILES"},{"$f":"'D-704 Standards'!F8","v":28},{"$f":"'Sheet Summary'!AC8","v":0},{"$f":"IF($G$14=0,0,'Sheet Summary'!AD8)","v":0},{"$f":"IF($H$14=0,0,'Sheet Summary'!AE8)","v":0},{"$f":"IF($I$14=0,0,'Sheet Summary'!AF8)","v":0},{"$f":"IF($J$14=0,0,'Sheet Summary'!AG8)","v":0},null,{"$f":"VALUE(CONCATENATE('D-704 Standards'!B138,IF('D-704 Standards'!C138<1000,CONCATENATE(\"0\",'D-704 Standards'!C138),CONCATENATE('D-704 Standards'!C138))))","v":7041048},{"$f":"'D-704 Standards'!D138","v":"PORTABLE RUMBLE STRIPS"},null,null,null,null,null,null,null,null,{"$f":"'D-704 Standards'!E138","v":"EACH"},{"$f":"'Sheet Summary'!AC138","v":0},{"$f":"IF($G$14=0,0,'Sheet Summary'!AD138)","v":0},{"$f":"IF($H$14=0,0,'Sheet Summary'!AE138)","v":0},{"$f":"IF($I$14=0,0,'Sheet Summary'!AF138)","v":0},{"$f":"IF($J$14=0,0,'Sheet Summary'!AG138)","v":0},null,{"$f":"'D-704 Standards'!F138","v":0}]
[null,{"$f":"'D-704 Standards'!B9","v":"G20-1b-60"},{"$f":"'D-704 Standards'!C9","v":"60\"x24\""},{"$f":"'D-704 Standards'!D9","v":"NO WORK IN PROGRESS (Sign and installation only)"},{"$f":"'D-704 Standards'!F9","v":18},{"$f":"'Sheet Summary'!AC9","v":0},{"$f":"IF($G$14=0,0,'Sheet Summary'!AD9)","v":0},{"$f":"IF($H$14=0,0,'Sheet Summary'!AE9)","v":0},{"$f":"IF($I$14=0,0,'Sheet Summary'!AF9)","v":0},{"$f":"IF($J$14=0,0,'Sheet Summary'!AG9)","v":0},null,{"$f":"VALUE(CONCATENATE('D-704 Standards'!B139,IF('D-704 Standards'!C139<1000,CONCATENATE(\"0\",'D-704 Standards'!C139),CONCATENATE('D-704 Standards'!C139))))","v":7041050},{"$f":"'D-704 Standards'!D139","v":"TYPE I BARRICADES"},null,null,null,null,null,null,null,null,{"$f":"'D-704 Standards'!E139","v":"EACH"},{"$f":"'Sheet Summary'!AC139","v":0},{"$f":"IF($G$14=0,0,'Sheet Summary'!AD139)","v":0},{"$f":"IF($H$14=0,0,'Sheet Summary'!AE139)","v":0},{"$f":"IF($I$14=0,0,'Sheet Summary'!AF139)","v":0},{"$f":"IF($J$14=0,0,'Sheet Summary'!AG139)","v":0},null,{"$f":"'D-704 Standards'!F139","v":0}]
[null,{"$f":"'D-704 Standards'!B10","v":"G20-2-48"},{"$f":"'D-704 Standards'!C10","v":"48\"x24\""},{"$f":"'D-704 Standards'!D10","v":"END ROAD WORK"},{"$f":"'D-704 Standards'!F10","v":26},{"$f":"'Sheet Summary'!AC10","v":0},{"$f":"IF($G$14=0,0,'Sheet Summary'!AD10)","v":0},{"$f":"IF($H$14=0,0,'Sheet Summary'!AE10)","v":0},{"$f":"IF($I$14=0,0,'Sheet Summary'!AF10)","v":0},{"$f":"IF($J$14=0,0,'Sheet Summary'!AG10)","v":0},null,{"$f":"VALUE(CONCATENATE('D-704 Standards'!B140,IF('D-704 Standards'!C140<1000,CONCATENATE(\"0\",'D-704 Standards'!C140),CONCATENATE('D-704 Standards'!C140))))","v":7041052},{"$f":"'D-704 Standards'!D140","v":"TYPE III BARRICADES"},null,null,null,null,null,null,null,null,{"$f":"'D-704 Standards'!E140","v":"EACH"},{"$f":"'Sheet Summary'!AC140","v":0},{"$f":"IF($G$14=0,0,'Sheet Summary'!AD140)","v":0},{"$f":"IF($H$14=0,0,'Sheet Summary'!AE140)","v":0},{"$f":"IF($I$14=0,0,'Sheet Summary'!AF140)","v":0},{"$f":"IF($J$14=0,0,'Sheet Summary'!AG140)","v":0},null,{"$f":"'D-704 Standards'!F140","v":0}]
[null,{"$f":"'D-704 Standards'!B11","v":"G20-4-36"},{"$f":"'D-704 Standards'!C11","v":"36\"x18\""},{"$f":"'D-704 Standards'!D11","v":"PILOT CAR FOLLOW ME (Mounted to back of pilot car)"},{"$f":"'D-704 Standards'!F11","v":18},{"$f":"'Sheet Summary'!AC11","v":0},{"$f":"IF($G$14=0,0,'Sheet Summary'!AD11)","v":0},{"$f":"IF($H$14=0,0,'Sheet Summary'!AE11)","v":0},{"$f":"IF($I$14=0,0,'Sheet Summary'!AF11)","v":0},{"$f":"IF($J$14=0,0,'Sheet Summary'!AG11)","v":0},null,{"$f":"VALUE(CONCATENATE('D-704 Standards'!B141,IF('D-704 Standards'!C141<1000,CONCATENATE(\"0\",'D-704 Standards'!C141),CONCATENATE('D-704 Standards'!C141))))","v":7041060},{"$f":"'D-704 Standards'!D141","v":"DELINEATOR DRUMS"},null,null,null,null,null,null,null,null,{"$f":"'D-704 Standards'!E141","v":"EACH"},{"$f":"'Sheet Summary'!AC141","v":0},{"$f":"IF($G$14=0,0,'Sheet Summary'!AD141)","v":0},{"$f":"IF($H$14=0,0,'Sheet Summary'!AE141)","v":0},{"$f":"IF($I$14=0,0,'Sheet Summary'!AF141)","v":0},{"$f":"IF($J$14=0,0,'Sheet Summary'!AG141)","v":0},null,{"$f":"'D-704 Standards'!F141","v":0}]
[null,{"$f":"'D-704 Standards'!B12","v":"G20-4b-36"},{"$f":"'D-704 Standards'!C12","v":"36\"x30\""},{"$f":"'D-704 Standards'!D12","v":"WAIT FOR PILOT CAR"},{"$f":"'D-704 Standards'!F12","v":18},{"$f":"'Sheet Summary'!AC12","v":0},{"$f":"IF($G$14=0,0,'Sheet Summary'!AD12)","v":0},{"$f":"IF($H$14=0,0,'Sheet Summary'!AE12)","v":0},{"$f":"IF($I$14=0,0,'Sheet Summary'!AF12)","v":0},{"$f":"IF($J$14=0,0,'Sheet Summary'!AG12)","v":0},{"$f":"IF(OR(F20>2,G20>2,H20>2,I20>2,J20>2),\"2 or less\",\"\")","v":""},{"$f":"VALUE(CONCATENATE('D-704 Standards'!B142,IF('D-704 Standards'!C142<1000,CONCATENATE(\"0\",'D-704 Standards'!C142),CONCATENATE('D-704 Standards'!C142))))","v":7041065},{"$f":"'D-704 Standards'!D142","v":"TRAFFIC CONES"},null,null,null,null,null,null,null,null,{"$f":"'D-704 Standards'!E142","v":"EACH"},{"$f":"'Sheet Summary'!AC142","v":0},{"$f":"IF($G$14=0,0,'Sheet Summary'!AD142)","v":0},{"$f":"IF($H$14=0,0,'Sheet Summary'!AE142)","v":0},{"$f":"IF($I$14=0,0,'Sheet Summary'!AF142)","v":0},{"$f":"IF($J$14=0,0,'Sheet Summary'!AG142)","v":0},null,{"$f":"'D-704 Standards'!F142","v":0}]
[null,{"$f":"'D-704 Standards'!B13","v":"G20-50a-72"},{"$f":"'D-704 Standards'!C13","v":"72\"x36\""},{"$f":"'D-704 Standards'!D13","v":"ROAD WORK NEXT __ MILES RT & LT ARROWS"},{"$f":"'D-704 Standards'!F13","v":43},{"$f":"'Sheet Summary'!AC13","v":0},{"$f":"IF($G$14=0,0,'Sheet Summary'!AD13)","v":0},{"$f":"IF($H$14=0,0,'Sheet Summary'!AE13)","v":0},{"$f":"IF($I$14=0,0,'Sheet Summary'!AF13)","v":0},{"$f":"IF($J$14=0,0,'Sheet Summary'!AG13)","v":0},null,{"$f":"VALUE(CONCATENATE('D-704 Standards'!B143,IF('D-704 Standards'!C143<1000,CONCATENATE(\"0\",'D-704 Standards'!C143),CONCATENATE('D-704 Standards'!C143))))","v":7041067},{"$f":"'D-704 Standards'!D143","v":"TUBULAR MARKERS"},null,null,null,null,null,null,null,null,{"$f":"'D-704 Standards'!E143","v":"EACH"},{"$f":"'Sheet Summary'!AC143","v":0},{"$f":"IF($G$14=0,0,'Sheet Summary'!AD143)","v":0},{"$f":"IF($H$14=0,0,'Sheet Summary'!AE143)","v":0},{"$f":"IF($I$14=0,0,'Sheet Summary'!AF143)","v":0},{"$f":"IF($J$14=0,0,'Sheet Summary'!AG143)","v":0},null,{"$f":"'D-704 Standards'!F143","v":0}]
[null,{"$f":"'D-704 Standards'!B14","v":"G20-52a-72"},{"$f":"'D-704 Standards'!C14","v":"72\"x24\""},{"$f":"'D-704 Standards'!D14","v":"ROAD WORK NEXT __ MILES RT or LT ARROW"},{"$f":"'D-704 Standards'!F14","v":36},{"$f":"'Sheet Summary'!AC14","v":0},{"$f":"IF($G$14=0,0,'Sheet Summary'!AD14)","v":0},{"$f":"IF($H$14=0,0,'Sheet Summary'!AE14)","v":0},{"$f":"IF($I$14=0,0,'Sheet Summary'!AF14)","v":0},{"$f":"IF($J$14=0,0,'Sheet Summary'!AG14)","v":0},null,{"$f":"VALUE(CONCATENATE('D-704 Standards'!B144,IF('D-704 Standards'!C144<1000,CONCATENATE(\"0\",'D-704 Standards'!C144),CONCATENATE('D-704 Standards'!C144))))","v":7041070},{"$f":"'D-704 Standards'!D144","v":"DELINEATOR"},null,null,null,null,null,null,null,null,{"$f":"'D-704 Standards'!E144","v":"EACH"},{"$f":"'Sheet Summary'!AC144","v":0},{"$f":"IF($G$14=0,0,'Sheet Summary'!AD144)","v":0},{"$f":"IF($H$14=0,0,'Sheet Summary'!AE144)","v":0},{"$f":"IF($I$14=0,0,'Sheet Summary'!AF144)","v":0},{"$f":"IF($J$14=0,0,'Sheet Summary'!AG144)","v":0},null,{"$f":"'D-704 Standards'!F144","v":0}]
[null,{"$f":"'D-704 Standards'!B15","v":"G20-55-96"},{"$f":"'D-704 Standards'!C15","v":"96\"x48\""},{"$f":"'D-704 Standards'!D15","v":"SPEED LIMIT ENFORCED - MINIMUM FEE $150 WHEN WORKERS PRESENT"},{"$f":"'D-704 Standards'!F15","v":59},{"$f":"'Sheet Summary'!AC15","v":0},{"$f":"IF($G$14=0,0,'Sheet Summary'!AD15)","v":0},{"$f":"IF($H$14=0,0,'Sheet Summary'!AE15)","v":0},{"$f":"IF($I$14=0,0,'Sheet Summary'!AF15)","v":0},{"$f":"IF($J$14=0,0,'Sheet Summary'!AG15)","v":0},null,{"$f":"VALUE(CONCATENATE('D-704 Standards'!B145,IF('D-704 Standards'!C145<1000,CONCATENATE(\"0\",'D-704 Standards'!C145),CONCATENATE('D-704 Standards'!C145))))","v":7041072},{"$f":"'D-704 Standards'!D145","v":"FLEXIBLE DELINEATORS"},null,null,null,null,null,null,null,null,{"$f":"'D-704 Standards'!E145","v":"EACH"},{"$f":"'Sheet Summary'!AC145","v":0},{"$f":"IF($G$14=0,0,'Sheet Summary'!AD145)","v":0},{"$f":"IF($H$14=0,0,'Sheet Summary'!AE145)","v":0},{"$f":"IF($I$14=0,0,'Sheet Summary'!AF145)","v":0},{"$f":"IF($J$14=0,0,'Sheet Summary'!AG145)","v":0},null,{"$f":"'D-704 Standards'!F145","v":0}]
[null,{"$f":"'D-704 Standards'!B16","v":"M1-1-36"},{"$f":"'D-704 Standards'!C16","v":"36\"x36\""},{"$f":"'D-704 Standards'!D16","v":"INTERSTATE ROUTE MARKER (Post and installation only)"},{"$f":"'D-704 Standards'!F16","v":11},{"$f":"'Sheet Summary'!AC16","v":0},{"$f":"IF($G$14=0,0,'Sheet Summary'!AD16)","v":0},{"$f":"IF($H$14=0,0,'Sheet Summary'!AE16)","v":0},{"$f":"IF($I$14=0,0,'Sheet Summary'!AF16)","v":0},{"$f":"IF($J$14=0,0,'Sheet Summary'!AG16)","v":0},null,{"$f":"VALUE(CONCATENATE('D-704 Standards'!B146,IF('D-704 Standards'!C146<1000,CONCATENATE(\"0\",'D-704 Standards'!C146),CONCATENATE('D-704 Standards'!C146))))","v":7041080},{"$f":"'D-704 Standards'!D146","v":"STACKABLE VERTICAL PANELS"},null,null,null,null,null,null,null,null,{"$f":"'D-704 Standards'!E146","v":"EACH"},{"$f":"'Sheet Summary'!AC146","v":0},{"$f":"IF($G$14=0,0,'Sheet Summary'!AD146)","v":0},{"$f":"IF($H$14=0,0,'Sheet Summary'!AE146)","v":0},{"$f":"IF($I$14=0,0,'Sheet Summary'!AF146)","v":0},{"$f":"IF($J$14=0,0,'Sheet Summary'!AG146)","v":0},null,{"$f":"'D-704 Standards'!F146","v":0}]
[null,{"$f":"'D-704 Standards'!B17","v":"M1-4-24"},{"$f":"'D-704 Standards'!C17","v":"24\"x24\""},{"$f":"'D-704 Standards'!D17","v":"U.S. ROUTE MARKER (Post and installation only)"},{"$f":"'D-704 Standards'!F17","v":10},{"$f":"'Sheet Summary'!AC17","v":0},{"$f":"IF($G$14=0,0,'Sheet Summary'!AD17)","v":0},{"$f":"IF($H$14=0,0,'Sheet Summary'!AE17)","v":0},{"$f":"IF($I$14=0,0,'Sheet Summary'!AF17)","v":0},{"$f":"IF($J$14=0,0,'Sheet Summary'!AG17)","v":0},null,{"$f":"VALUE(CONCATENATE('D-704 Standards'!B147,IF('D-704 Standards'!C147<1000,CONCATENATE(\"0\",'D-704 Standards'!C147),CONCATENATE('D-704 Standards'!C147))))","v":7041081},{"$f":"'D-704 Standards'!D147","v":"VERTICAL PANELS - BACK TO BACK"},null,null,null,null,null,null,null,null,{"$f":"'D-704 Standards'!E147","v":"EACH"},{"$f":"'Sheet Summary'!AC147","v":0},{"$f":"IF($G$14=0,0,'Sheet Summary'!AD147)","v":0},{"$f":"IF($H$14=0,0,'Sheet Summary'!AE147)","v":0},{"$f":"IF($I$14=0,0,'Sheet Summary'!AF147)","v":0},{"$f":"IF($J$14=0,0,'Sheet Summary'!AG147)","v":0},null,{"$f":"'D-704 Standards'!F147","v":0}]
[null,{"$f":"'D-704 Standards'!B18","v":"M1-5-24"},{"$f":"'D-704 Standards'!C18","v":"24\"x24\""},{"$f":"'D-704 Standards'!D18","v":"STATE ROUTE MARKER (Post and installation only)"},{"$f":"'D-704 Standards'!F18","v":10},{"$f":"'Sheet Summary'!AC18","v":0},{"$f":"IF($G$14=0,0,'Sheet Summary'!AD18)","v":0},{"$f":"IF($H$14=0,0,'Sheet Summary'!AE18)","v":0},{"$f":"IF($I$14=0,0,'Sheet Summary'!AF18)","v":0},{"$f":"IF($J$14=0,0,'Sheet Summary'!AG18)","v":0},null,{"$f":"VALUE(CONCATENATE('D-704 Standards'!B148,IF('D-704 Standards'!C148<1000,CONCATENATE(\"0\",'D-704 Standards'!C148),CONCATENATE('D-704 Standards'!C148))))","v":7041085},{"$f":"'D-704 Standards'!D148","v":"SEQUENCING ARROW PANEL - TYPE A"},null,null,null,null,null,null,null,null,{"$f":"'D-704 Standards'!E148","v":"EACH"},{"$f":"'Sheet Summary'!AC148","v":0},{"$f":"IF($G$14=0,0,'Sheet Summary'!AD148)","v":0},{"$f":"IF($H$14=0,0,'Sheet Summary'!AE148)","v":0},{"$f":"IF($I$14=0,0,'Sheet Summary'!AF148)","v":0},{"$f":"IF($J$14=0,0,'Sheet Summary'!AG148)","v":0},null,{"$f":"'D-704 Standards'!F148","v":0}]
[null,{"$f":"'D-704 Standards'!B19","v":"M3-1-24"},{"$f":"'D-704 Standards'!C19","v":"24\"x12\""},{"$f":"'D-704 Standards'!D19","v":"NORTH (Mounted on route marker post)"},{"$f":"'D-704 Standards'!F19","v":7},{"$f":"'Sheet Summary'!AC19","v":0},{"$f":"IF($G$14=0,0,'Sheet Summary'!AD19)","v":0},{"$f":"IF($H$14=0,0,'Sheet Summary'!AE19)","v":0},{"$f":"IF($I$14=0,0,'Sheet Summary'!AF19)","v":0},{"$f":"IF($J$14=0,0,'Sheet Summary'!AG19)","v":0},null,{"$f":"VALUE(CONCATENATE('D-704 Standards'!B149,IF('D-704 Standards'!C149<1000,CONCATENATE(\"0\",'D-704 Standards'!C149),CONCATENATE('D-704 Standards'!C149))))","v":7041086},{"$f":"'D-704 Standards'!D149","v":"SEQUENCING ARROW PANEL - TYPE B"},null,null,null,null,null,null,null,null,{"$f":"'D-704 Standards'!E149","v":"EACH"},{"$f":"'Sheet Summary'!AC149","v":0},{"$f":"IF($G$14=0,0,'Sheet Summary'!AD149)","v":0},{"$f":"IF($H$14=0,0,'Sheet Summary'!AE149)","v":0},{"$f":"IF($I$14=0,0,'Sheet Summary'!AF149)","v":0},{"$f":"IF($J$14=0,0,'Sheet Summary'!AG149)","v":0},null,{"$f":"'D-704 Standards'!F149","v":0}]
[null,{"$f":"'D-704 Standards'!B20","v":"M3-2-24"},{"$f":"'D-704 Standards'!C20","v":"24\"x12\""},{"$f":"'D-704 Standards'!D20","v":"EAST (Mounted on route marker post)"},{"$f":"'D-704 Standards'!F20","v":7},{"$f":"'Sheet Summary'!AC20","v":0},{"$f":"IF($G$14=0,0,'Sheet Summary'!AD20)","v":0},{"$f":"IF($H$14=0,0,'Sheet Summary'!AE20)","v":0},{"$f":"IF($I$14=0,0,'Sheet Summary'!AF20)","v":0},{"$f":"IF($J$14=0,0,'Sheet Summary'!AG20)","v":0},null,{"$f":"VALUE(CONCATENATE('D-704 Standards'!B150,IF('D-704 Standards'!C150<1000,CONCATENATE(\"0\",'D-704 Standards'!C150),CONCATENATE('D-704 Standards'!C150))))","v":7041087},{"$f":"'D-704 Standards'!D150","v":"SEQUENCING ARROW PANEL - TYPE C"},null,null,null,null,null,null,null,null,{"$f":"'D-704 Standards'!E150","v":"EACH"},{"$f":"'Sheet Summary'!AC150","v":0},{"$f":"IF($G$14=0,0,'Sheet Summary'!AD150)","v":0},{"$f":"IF($H$14=0,0,'Sheet Summary'!AE150)","v":0},{"$f":"IF($I$14=0,0,'Sheet Summary'!AF150)","v":0},{"$f":"IF($J$14=0,0,'Sheet Summary'!AG150)","v":0},null,{"$f":"'D-704 Standards'!F150","v":0}]
[null,{"$f":"'D-704 Standards'!B21","v":"M3-3-24"},{"$f":"'D-704 Standards'!C21","v":"24\"x12\""},{"$f":"'D-704 Standards'!D21","v":"SOUTH (Mounted on route marker post)"},{"$f":"'D-704 Standards'!F21","v":7},{"$f":"'Sheet Summary'!AC21","v":0},{"$f":"IF($G$14=0,0,'Sheet Summary'!AD21)","v":0},{"$f":"IF($H$14=0,0,'Sheet Summary'!AE21)","v":0},{"$f":"IF($I$14=0,0,'Sheet Summary'!AF21)","v":0},{"$f":"IF($J$14=0,0,'Sheet Summary'!AG21)","v":0},null,{"$f":"VALUE(CONCATENATE('D-704 Standards'!B151,IF('D-704 Standards'!C151<1000,CONCATENATE(\"0\",'D-704 Standards'!C151),CONCATENATE('D-704 Standards'!C151))))","v":7043501},{"$f":"'D-704 Standards'!D151","v":"PORTABLE PRECAST CONCRETE MED BARRIER"},null,null,null,null,null,null,null,null,{"$f":"'D-704 Standards'!E151","v":"LF"},{"$f":"'Sheet Summary'!AC151","v":0},{"$f":"IF($G$14=0,0,'Sheet Summary'!AD151)","v":0},{"$f":"IF($H$14=0,0,'Sheet Summary'!AE151)","v":0},{"$f":"IF($I$14=0,0,'Sheet Summary'!AF151)","v":0},{"$f":"IF($J$14=0,0,'Sheet Summary'!AG151)","v":0},null,{"$f":"'D-704 Standards'!F151","v":0}]
[null,{"$f":"'D-704 Standards'!B22","v":"M3-4-24"},{"$f":"'D-704 Standards'!C22","v":"24\"x12\""},{"$f":"'D-704 Standards'!D22","v":"WEST (Mounted on route marker post)"},{"$f":"'D-704 Standards'!F22","v":7},{"$f":"'Sheet Summary'!AC22","v":0},{"$f":"IF($G$14=0,0,'Sheet Summary'!AD22)","v":0},{"$f":"IF($H$14=0,0,'Sheet Summary'!AE22)","v":0},{"$f":"IF($I$14=0,0,'Sheet Summary'!AF22)","v":0},{"$f":"IF($J$14=0,0,'Sheet Summary'!AG22)","v":0},null,{"$f":"VALUE(CONCATENATE('D-704 Standards'!B152,IF('D-704 Standards'!C152<1000,CONCATENATE(\"0\",'D-704 Standards'!C152),CONCATENATE('D-704 Standards'!C152))))","v":7043510},{"$f":"'D-704 Standards'!D152","v":"PRECAST CONCRETE MED BARRIER - STATE FURNISHED"},null,null,null,null,null,null,null,null,{"$f":"'D-704 Standards'!E152","v":"EACH"},{"$f":"'Sheet Summary'!AC152","v":0},{"$f":"IF($G$14=0,0,'Sheet Summary'!AD152)","v":0},{"$f":"IF($H$14=0,0,'Sheet Summary'!AE152)","v":0},{"$f":"IF($I$14=0,0,'Sheet Summary'!AF152)","v":0},{"$f":"IF($J$14=0,0,'Sheet Summary'!AG152)","v":0},null,{"$f":"'D-704 Standards'!F152","v":0}]
[null,{"$f":"'D-704 Standards'!B23","v":"M4-8-24"},{"$f":"'D-704 Standards'!C23","v":"24\"x12\""},{"$f":"'D-704 Standards'!D23","v":"DETOUR (Mounted on route marker post)"},{"$f":"'D-704 Standards'!F23","v":7},{"$f":"'Sheet Summary'!AC23","v":0},{"$f":"IF($G$14=0,0,'Sheet Summary'!AD23)","v":0},{"$f":"IF($H$14=0,0,'Sheet Summary'!AE23)","v":0},{"$f":"IF($I$14=0,0,'Sheet Summary'!AF23)","v":0},{"$f":"IF($J$14=0,0,'Sheet Summary'!AG23)","v":0},null,{"$f":"VALUE(CONCATENATE('D-704 Standards'!B153,IF('D-704 Standards'!C153<1000,CONCATENATE(\"0\",'D-704 Standards'!C153),CONCATENATE('D-704 Standards'!C153))))","v":7620200},{"$f":"'D-704 Standards'!D153","v":"RAISED PAVEMENT MARKERS"},null,null,null,null,null,null,null,null,{"$f":"'D-704 Standards'!E153","v":"EACH"},{"$f":"'Sheet Summary'!AC153","v":0},{"$f":"IF($G$14=0,0,'Sheet Summary'!AD153)","v":0},{"$f":"IF($H$14=0,0,'Sheet Summary'!AE153)","v":0},{"$f":"IF($I$14=0,0,'Sheet Summary'!AF153)","v":0},{"$f":"IF($J$14=0,0,'Sheet Summary'!AG153)","v":0},null,{"$f":"'D-704 Standards'!F153","v":"X"}]
[null,{"$f":"'D-704 Standards'!B24","v":"M4-9-30"},{"$f":"'D-704 Standards'!C24","v":"30\"x24\""},{"$f":"'D-704 Standards'!D24","v":"DETOUR ARROW RIGHT or LEFT/AHD AND RT or LT"},{"$f":"'D-704 Standards'!F24","v":15},{"$f":"'Sheet Summary'!AC24","v":0},{"$f":"IF($G$14=0,0,'Sheet Summary'!AD24)","v":0},{"$f":"IF($H$14=0,0,'Sheet Summary'!AE24)","v":0},{"$f":"IF($I$14=0,0,'Sheet Summary'!AF24)","v":0},{"$f":"IF($J$14=0,0,'Sheet Summary'!AG24)","v":0},null,{"$f":"VALUE(CONCATENATE('D-704 Standards'!B154,IF('D-704 Standards'!C154<1000,CONCATENATE(\"0\",'D-704 Standards'!C154),CONCATENATE('D-704 Standards'!C154))))","v":7620420},{"$f":"'D-704 Standards'!D154","v":"SHORT TERM 4IN LINE - TYPE R"},null,null,null,null,null,null,null,null,{"$f":"'D-704 Standards'!E154","v":"LF"},{"$f":"'Sheet Summary'!AC154","v":0},{"$f":"IF($G$14=0,0,'Sheet Summary'!AD154)","v":0},{"$f":"IF($H$14=0,0,'Sheet Summary'!AE154)","v":0},{"$f":"IF($I$14=0,0,'Sheet Summary'!AF154)","v":0},{"$f":"IF($J$14=0,0,'Sheet Summary'!AG154)","v":0},null,{"$f":"'D-704 Standards'!F154","v":"X"}]
[null,{"$f":"'D-704 Standards'!B25","v":"M4-10-48"},{"$f":"'D-704 Standards'!C25","v":"48\"x18\""},{"$f":"'D-704 Standards'!D25","v":"DETOUR (INSIDE ARROW) RIGHT or LEFT (Mounted on barricade)"},{"$f":"'D-704 Standards'!F25","v":7},{"$f":"'Sheet Summary'!AC25","v":0},{"$f":"IF($G$14=0,0,'Sheet Summary'!AD25)","v":0},{"$f":"IF($H$14=0,0,'Sheet Summary'!AE25)","v":0},{"$f":"IF($I$14=0,0,'Sheet Summary'!AF25)","v":0},{"$f":"IF($J$14=0,0,'Sheet Summary'!AG25)","v":0},null,{"$f":"VALUE(CONCATENATE('D-704 Standards'!B155,IF('D-704 Standards'!C155<1000,CONCATENATE(\"0\",'D-704 Standards'!C155),CONCATENATE('D-704 Standards'!C155))))","v":7620430},{"$f":"'D-704 Standards'!D155","v":"SHORT TERM 4IN LINE - TYPE NR"},null,null,null,null,null,null,null,null,{"$f":"'D-704 Standards'!E155","v":"LF"},{"$f":"'Sheet Summary'!AC155","v":0},{"$f":"IF($G$14=0,0,'Sheet Summary'!AD155)","v":0},{"$f":"IF($H$14=0,0,'Sheet Summary'!AE155)","v":0},{"$f":"IF($I$14=0,0,'Sheet Summary'!AF155)","v":0},{"$f":"IF($J$14=0,0,'Sheet Summary'!AG155)","v":0},null,{"$f":"'D-704 Standards'!F155","v":"X"}]
[null,{"$f":"'D-704 Standards'!B26","v":"M5-1-21"},{"$f":"'D-704 Standards'!C26","v":"21\"x15\""},{"$f":"'D-704 Standards'!D26","v":"ADVANCE TURN ARROW RT or LT(Mounted on route marker post)"},{"$f":"'D-704 Standards'!F26","v":7},{"$f":"'Sheet Summary'!AC26","v":0},{"$f":"IF($G$14=0,0,'Sheet Summary'!AD26)","v":0},{"$f":"IF($H$14=0,0,'Sheet Summary'!AE26)","v":0},{"$f":"IF($I$14=0,0,'Sheet Summary'!AF26)","v":0},{"$f":"IF($J$14=0,0,'Sheet Summary'!AG26)","v":0},null,{"$f":"VALUE(CONCATENATE('D-704 Standards'!B156,IF('D-704 Standards'!C156<1000,CONCATENATE(\"0\",'D-704 Standards'!C156),CONCATENATE('D-704 Standards'!C156))))","v":7041500},{"$f":"'D-704 Standards'!D156","v":"OBLITERATION OF PVMT MK"},null,null,null,null,null,null,null,null,{"$f":"'D-704 Standards'!E156","v":"SF"},{"$f":"'Sheet Summary'!AC156","v":0},{"$f":"IF($G$14=0,0,'Sheet Summary'!AD156)","v":0},{"$f":"IF($H$14=0,0,'Sheet Summary'!AE156)","v":0},{"$f":"IF($I$14=0,0,'Sheet Summary'!AF156)","v":0},{"$f":"IF($J$14=0,0,'Sheet Summary'!AG156)","v":0},null,{"$f":"'D-704 Standards'!F156","v":"X"}]
[null,{"$f":"'D-704 Standards'!B27","v":"M5-1-30"},{"$f":"'D-704 Standards'!C27","v":"30\"x21\""},{"$f":"'D-704 Standards'!D27","v":"ADVANCE TURN ARROW RT or LT(Mounted on route marker post)"},{"$f":"'D-704 Standards'!F27","v":9},{"$f":"'Sheet Summary'!AC27","v":0},{"$f":"IF($G$14=0,0,'Sheet Summary'!AD27)","v":0},{"$f":"IF($H$14=0,0,'Sheet Summary'!AE27)","v":0},{"$f":"IF($I$14=0,0,'Sheet Summary'!AF27)","v":0},{"$f":"IF($J$14=0,0,'Sheet Summary'!AG27)","v":0},null,null,null,null,null,null,null,null,null,null,null,null,{"$f":"'Sheet Summary'!AC157","v":0},{"$f":"IF($G$14=0,0,'Sheet Summary'!AD157)","v":0},{"$f":"IF($H$14=0,0,'Sheet Summary'!AE157)","v":0},{"$f":"IF($I$14=0,0,'Sheet Summary'!AF157)","v":0},{"$f":"IF($J$14=0,0,'Sheet Summary'!AG157)","v":0}]
[null,{"$f":"'D-704 Standards'!B28","v":"M6-1-21"},{"$f":"'D-704 Standards'!C28","v":"21\"x15\""},{"$f":"'D-704 Standards'!D28","v":"DIRECTIONAL ARROW RT or LT (Mounted on route marker post)"},{"$f":"'D-704 Standards'!F28","v":7},{"$f":"'Sheet Summary'!AC28","v":0},{"$f":"IF($G$14=0,0,'Sheet Summary'!AD28)","v":0},{"$f":"IF($H$14=0,0,'Sheet Summary'!AE28)","v":0},{"$f":"IF($I$14=0,0,'Sheet Summary'!AF28)","v":0},{"$f":"IF($J$14=0,0,'Sheet Summary'!AG28)","v":0},null,null,null,null,null,null,null,null,null,null,null,null,{"$f":"'Sheet Summary'!AC158","v":0},{"$f":"IF($G$14=0,0,'Sheet Summary'!AD158)","v":0},{"$f":"IF($H$14=0,0,'Sheet Summary'!AE158)","v":0},{"$f":"IF($I$14=0,0,'Sheet Summary'!AF158)","v":0},{"$f":"IF($J$14=0,0,'Sheet Summary'!AG158)","v":0}]
[null,{"$f":"'D-704 Standards'!B29","v":"M6-1-30"},{"$f":"'D-704 Standards'!C29","v":"30\"x21\""},{"$f":"'D-704 Standards'!D29","v":"DIRECTIONAL ARROW RT or LT (Mounted on route marker post)"},{"$f":"'D-704 Standards'!F29","v":9},{"$f":"'Sheet Summary'!AC29","v":0},{"$f":"IF($G$14=0,0,'Sheet Summary'!AD29)","v":0},{"$f":"IF($H$14=0,0,'Sheet Summary'!AE29)","v":0},{"$f":"IF($I$14=0,0,'Sheet Summary'!AF29)","v":0},{"$f":"IF($J$14=0,0,'Sheet Summary'!AG29)","v":0},null,null,null,null,null,null,null,null,null,null,null,null,{"$f":"'Sheet Summary'!AC159","v":0},{"$f":"IF($G$14=0,0,'Sheet Summary'!AD159)","v":0},{"$f":"IF($H$14=0,0,'Sheet Summary'!AE159)","v":0},{"$f":"IF($I$14=0,0,'Sheet Summary'!AF159)","v":0},{"$f":"IF($J$14=0,0,'Sheet Summary'!AG159)","v":0}]
[null,{"$f":"'D-704 Standards'!B30","v":"M6-3-21"},{"$f":"'D-704 Standards'!C30","v":"21\"x15\""},{"$f":"'D-704 Standards'!D30","v":"DIRECTIONAL ARROW UP (Mounted on route marker post)"},{"$f":"'D-704 Standards'!F30","v":7},{"$f":"'Sheet Summary'!AC30","v":0},{"$f":"IF($G$14=0,0,'Sheet Summary'!AD30)","v":0},{"$f":"IF($H$14=0,0,'Sheet Summary'!AE30)","v":0},{"$f":"IF($I$14=0,0,'Sheet Summary'!AF30)","v":0},{"$f":"IF($J$14=0,0,'Sheet Summary'!AG30)","v":0},null,null,null,null,null,null,null,null,null,null,null,null,{"$f":"'Sheet Summary'!AC160","v":0},{"$f":"IF($G$14=0,0,'Sheet Summary'!AD160)","v":0},{"$f":"IF($H$14=0,0,'Sheet Summary'!AE160)","v":0},{"$f":"IF($I$14=0,0,'Sheet Summary'!AF160)","v":0},{"$f":"IF($J$14=0,0,'Sheet Summary'!AG160)","v":0}]
[null,{"$f":"'D-704 Standards'!B31","v":"R1-1-48"},{"$f":"'D-704 Standards'!C31","v":"48\"x48\""},{"$f":"'D-704 Standards'!D31","v":"STOP"},{"$f":"'D-704 Standards'!F31","v":32},{"$f":"'Sheet Summary'!AC31","v":0},{"$f":"IF($G$14=0,0,'Sheet Summary'!AD31)","v":0},{"$f":"IF($H$14=0,0,'Sheet Summary'!AE31)","v":0},{"$f":"IF($I$14=0,0,'Sheet Summary'!AF31)","v":0},{"$f":"IF($J$14=0,0,'Sheet Summary'!AG31)","v":0},null,null,null,null,null,null,null,null,null,null,null,null,{"$f":"'Sheet Summary'!AC161","v":0},{"$f":"IF($G$14=0,0,'Sheet Summary'!AD161)","v":0},{"$f":"IF($H$14=0,0,'Sheet Summary'!AE161)","v":0},{"$f":"IF($I$14=0,0,'Sheet Summary'!AF161)","v":0},{"$f":"IF($J$14=0,0,'Sheet Summary'!AG161)","v":0}]
[null,{"$f":"'D-704 Standards'!B32","v":"R1-2-60"},{"$f":"'D-704 Standards'!C32","v":"60\"x60\" "},{"$f":"'D-704 Standards'!D32","v":"YIELD "},{"$f":"'D-704 Standards'!F32","v":29},{"$f":"'Sheet Summary'!AC32","v":0},{"$f":"IF($G$14=0,0,'Sheet Summary'!AD32)","v":0},{"$f":"IF($H$14=0,0,'Sheet Summary'!AE32)","v":0},{"$f":"IF($I$14=0,0,'Sheet Summary'!AF32)","v":0},{"$f":"IF($J$14=0,0,'Sheet Summary'!AG32)","v":0},null,null,null,null,null,null,null,null,null,null,null,null,{"$f":"'Sheet Summary'!AC162","v":0},{"$f":"IF($G$14=0,0,'Sheet Summary'!AD162)","v":0},{"$f":"IF($H$14=0,0,'Sheet Summary'!AE162)","v":0},{"$f":"IF($I$14=0,0,'Sheet Summary'!AF162)","v":0},{"$f":"IF($J$14=0,0,'Sheet Summary'!AG162)","v":0}]
[null,{"$f":"'D-704 Standards'!B33","v":"R2-1-36"},{"$f":"'D-704 Standards'!C33","v":"36\"x48\""},{"$f":"'D-704 Standards'!D33","v":"SPEED LIMIT __ (Portable only)"},{"$f":"'D-704 Standards'!F33","v":30},{"$f":"'Sheet Summary'!AC33","v":0},{"$f":"IF($G$14=0,0,'Sheet Summary'!AD33)","v":0},{"$f":"IF($H$14=0,0,'Sheet Summary'!AE33)","v":0},{"$f":"IF($I$14=0,0,'Sheet Summary'!AF33)","v":0},{"$f":"IF($J$14=0,0,'Sheet Summary'!AG33)","v":0},null,null,null,null,null,null,null,null,null,null,null,null,{"$f":"'Sheet Summary'!AC163","v":0},{"$f":"IF($G$14=0,0,'Sheet Summary'!AD163)","v":0},{"$f":"IF($H$14=0,0,'Sheet Summary'!AE163)","v":0},{"$f":"IF($I$14=0,0,'Sheet Summary'!AF163)","v":0},{"$f":"IF($J$14=0,0,'Sheet Summary'!AG163)","v":0}]
[null,{"$f":"'D-704 Standards'!B34","v":"R2-1-48"},{"$f":"'D-704 Standards'!C34","v":"48\"x60\""},{"$f":"'D-704 Standards'!D34","v":"SPEED LIMIT __"},{"$f":"'D-704 Standards'!F34","v":39},{"$f":"'Sheet Summary'!AC34","v":0},{"$f":"IF($G$14=0,0,'Sheet Summary'!AD34)","v":0},{"$f":"IF($H$14=0,0,'Sheet Summary'!AE34)","v":0},{"$f":"IF($I$14=0,0,'Sheet Summary'!AF34)","v":0},{"$f":"IF($J$14=0,0,'Sheet Summary'!AG34)","v":0},null,null,null,null,null,null,null,null,null,null,null,null,{"$f":"'Sheet Summary'!AC164","v":0},{"$f":"IF($G$14=0,0,'Sheet Summary'!AD164)","v":0},{"$f":"IF($H$14=0,0,'Sheet Summary'!AE164)","v":0},{"$f":"IF($I$14=0,0,'Sheet Summary'!AF164)","v":0},{"$f":"IF($J$14=0,0,'Sheet Summary'!AG164)","v":0}]
[null,{"$f":"'D-704 Standards'!B35","v":"R2-1aP-24"},{"$f":"'D-704 Standards'!C35","v":"24\"x18\""},{"$f":"'D-704 Standards'!D35","v":"MINIMUM FEE $150 (Mounted on Speed Limit post)"},{"$f":"'D-704 Standards'!F35","v":10},{"$f":"'Sheet Summary'!AC35","v":0},{"$f":"IF($G$14=0,0,'Sheet Summary'!AD35)","v":0},{"$f":"IF($H$14=0,0,'Sheet Summary'!AE35)","v":0},{"$f":"IF($I$14=0,0,'Sheet Summary'!AF35)","v":0},{"$f":"IF($J$14=0,0,'Sheet Summary'!AG35)","v":0},null,null,null,null,null,null,null,null,null,null,null,null,{"$f":"'Sheet Summary'!AC165","v":0},{"$f":"IF($G$14=0,0,'Sheet Summary'!AD165)","v":0},{"$f":"IF($H$14=0,0,'Sheet Summary'!AE165)","v":0},{"$f":"IF($I$14=0,0,'Sheet Summary'!AF165)","v":0},{"$f":"IF($J$14=0,0,'Sheet Summary'!AG165)","v":0}]
[null,{"$f":"'D-704 Standards'!B36","v":"R3-2-48"},{"$f":"'D-704 Standards'!C36","v":"48\"x48\""},{"$f":"'D-704 Standards'!D36","v":"NO LEFT TURN"},{"$f":"'D-704 Standards'!F36","v":35},{"$f":"'Sheet Summary'!AC36","v":0},{"$f":"IF($G$14=0,0,'Sheet Summary'!AD36)","v":0},{"$f":"IF($H$14=0,0,'Sheet Summary'!AE36)","v":0},{"$f":"IF($I$14=0,0,'Sheet Summary'!AF36)","v":0},{"$f":"IF($J$14=0,0,'Sheet Summary'!AG36)","v":0},null,null,null,null,null,null,null,null,null,null,null,null,{"$f":"'Sheet Summary'!AC166","v":0},{"$f":"IF($G$14=0,0,'Sheet Summary'!AD166)","v":0},{"$f":"IF($H$14=0,0,'Sheet Summary'!AE166)","v":0},{"$f":"IF($I$14=0,0,'Sheet Summary'!AF166)","v":0},{"$f":"IF($J$14=0,0,'Sheet Summary'!AG166)","v":0}]
[null,{"$f":"'D-704 Standards'!B37","v":"R4-1-48"},{"$f":"'D-704 Standards'!C37","v":"48\"x60\""},{"$f":"'D-704 Standards'!D37","v":"DO NOT PASS"},{"$f":"'D-704 Standards'!F37","v":39},{"$f":"'Sheet Summary'!AC37","v":0},{"$f":"IF($G$14=0,0,'Sheet Summary'!AD37)","v":0},{"$f":"IF($H$14=0,0,'Sheet Summary'!AE37)","v":0},{"$f":"IF($I$14=0,0,'Sheet Summary'!AF37)","v":0},{"$f":"IF($J$14=0,0,'Sheet Summary'!AG37)","v":0}]
[null,{"$f":"'D-704 Standards'!B38","v":"R4-7-48"},{"$f":"'D-704 Standards'!C38","v":"48\"x60\""},{"$f":"'D-704 Standards'!D38","v":"KEEP RIGHT"},{"$f":"'D-704 Standards'!F38","v":39},{"$f":"'Sheet Summary'!AC38","v":0},{"$f":"IF($G$14=0,0,'Sheet Summary'!AD38)","v":0},{"$f":"IF($H$14=0,0,'Sheet Summary'!AE38)","v":0},{"$f":"IF($I$14=0,0,'Sheet Summary'!AF38)","v":0},{"$f":"IF($J$14=0,0,'Sheet Summary'!AG38)","v":0}]
[null,{"$f":"'D-704 Standards'!B39","v":"R5-1-48"},{"$f":"'D-704 Standards'!C39","v":"48\"x48\""},{"$f":"'D-704 Standards'!D39","v":"DO NOT ENTER"},{"$f":"'D-704 Standards'!F39","v":35},{"$f":"'Sheet Summary'!AC39","v":0},{"$f":"IF($G$14=0,0,'Sheet Summary'!AD39)","v":0},{"$f":"IF($H$14=0,0,'Sheet Summary'!AE39)","v":0},{"$f":"IF($I$14=0,0,'Sheet Summary'!AF39)","v":0},{"$f":"IF($J$14=0,0,'Sheet Summary'!AG39)","v":0},null,"NOTE: Macros must be enabled for the buttons to work.  To enable macros, click on the Options button next to the Security Warning under the menu bar to open the Microsoft Security Options.  Choose Enable this content and click OK.\nDO NOT SAVE THIS FILE IN ANY FORMAT EXCEPT .xlsm (MACRO-ENABLED.)  DOING SO WILL CAUSE THE MACROS TO BE REMOVED OR PERMANENTLY DISABLED."]
[null,{"$f":"'D-704 Standards'!B40","v":"R6-1-54"},{"$f":"'D-704 Standards'!C40","v":"54\"x18\""},{"$f":"'D-704 Standards'!D40","v":"ONE WAY RIGHT or LEFT (Mounted on STOP or DO NOT ENTER  post)"},{"$f":"'D-704 Standards'!F40","v":14},{"$f":"'Sheet Summary'!AC40","v":0},{"$f":"IF($G$14=0,0,'Sheet Summary'!AD40)","v":0},{"$f":"IF($H$14=0,0,'Sheet Summary'!AE40)","v":0},{"$f":"IF($I$14=0,0,'Sheet Summary'!AF40)","v":0},{"$f":"IF($J$14=0,0,'Sheet Summary'!AG40)","v":0}]
[null,{"$f":"'D-704 Standards'!B41","v":"R7-1-12"},{"$f":"'D-704 Standards'!C41","v":"12\"x18\""},{"$f":"'D-704 Standards'!D41","v":"NO PARKING ANY TIME"},{"$f":"'D-704 Standards'!F41","v":11},{"$f":"'Sheet Summary'!AC41","v":0},{"$f":"IF($G$14=0,0,'Sheet Summary'!AD41)","v":0},{"$f":"IF($H$14=0,0,'Sheet Summary'!AE41)","v":0},{"$f":"IF($I$14=0,0,'Sheet Summary'!AF41)","v":0},{"$f":"IF($J$14=0,0,'Sheet Summary'!AG41)","v":0}]
[null,{"$f":"'D-704 Standards'!B42","v":"R10-6-24"},{"$f":"'D-704 Standards'!C42","v":"24\"x36\""},{"$f":"'D-704 Standards'!D42","v":"STOP HERE ON RED"},{"$f":"'D-704 Standards'!F42","v":16},{"$f":"'Sheet Summary'!AC42","v":0},{"$f":"IF($G$14=0,0,'Sheet Summary'!AD42)","v":0},{"$f":"IF($H$14=0,0,'Sheet Summary'!AE42)","v":0},{"$f":"IF($I$14=0,0,'Sheet Summary'!AF42)","v":0},{"$f":"IF($J$14=0,0,'Sheet Summary'!AG42)","v":0}]
[null,{"$f":"'D-704 Standards'!B43","v":"R11-2-48"},{"$f":"'D-704 Standards'!C43","v":"48\"x30\""},{"$f":"'D-704 Standards'!D43","v":"ROAD CLOSED (Mounted on barricade)"},{"$f":"'D-704 Standards'!F43","v":12},{"$f":"'Sheet Summary'!AC43","v":0},{"$f":"IF($G$14=0,0,'Sheet Summary'!AD43)","v":0},{"$f":"IF($H$14=0,0,'Sheet Summary'!AE43)","v":0},{"$f":"IF($I$14=0,0,'Sheet Summary'!AF43)","v":0},{"$f":"IF($J$14=0,0,'Sheet Summary'!AG43)","v":0}]
[null,{"$f":"'D-704 Standards'!B44","v":"R11-2a-48"},{"$f":"'D-704 Standards'!C44","v":"48\"x30\""},{"$f":"'D-704 Standards'!D44","v":"STREET CLOSED (Mounted on barricade)"},{"$f":"'D-704 Standards'!F44","v":12},{"$f":"'Sheet Summary'!AC44","v":0},{"$f":"IF($G$14=0,0,'Sheet Summary'!AD44)","v":0},{"$f":"IF($H$14=0,0,'Sheet Summary'!AE44)","v":0},{"$f":"IF($I$14=0,0,'Sheet Summary'!AF44)","v":0},{"$f":"IF($J$14=0,0,'Sheet Summary'!AG44)","v":0}]
[null,{"$f":"'D-704 Standards'!B45","v":"R11-3a-60"},{"$f":"'D-704 Standards'!C45","v":"60\"x30\""},{"$f":"'D-704 Standards'!D45","v":"ROAD CLOSED __ MILES AHEAD LOCAL TRAFFIC ONLY (Mtd on barricade)"},{"$f":"'D-704 Standards'!F45","v":15},{"$f":"'Sheet Summary'!AC45","v":0},{"$f":"IF($G$14=0,0,'Sheet Summary'!AD45)","v":0},{"$f":"IF($H$14=0,0,'Sheet Summary'!AE45)","v":0},{"$f":"IF($I$14=0,0,'Sheet Summary'!AF45)","v":0},{"$f":"IF($J$14=0,0,'Sheet Summary'!AG45)","v":0}]
[null,{"$f":"'D-704 Standards'!B46","v":"R11-3c-60"},{"$f":"'D-704 Standards'!C46","v":"60\"x30\""},{"$f":"'D-704 Standards'!D46","v":"STREET CLOSED __ MILES AHEAD LOCAL TRAFFIC ONLY (Mtd on barricade)"},{"$f":"'D-704 Standards'!F46","v":15},{"$f":"'Sheet Summary'!AC46","v":0},{"$f":"IF($G$14=0,0,'Sheet Summary'!AD46)","v":0},{"$f":"IF($H$14=0,0,'Sheet Summary'!AE46)","v":0},{"$f":"IF($I$14=0,0,'Sheet Summary'!AF46)","v":0},{"$f":"IF($J$14=0,0,'Sheet Summary'!AG46)","v":0}]
[null,{"$f":"'D-704 Standards'!B47","v":"R11-4a-60"},{"$f":"'D-704 Standards'!C47","v":"60\"x30\""},{"$f":"'D-704 Standards'!D47","v":"STREET CLOSED TO THRU TRAFFIC (Mounted on barricade)"},{"$f":"'D-704 Standards'!F47","v":15},{"$f":"'Sheet Summary'!AC47","v":0},{"$f":"IF($G$14=0,0,'Sheet Summary'!AD47)","v":0},{"$f":"IF($H$14=0,0,'Sheet Summary'!AE47)","v":0},{"$f":"IF($I$14=0,0,'Sheet Summary'!AF47)","v":0},{"$f":"IF($J$14=0,0,'Sheet Summary'!AG47)","v":0},null,"DIRECTIONS"]
[null,{"$f":"'D-704 Standards'!B48","v":"W1-3-48"},{"$f":"'D-704 Standards'!C48","v":"48\"x48\""},{"$f":"'D-704 Standards'!D48","v":"REVERSE TURN RIGHT or LEFT"},{"$f":"'D-704 Standards'!F48","v":35},{"$f":"'Sheet Summary'!AC48","v":0},{"$f":"IF($G$14=0,0,'Sheet Summary'!AD48)","v":0},{"$f":"IF($H$14=0,0,'Sheet Summary'!AE48)","v":0},{"$f":"IF($I$14=0,0,'Sheet Summary'!AF48)","v":0},{"$f":"IF($J$14=0,0,'Sheet Summary'!AG48)","v":0}]
[null,{"$f":"'D-704 Standards'!B49","v":"W1-4-48"},{"$f":"'D-704 Standards'!C49","v":"48\"x48\""},{"$f":"'D-704 Standards'!D49","v":"REVERSE CURVE RIGHT or LEFT"},{"$f":"'D-704 Standards'!F49","v":35},{"$f":"'Sheet Summary'!AC49","v":0},{"$f":"IF($G$14=0,0,'Sheet Summary'!AD49)","v":0},{"$f":"IF($H$14=0,0,'Sheet Summary'!AE49)","v":0},{"$f":"IF($I$14=0,0,'Sheet Summary'!AF49)","v":0},{"$f":"IF($J$14=0,0,'Sheet Summary'!AG49)","v":0},null,"To keep track of traffic control devices and signs by individual plan sheets, enter the number on the Sheet Summary.  DO NOT ENTER THE QUANTITIES DIRECTLY INTO THE INPUT SHEET.  There are formulas to pull the quantities directly from  the Sheet Summary.  If you accidentally delete a formula in the Amount Required & Quantity columns on the Input sheet, press the Replace Formulas button below to put the formulas back."]
[null,{"$f":"'D-704 Standards'!B50","v":"W1-4b-48"},{"$f":"'D-704 Standards'!C50","v":"48\"x48\""},{"$f":"'D-704 Standards'!D50","v":"TWO LANE REVERSE CURVE RIGHT or LEFT"},{"$f":"'D-704 Standards'!F50","v":35},{"$f":"'Sheet Summary'!AC50","v":0},{"$f":"IF($G$14=0,0,'Sheet Summary'!AD50)","v":0},{"$f":"IF($H$14=0,0,'Sheet Summary'!AE50)","v":0},{"$f":"IF($I$14=0,0,'Sheet Summary'!AF50)","v":0},{"$f":"IF($J$14=0,0,'Sheet Summary'!AG50)","v":0}]
[null,{"$f":"'D-704 Standards'!B51","v":"W1-6-48"},{"$f":"'D-704 Standards'!C51","v":"48\"x24\""},{"$f":"'D-704 Standards'!D51","v":"ONE DIRECTION LARGE ARROW"},{"$f":"'D-704 Standards'!F51","v":26},{"$f":"'Sheet Summary'!AC51","v":0},{"$f":"IF($G$14=0,0,'Sheet Summary'!AD51)","v":0},{"$f":"IF($H$14=0,0,'Sheet Summary'!AE51)","v":0},{"$f":"IF($I$14=0,0,'Sheet Summary'!AF51)","v":0},{"$f":"IF($J$14=0,0,'Sheet Summary'!AG51)","v":0}]
[null,{"$f":"'D-704 Standards'!B52","v":"W3-1-48"},{"$f":"'D-704 Standards'!C52","v":"48\"x48\""},{"$f":"'D-704 Standards'!D52","v":"STOP AHEAD"},{"$f":"'D-704 Standards'!F52","v":35},{"$f":"'Sheet Summary'!AC52","v":0},{"$f":"IF($G$14=0,0,'Sheet Summary'!AD52)","v":0},{"$f":"IF($H$14=0,0,'Sheet Summary'!AE52)","v":0},{"$f":"IF($I$14=0,0,'Sheet Summary'!AF52)","v":0},{"$f":"IF($J$14=0,0,'Sheet Summary'!AG52)","v":0}]
[null,{"$f":"'D-704 Standards'!B53","v":"W3-3-48"},{"$f":"'D-704 Standards'!C53","v":"48\"x48\""},{"$f":"'D-704 Standards'!D53","v":"SIGNAL AHEAD"},{"$f":"'D-704 Standards'!F53","v":35},{"$f":"'Sheet Summary'!AC53","v":0},{"$f":"IF($G$14=0,0,'Sheet Summary'!AD53)","v":0},{"$f":"IF($H$14=0,0,'Sheet Summary'!AE53)","v":0},{"$f":"IF($I$14=0,0,'Sheet Summary'!AF53)","v":0},{"$f":"IF($J$14=0,0,'Sheet Summary'!AG53)","v":0}]
[null,{"$f":"'D-704 Standards'!B54","v":"W3-4-48"},{"$f":"'D-704 Standards'!C54","v":"48\"x48\""},{"$f":"'D-704 Standards'!D54","v":"BE PREPARED TO STOP"},{"$f":"'D-704 Standards'!F54","v":35},{"$f":"'Sheet Summary'!AC54","v":0},{"$f":"IF($G$14=0,0,'Sheet Summary'!AD54)","v":0},{"$f":"IF($H$14=0,0,'Sheet Summary'!AE54)","v":0},{"$f":"IF($I$14=0,0,'Sheet Summary'!AF54)","v":0},{"$f":"IF($J$14=0,0,'Sheet Summary'!AG54)","v":0}]
[null,{"$f":"'D-704 Standards'!B55","v":"W3-5-48"},{"$f":"'D-704 Standards'!C55","v":"48\"x48\""},{"$f":"'D-704 Standards'!D55","v":"SPEED REDUCTION AHEAD"},{"$f":"'D-704 Standards'!F55","v":35},{"$f":"'Sheet Summary'!AC55","v":0},{"$f":"IF($G$14=0,0,'Sheet Summary'!AD55)","v":0},{"$f":"IF($H$14=0,0,'Sheet Summary'!AE55)","v":0},{"$f":"IF($I$14=0,0,'Sheet Summary'!AF55)","v":0},{"$f":"IF($J$14=0,0,'Sheet Summary'!AG55)","v":0}]
[null,{"$f":"'D-704 Standards'!B56","v":"W4-2-48"},{"$f":"'D-704 Standards'!C56","v":"48\"x48\""},{"$f":"'D-704 Standards'!D56","v":"LANE ENDS RIGHT or LEFT"},{"$f":"'D-704 Standards'!F56","v":35},{"$f":"'Sheet Summary'!AC56","v":0},{"$f":"IF($G$14=0,0,'Sheet Summary'!AD56)","v":0},{"$f":"IF($H$14=0,0,'Sheet Summary'!AE56)","v":0},{"$f":"IF($I$14=0,0,'Sheet Summary'!AF56)","v":0},{"$f":"IF($J$14=0,0,'Sheet Summary'!AG56)","v":0}]
[null,{"$f":"'D-704 Standards'!B57","v":"W5-1-48"},{"$f":"'D-704 Standards'!C57","v":"48\"x48\""},{"$f":"'D-704 Standards'!D57","v":"ROAD NARROWS"},{"$f":"'D-704 Standards'!F57","v":35},{"$f":"'Sheet Summary'!AC57","v":0},{"$f":"IF($G$14=0,0,'Sheet Summary'!AD57)","v":0},{"$f":"IF($H$14=0,0,'Sheet Summary'!AE57)","v":0},{"$f":"IF($I$14=0,0,'Sheet Summary'!AF57)","v":0},{"$f":"IF($J$14=0,0,'Sheet Summary'!AG57)","v":0}]
[null,{"$f":"'D-704 Standards'!B58","v":"W5-8-48"},{"$f":"'D-704 Standards'!C58","v":"48\"x48\""},{"$f":"'D-704 Standards'!D58","v":"THRU TRAFFIC RIGHT LANE"},{"$f":"'D-704 Standards'!F58","v":35},{"$f":"'Sheet Summary'!AC58","v":0},{"$f":"IF($G$14=0,0,'Sheet Summary'!AD58)","v":0},{"$f":"IF($H$14=0,0,'Sheet Summary'!AE58)","v":0},{"$f":"IF($I$14=0,0,'Sheet Summary'!AF58)","v":0},{"$f":"IF($J$14=0,0,'Sheet Summary'!AG58)","v":0}]
[null,{"$f":"'D-704 Standards'!B59","v":"W5-9-48"},{"$f":"'D-704 Standards'!C59","v":"48\"x48\""},{"$f":"'D-704 Standards'!D59","v":"ROAD WORK TRAFFIC ONLY DOWN & LT or RT ARROW"},{"$f":"'D-704 Standards'!F59","v":35},{"$f":"'Sheet Summary'!AC59","v":0},{"$f":"IF($G$14=0,0,'Sheet Summary'!AD59)","v":0},{"$f":"IF($H$14=0,0,'Sheet Summary'!AE59)","v":0},{"$f":"IF($I$14=0,0,'Sheet Summary'!AF59)","v":0},{"$f":"IF($J$14=0,0,'Sheet Summary'!AG59)","v":0}]
[null,{"$f":"'D-704 Standards'!B60","v":"W6-3-48"},{"$f":"'D-704 Standards'!C60","v":"48\"x48\""},{"$f":"'D-704 Standards'!D60","v":"TWO WAY TRAFFIC"},{"$f":"'D-704 Standards'!F60","v":35},{"$f":"'Sheet Summary'!AC60","v":0},{"$f":"IF($G$14=0,0,'Sheet Summary'!AD60)","v":0},{"$f":"IF($H$14=0,0,'Sheet Summary'!AE60)","v":0},{"$f":"IF($I$14=0,0,'Sheet Summary'!AF60)","v":0},{"$f":"IF($J$14=0,0,'Sheet Summary'!AG60)","v":0}]
[null,{"$f":"'D-704 Standards'!B61","v":"W8-1-48"},{"$f":"'D-704 Standards'!C61","v":"48\"x48\""},{"$f":"'D-704 Standards'!D61","v":"BUMP"},{"$f":"'D-704 Standards'!F61","v":35},{"$f":"'Sheet Summary'!AC61","v":0},{"$f":"IF($G$14=0,0,'Sheet Summary'!AD61)","v":0},{"$f":"IF($H$14=0,0,'Sheet Summary'!AE61)","v":0},{"$f":"IF($I$14=0,0,'Sheet Summary'!AF61)","v":0},{"$f":"IF($J$14=0,0,'Sheet Summary'!AG61)","v":0},null,"If you do not wat to keep track of traffic control devices and signs by individual plan sheets, enter the quantity on this sheet (Input sheet.)"]
[null,{"$f":"'D-704 Standards'!B62","v":"W8-3-48"},{"$f":"'D-704 Standards'!C62","v":"48\"x48\""},{"$f":"'D-704 Standards'!D62","v":"PAVEMENT ENDS"},{"$f":"'D-704 Standards'!F62","v":35},{"$f":"'Sheet Summary'!AC62","v":0},{"$f":"IF($G$14=0,0,'Sheet Summary'!AD62)","v":0},{"$f":"IF($H$14=0,0,'Sheet Summary'!AE62)","v":0},{"$f":"IF($I$14=0,0,'Sheet Summary'!AF62)","v":0},{"$f":"IF($J$14=0,0,'Sheet Summary'!AG62)","v":0}]
[null,{"$f":"'D-704 Standards'!B63","v":"W8-7-48"},{"$f":"'D-704 Standards'!C63","v":"48\"x48\""},{"$f":"'D-704 Standards'!D63","v":"LOOSE GRAVEL"},{"$f":"'D-704 Standards'!F63","v":35},{"$f":"'Sheet Summary'!AC63","v":0},{"$f":"IF($G$14=0,0,'Sheet Summary'!AD63)","v":0},{"$f":"IF($H$14=0,0,'Sheet Summary'!AE63)","v":0},{"$f":"IF($I$14=0,0,'Sheet Summary'!AF63)","v":0},{"$f":"IF($J$14=0,0,'Sheet Summary'!AG63)","v":0}]
[null,{"$f":"'D-704 Standards'!B64","v":"W8-17-48"},{"$f":"'D-704 Standards'!C64","v":"48\"x48\""},{"$f":"'D-704 Standards'!D64","v":"SHOULDER DROP-OFF SYMBOL"},{"$f":"'D-704 Standards'!F64","v":35},{"$f":"'Sheet Summary'!AC64","v":0},{"$f":"IF($G$14=0,0,'Sheet Summary'!AD64)","v":0},{"$f":"IF($H$14=0,0,'Sheet Summary'!AE64)","v":0},{"$f":"IF($I$14=0,0,'Sheet Summary'!AF64)","v":0},{"$f":"IF($J$14=0,0,'Sheet Summary'!AG64)","v":0}]
[null,{"$f":"'D-704 Standards'!B65","v":"W8-11-48"},{"$f":"'D-704 Standards'!C65","v":"48\"x48\""},{"$f":"'D-704 Standards'!D65","v":"UNEVEN LANES"},{"$f":"'D-704 Standards'!F65","v":35},{"$f":"'Sheet Summary'!AC65","v":0},{"$f":"IF($G$14=0,0,'Sheet Summary'!AD65)","v":0},{"$f":"IF($H$14=0,0,'Sheet Summary'!AE65)","v":0},{"$f":"IF($I$14=0,0,'Sheet Summary'!AF65)","v":0},{"$f":"IF($J$14=0,0,'Sheet Summary'!AG65)","v":0},null,"Enter any additional signs or traffic control devices on the Input sheet and they will be added to the rest of the sheets."]
[null,{"$f":"'D-704 Standards'!B66","v":"W8-12-48"},{"$f":"'D-704 Standards'!C66","v":"48\"x48\""},{"$f":"'D-704 Standards'!D66","v":"NO CENTER LINE"},{"$f":"'D-704 Standards'!F66","v":35},{"$f":"'Sheet Summary'!AC66","v":0},{"$f":"IF($G$14=0,0,'Sheet Summary'!AD66)","v":0},{"$f":"IF($H$14=0,0,'Sheet Summary'!AE66)","v":0},{"$f":"IF($I$14=0,0,'Sheet Summary'!AF66)","v":0},{"$f":"IF($J$14=0,0,'Sheet Summary'!AG66)","v":0}]
[null,{"$f":"'D-704 Standards'!B67","v":"W8-53-48"},{"$f":"'D-704 Standards'!C67","v":"48\"x48\""},{"$f":"'D-704 Standards'!D67","v":"TRUCKS ENTERING HIGHWAY"},{"$f":"'D-704 Standards'!F67","v":35},{"$f":"'Sheet Summary'!AC67","v":0},{"$f":"IF($G$14=0,0,'Sheet Summary'!AD67)","v":0},{"$f":"IF($H$14=0,0,'Sheet Summary'!AE67)","v":0},{"$f":"IF($I$14=0,0,'Sheet Summary'!AF67)","v":0},{"$f":"IF($J$14=0,0,'Sheet Summary'!AG67)","v":0}]
[null,{"$f":"'D-704 Standards'!B68","v":"W8-54-48"},{"$f":"'D-704 Standards'!C68","v":"48\"x48\""},{"$f":"'D-704 Standards'!D68","v":"TRUCKS ENTERING AHEAD or __ FT or _ MILE"},{"$f":"'D-704 Standards'!F68","v":35},{"$f":"'Sheet Summary'!AC68","v":0},{"$f":"IF($G$14=0,0,'Sheet Summary'!AD68)","v":0},{"$f":"IF($H$14=0,0,'Sheet Summary'!AE68)","v":0},{"$f":"IF($I$14=0,0,'Sheet Summary'!AF68)","v":0},{"$f":"IF($J$14=0,0,'Sheet Summary'!AG68)","v":0}]
[null,{"$f":"'D-704 Standards'!B69","v":"W8-55-48"},{"$f":"'D-704 Standards'!C69","v":"48\"x48\""},{"$f":"'D-704 Standards'!D69","v":"TRUCKS CROSSING AHEAD or __ FT or _ MILE"},{"$f":"'D-704 Standards'!F69","v":35},{"$f":"'Sheet Summary'!AC69","v":0},{"$f":"IF($G$14=0,0,'Sheet Summary'!AD69)","v":0},{"$f":"IF($H$14=0,0,'Sheet Summary'!AE69)","v":0},{"$f":"IF($I$14=0,0,'Sheet Summary'!AF69)","v":0},{"$f":"IF($J$14=0,0,'Sheet Summary'!AG69)","v":0},null,"The SUM QUANTITY box is used to tell the spreadsheet how you want to calculate the Spec & Code items.  Place an \"X\" in this box if you want the item to be added up for all the phases.  Leave the box blank if you want the largest value from all the phases to be used as the total for that item."]
[null,{"$f":"'D-704 Standards'!B70","v":"W8-56-48"},{"$f":"'D-704 Standards'!C70","v":"48\"x48\""},{"$f":"'D-704 Standards'!D70","v":"TRUCKS EXITING HIGHWAY"},{"$f":"'D-704 Standards'!F70","v":35},{"$f":"'Sheet Summary'!AC70","v":0},{"$f":"IF($G$14=0,0,'Sheet Summary'!AD70)","v":0},{"$f":"IF($H$14=0,0,'Sheet Summary'!AE70)","v":0},{"$f":"IF($I$14=0,0,'Sheet Summary'!AF70)","v":0},{"$f":"IF($J$14=0,0,'Sheet Summary'!AG70)","v":0}]
[null,{"$f":"'D-704 Standards'!B71","v":"W9-3a-48"},{"$f":"'D-704 Standards'!C71","v":"48\"x48\""},{"$f":"'D-704 Standards'!D71","v":"CENTER LANE CLOSED SYMBOL"},{"$f":"'D-704 Standards'!F71","v":35},{"$f":"'Sheet Summary'!AC71","v":0},{"$f":"IF($G$14=0,0,'Sheet Summary'!AD71)","v":0},{"$f":"IF($H$14=0,0,'Sheet Summary'!AE71)","v":0},{"$f":"IF($I$14=0,0,'Sheet Summary'!AF71)","v":0},{"$f":"IF($J$14=0,0,'Sheet Summary'!AG71)","v":0}]
[null,{"$f":"'D-704 Standards'!B72","v":"W13-1P-30"},{"$f":"'D-704 Standards'!C72","v":"30\"x30\""},{"$f":"'D-704 Standards'!D72","v":"__ MPH ADVISORY SPEED PLAQUE (Mounted on warning sign post)"},{"$f":"'D-704 Standards'!F72","v":14},{"$f":"'Sheet Summary'!AC72","v":0},{"$f":"IF($G$14=0,0,'Sheet Summary'!AD72)","v":0},{"$f":"IF($H$14=0,0,'Sheet Summary'!AE72)","v":0},{"$f":"IF($I$14=0,0,'Sheet Summary'!AF72)","v":0},{"$f":"IF($J$14=0,0,'Sheet Summary'!AG72)","v":0}]
[null,{"$f":"'D-704 Standards'!B73","v":"W14-3-64"},{"$f":"'D-704 Standards'!C73","v":"64\"x48\""},{"$f":"'D-704 Standards'!D73","v":"NO PASSING ZONE"},{"$f":"'D-704 Standards'!F73","v":28},{"$f":"'Sheet Summary'!AC73","v":0},{"$f":"IF($G$14=0,0,'Sheet Summary'!AD73)","v":0},{"$f":"IF($H$14=0,0,'Sheet Summary'!AE73)","v":0},{"$f":"IF($I$14=0,0,'Sheet Summary'!AF73)","v":0},{"$f":"IF($J$14=0,0,'Sheet Summary'!AG73)","v":0}]
[null,{"$f":"'D-704 Standards'!B74","v":"W16-2P-30"},{"$f":"'D-704 Standards'!C74","v":"30\"x24\""},{"$f":"'D-704 Standards'!D74","v":"__ FEET PLAQUE (Mounted on warning sign post)"},{"$f":"'D-704 Standards'!F74","v":10},{"$f":"'Sheet Summary'!AC74","v":0},{"$f":"IF($G$14=0,0,'Sheet Summary'!AD74)","v":0},{"$f":"IF($H$14=0,0,'Sheet Summary'!AE74)","v":0},{"$f":"IF($I$14=0,0,'Sheet Summary'!AF74)","v":0},{"$f":"IF($J$14=0,0,'Sheet Summary'!AG74)","v":0}]
[null,{"$f":"'D-704 Standards'!B75","v":"W20-1-48"},{"$f":"'D-704 Standards'!C75","v":"48\"x48\""},{"$f":"'D-704 Standards'!D75","v":"ROAD WORK AHEAD or _FT or _ MILE"},{"$f":"'D-704 Standards'!F75","v":35},{"$f":"'Sheet Summary'!AC75","v":0},{"$f":"IF($G$14=0,0,'Sheet Summary'!AD75)","v":0},{"$f":"IF($H$14=0,0,'Sheet Summary'!AE75)","v":0},{"$f":"IF($I$14=0,0,'Sheet Summary'!AF75)","v":0},{"$f":"IF($J$14=0,0,'Sheet Summary'!AG75)","v":0},null,"If your project has more than one phase, enter the phase numbers in the Phase heading cells directly below Amount Required in the Traffic Control Signs table.   The phase numbers will be automatically placed in the other tables."]
[null,{"$f":"'D-704 Standards'!B76","v":"W20-2-48"},{"$f":"'D-704 Standards'!C76","v":"48\"x48\""},{"$f":"'D-704 Standards'!D76","v":"DETOUR AHEAD or __ FT or _ MILE"},{"$f":"'D-704 Standards'!F76","v":35},{"$f":"'Sheet Summary'!AC76","v":0},{"$f":"IF($G$14=0,0,'Sheet Summary'!AD76)","v":0},{"$f":"IF($H$14=0,0,'Sheet Summary'!AE76)","v":0},{"$f":"IF($I$14=0,0,'Sheet Summary'!AF76)","v":0},{"$f":"IF($J$14=0,0,'Sheet Summary'!AG76)","v":0}]
[null,{"$f":"'D-704 Standards'!B77","v":"W20-3-48"},{"$f":"'D-704 Standards'!C77","v":"48\"x48\""},{"$f":"'D-704 Standards'!D77","v":"ROAD or STREET CLOSED AHEAD or __ FT or _ MILE"},{"$f":"'D-704 Standards'!F77","v":35},{"$f":"'Sheet Summary'!AC77","v":0},{"$f":"IF($G$14=0,0,'Sheet Summary'!AD77)","v":0},{"$f":"IF($H$14=0,0,'Sheet Summary'!AE77)","v":0},{"$f":"IF($I$14=0,0,'Sheet Summary'!AF77)","v":0},{"$f":"IF($J$14=0,0,'Sheet Summary'!AG77)","v":0}]
[null,{"$f":"'D-704 Standards'!B78","v":"W20-4-48"},{"$f":"'D-704 Standards'!C78","v":"48\"x48\""},{"$f":"'D-704 Standards'!D78","v":"ONE LANE ROAD AHEAD or __ FT or _ MILE"},{"$f":"'D-704 Standards'!F78","v":35},{"$f":"'Sheet Summary'!AC78","v":0},{"$f":"IF($G$14=0,0,'Sheet Summary'!AD78)","v":0},{"$f":"IF($H$14=0,0,'Sheet Summary'!AE78)","v":0},{"$f":"IF($I$14=0,0,'Sheet Summary'!AF78)","v":0},{"$f":"IF($J$14=0,0,'Sheet Summary'!AG78)","v":0}]
[null,{"$f":"'D-704 Standards'!B79","v":"W20-5-48"},{"$f":"'D-704 Standards'!C79","v":"48\"x48\""},{"$f":"'D-704 Standards'!D79","v":"RIGHT or CENTER or LEFT LANE CLOSED AHEAD or __ FT or _ MILE"},{"$f":"'D-704 Standards'!F79","v":35},{"$f":"'Sheet Summary'!AC79","v":0},{"$f":"IF($G$14=0,0,'Sheet Summary'!AD79)","v":0},{"$f":"IF($H$14=0,0,'Sheet Summary'!AE79)","v":0},{"$f":"IF($I$14=0,0,'Sheet Summary'!AF79)","v":0},{"$f":"IF($J$14=0,0,'Sheet Summary'!AG79)","v":0}]
[null,{"$f":"'D-704 Standards'!B80","v":"W20-7-48"},{"$f":"'D-704 Standards'!C80","v":"48\"x48\""},{"$f":"'D-704 Standards'!D80","v":"FLAGGER"},{"$f":"'D-704 Standards'!F80","v":35},{"$f":"'Sheet Summary'!AC80","v":0},{"$f":"IF($G$14=0,0,'Sheet Summary'!AD80)","v":0},{"$f":"IF($H$14=0,0,'Sheet Summary'!AE80)","v":0},{"$f":"IF($I$14=0,0,'Sheet Summary'!AF80)","v":0},{"$f":"IF($J$14=0,0,'Sheet Summary'!AG80)","v":0}]
[null,{"$f":"'D-704 Standards'!B81","v":"W20-8-18"},{"$f":"'D-704 Standards'!C81","v":"18\"x18\""},{"$f":"'D-704 Standards'!D81","v":"STOP - SLOW PADDLE Back to Back"},{"$f":"'D-704 Standards'!F81","v":5},{"$f":"'Sheet Summary'!AC81","v":0},{"$f":"IF($G$14=0,0,'Sheet Summary'!AD81)","v":0},{"$f":"IF($H$14=0,0,'Sheet Summary'!AE81)","v":0},{"$f":"IF($I$14=0,0,'Sheet Summary'!AF81)","v":0},{"$f":"IF($J$14=0,0,'Sheet Summary'!AG81)","v":0},null,"If your project does not have any phases, leave the Phase heading cells blank and enter the Amount Required & Quantity in the yellow columns."]
[null,{"$f":"'D-704 Standards'!B82","v":"W20-52P-54"},{"$f":"'D-704 Standards'!C82","v":"54\"x12\""},{"$f":"'D-704 Standards'!D82","v":"NEXT __ MILES (Mounted on warning sign post)"},{"$f":"'D-704 Standards'!F82","v":12},{"$f":"'Sheet Summary'!AC82","v":0},{"$f":"IF($G$14=0,0,'Sheet Summary'!AD82)","v":0},{"$f":"IF($H$14=0,0,'Sheet Summary'!AE82)","v":0},{"$f":"IF($I$14=0,0,'Sheet Summary'!AF82)","v":0},{"$f":"IF($J$14=0,0,'Sheet Summary'!AG82)","v":0}]
[null,{"$f":"'D-704 Standards'!B83","v":"W21-1-48"},{"$f":"'D-704 Standards'!C83","v":"48\"x48\""},{"$f":"'D-704 Standards'!D83","v":"WORKERS"},{"$f":"'D-704 Standards'!F83","v":35},{"$f":"'Sheet Summary'!AC83","v":0},{"$f":"IF($G$14=0,0,'Sheet Summary'!AD83)","v":0},{"$f":"IF($H$14=0,0,'Sheet Summary'!AE83)","v":0},{"$f":"IF($I$14=0,0,'Sheet Summary'!AF83)","v":0},{"$f":"IF($J$14=0,0,'Sheet Summary'!AG83)","v":0}]
[null,{"$f":"'D-704 Standards'!B84","v":"W21-2-48"},{"$f":"'D-704 Standards'!C84","v":"48\"x48\""},{"$f":"'D-704 Standards'!D84","v":"FRESH OIL"},{"$f":"'D-704 Standards'!F84","v":35},{"$f":"'Sheet Summary'!AC84","v":0},{"$f":"IF($G$14=0,0,'Sheet Summary'!AD84)","v":0},{"$f":"IF($H$14=0,0,'Sheet Summary'!AE84)","v":0},{"$f":"IF($I$14=0,0,'Sheet Summary'!AF84)","v":0},{"$f":"IF($J$14=0,0,'Sheet Summary'!AG84)","v":0}]
[null,{"$f":"'D-704 Standards'!B85","v":"W21-3-48"},{"$f":"'D-704 Standards'!C85","v":"48\"x48\""},{"$f":"'D-704 Standards'!D85","v":"ROAD MACHINERY AHEAD  or __ FT or _ MILE"},{"$f":"'D-704 Standards'!F85","v":35},{"$f":"'Sheet Summary'!AC85","v":0},{"$f":"IF($G$14=0,0,'Sheet Summary'!AD85)","v":0},{"$f":"IF($H$14=0,0,'Sheet Summary'!AE85)","v":0},{"$f":"IF($I$14=0,0,'Sheet Summary'!AF85)","v":0},{"$f":"IF($J$14=0,0,'Sheet Summary'!AG85)","v":0},null,"The first Phase table on the Sheet Summary can be used even if you don't have any phases.  The total quantities will still be automatically filled in on the Input sheet.  You can use this to break down traffic control devices per sheet or per Standard Drawing."]
[null,{"$f":"'D-704 Standards'!B86","v":"W21-5-48"},{"$f":"'D-704 Standards'!C86","v":"48\"x48\""},{"$f":"'D-704 Standards'!D86","v":"SHOULDER WORK"},{"$f":"'D-704 Standards'!F86","v":35},{"$f":"'Sheet Summary'!AC86","v":0},{"$f":"IF($G$14=0,0,'Sheet Summary'!AD86)","v":0},{"$f":"IF($H$14=0,0,'Sheet Summary'!AE86)","v":0},{"$f":"IF($I$14=0,0,'Sheet Summary'!AF86)","v":0},{"$f":"IF($J$14=0,0,'Sheet Summary'!AG86)","v":0}]
[null,{"$f":"'D-704 Standards'!B87","v":"W21-5a-48"},{"$f":"'D-704 Standards'!C87","v":"48\"x48\""},{"$f":"'D-704 Standards'!D87","v":"RIGHT or LEFT SHOULDER CLOSED"},{"$f":"'D-704 Standards'!F87","v":35},{"$f":"'Sheet Summary'!AC87","v":0},{"$f":"IF($G$14=0,0,'Sheet Summary'!AD87)","v":0},{"$f":"IF($H$14=0,0,'Sheet Summary'!AE87)","v":0},{"$f":"IF($I$14=0,0,'Sheet Summary'!AF87)","v":0},{"$f":"IF($J$14=0,0,'Sheet Summary'!AG87)","v":0}]
[null,{"$f":"'D-704 Standards'!B88","v":"W21-5b-48"},{"$f":"'D-704 Standards'!C88","v":"48\"x48\""},{"$f":"'D-704 Standards'!D88","v":"RIGHT or LEFT SHOULDER CLOSED AHEAD or __ FT or _ MILE"},{"$f":"'D-704 Standards'!F88","v":35},{"$f":"'Sheet Summary'!AC88","v":0},{"$f":"IF($G$14=0,0,'Sheet Summary'!AD88)","v":0},{"$f":"IF($H$14=0,0,'Sheet Summary'!AE88)","v":0},{"$f":"IF($I$14=0,0,'Sheet Summary'!AF88)","v":0},{"$f":"IF($J$14=0,0,'Sheet Summary'!AG88)","v":0}]
[null,{"$f":"'D-704 Standards'!B89","v":"W21-6-48"},{"$f":"'D-704 Standards'!C89","v":"48\"x48\""},{"$f":"'D-704 Standards'!D89","v":"SURVEY CREW"},{"$f":"'D-704 Standards'!F89","v":35},{"$f":"'Sheet Summary'!AC89","v":0},{"$f":"IF($G$14=0,0,'Sheet Summary'!AD89)","v":0},{"$f":"IF($H$14=0,0,'Sheet Summary'!AE89)","v":0},{"$f":"IF($I$14=0,0,'Sheet Summary'!AF89)","v":0},{"$f":"IF($J$14=0,0,'Sheet Summary'!AG89)","v":0}]
[null,{"$f":"'D-704 Standards'!B90","v":"W21-50-48"},{"$f":"'D-704 Standards'!C90","v":"48\"x48\""},{"$f":"'D-704 Standards'!D90","v":"BRIDGE PAINTING AHEAD or __ FT"},{"$f":"'D-704 Standards'!F90","v":35},{"$f":"'Sheet Summary'!AC90","v":0},{"$f":"IF($G$14=0,0,'Sheet Summary'!AD90)","v":0},{"$f":"IF($H$14=0,0,'Sheet Summary'!AE90)","v":0},{"$f":"IF($I$14=0,0,'Sheet Summary'!AF90)","v":0},{"$f":"IF($J$14=0,0,'Sheet Summary'!AG90)","v":0}]
[null,{"$f":"'D-704 Standards'!B91","v":"W21-51-48"},{"$f":"'D-704 Standards'!C91","v":"48\"x48\""},{"$f":"'D-704 Standards'!D91","v":"MATERIAL ON ROADWAY"},{"$f":"'D-704 Standards'!F91","v":35},{"$f":"'Sheet Summary'!AC91","v":0},{"$f":"IF($G$14=0,0,'Sheet Summary'!AD91)","v":0},{"$f":"IF($H$14=0,0,'Sheet Summary'!AE91)","v":0},{"$f":"IF($I$14=0,0,'Sheet Summary'!AF91)","v":0},{"$f":"IF($J$14=0,0,'Sheet Summary'!AG91)","v":0},null,"Cells that have a red ear in the upper right hand corner contain helpful comments.  Just hold the cursor over the cell and the comment will appear."]
[null,{"$f":"'D-704 Standards'!B92","v":"W21-52-48"},{"$f":"'D-704 Standards'!C92","v":"48\"x48\""},{"$f":"'D-704 Standards'!D92","v":"PAVEMENT BREAKS"},{"$f":"'D-704 Standards'!F92","v":35},{"$f":"'Sheet Summary'!AC92","v":0},{"$f":"IF($G$14=0,0,'Sheet Summary'!AD92)","v":0},{"$f":"IF($H$14=0,0,'Sheet Summary'!AE92)","v":0},{"$f":"IF($I$14=0,0,'Sheet Summary'!AF92)","v":0},{"$f":"IF($J$14=0,0,'Sheet Summary'!AG92)","v":0}]
[null,{"$f":"'D-704 Standards'!B93","v":"W21-53-48"},{"$f":"'D-704 Standards'!C93","v":"48\"x48\""},{"$f":"'D-704 Standards'!D93","v":"RUMBLE STRIPS AHEAD"},{"$f":"'D-704 Standards'!F93","v":35},{"$f":"'Sheet Summary'!AC93","v":0},{"$f":"IF($G$14=0,0,'Sheet Summary'!AD93)","v":0},{"$f":"IF($H$14=0,0,'Sheet Summary'!AE93)","v":0},{"$f":"IF($I$14=0,0,'Sheet Summary'!AF93)","v":0},{"$f":"IF($J$14=0,0,'Sheet Summary'!AG93)","v":0}]
[null,{"$f":"'D-704 Standards'!B94","v":"W22-8-48"},{"$f":"'D-704 Standards'!C94","v":"48\"x48\""},{"$f":"'D-704 Standards'!D94","v":"FRESH OIL LOOSE ROCK"},{"$f":"'D-704 Standards'!F94","v":35},{"$f":"'Sheet Summary'!AC94","v":0},{"$f":"IF($G$14=0,0,'Sheet Summary'!AD94)","v":0},{"$f":"IF($H$14=0,0,'Sheet Summary'!AE94)","v":0},{"$f":"IF($I$14=0,0,'Sheet Summary'!AF94)","v":0},{"$f":"IF($J$14=0,0,'Sheet Summary'!AG94)","v":0}]
[null,{"$f":"'D-704 Standards'!B95","v":"W24-1-48"},{"$f":"'D-704 Standards'!C95","v":"48\"x48\""},{"$f":"'D-704 Standards'!D95","v":"DOUBLE REVERSE CURVE"},{"$f":"'D-704 Standards'!F95","v":35},{"$f":"'Sheet Summary'!AC95","v":0},{"$f":"IF($G$14=0,0,'Sheet Summary'!AD95)","v":0},{"$f":"IF($H$14=0,0,'Sheet Summary'!AE95)","v":0},{"$f":"IF($I$14=0,0,'Sheet Summary'!AF95)","v":0},{"$f":"IF($J$14=0,0,'Sheet Summary'!AG95)","v":0}]
[null,null,null,null,null,{"$f":"'Sheet Summary'!AC96","v":0},{"$f":"IF($G$14=0,0,'Sheet Summary'!AD96)","v":0},{"$f":"IF($H$14=0,0,'Sheet Summary'!AE96)","v":0},{"$f":"IF($I$14=0,0,'Sheet Summary'!AF96)","v":0},{"$f":"IF($J$14=0,0,'Sheet Summary'!AG96)","v":0}]
[null,null,null,null,null,{"$f":"'Sheet Summary'!AC97","v":0},{"$f":"IF($G$14=0,0,'Sheet Summary'!AD97)","v":0},{"$f":"IF($H$14=0,0,'Sheet Summary'!AE97)","v":0},{"$f":"IF($I$14=0,0,'Sheet Summary'!AF97)","v":0},{"$f":"IF($J$14=0,0,'Sheet Summary'!AG97)","v":0}]
[null,null,null,null,null,{"$f":"'Sheet Summary'!AC98","v":0},{"$f":"IF($G$14=0,0,'Sheet Summary'!AD98)","v":0},{"$f":"IF($H$14=0,0,'Sheet Summary'!AE98)","v":0},{"$f":"IF($I$14=0,0,'Sheet Summary'!AF98)","v":0},{"$f":"IF($J$14=0,0,'Sheet Summary'!AG98)","v":0}]
[null,null,null,null,null,{"$f":"'Sheet Summary'!AC99","v":0},{"$f":"IF($G$14=0,0,'Sheet Summary'!AD99)","v":0},{"$f":"IF($H$14=0,0,'Sheet Summary'!AE99)","v":0},{"$f":"IF($I$14=0,0,'Sheet Summary'!AF99)","v":0},{"$f":"IF($J$14=0,0,'Sheet Summary'!AG99)","v":0}]
[null,null,null,null,null,{"$f":"'Sheet Summary'!AC100","v":0},{"$f":"IF($G$14=0,0,'Sheet Summary'!AD100)","v":0},{"$f":"IF($H$14=0,0,'Sheet Summary'!AE100)","v":0},{"$f":"IF($I$14=0,0,'Sheet Summary'!AF100)","v":0},{"$f":"IF($J$14=0,0,'Sheet Summary'!AG100)","v":0}]
[null,null,null,null,null,{"$f":"'Sheet Summary'!AC101","v":0},{"$f":"IF($G$14=0,0,'Sheet Summary'!AD101)","v":0},{"$f":"IF($H$14=0,0,'Sheet Summary'!AE101)","v":0},{"$f":"IF($I$14=0,0,'Sheet Summary'!AF101)","v":0},{"$f":"IF($J$14=0,0,'Sheet Summary'!AG101)","v":0}]
[null,null,null,null,null,{"$f":"'Sheet Summary'!AC102","v":0},{"$f":"IF($G$14=0,0,'Sheet Summary'!AD102)","v":0},{"$f":"IF($H$14=0,0,'Sheet Summary'!AE102)","v":0},{"$f":"IF($I$14=0,0,'Sheet Summary'!AF102)","v":0},{"$f":"IF($J$14=0,0,'Sheet Summary'!AG102)","v":0}]
[null,null,null,null,null,{"$f":"'Sheet Summary'!AC103","v":0},{"$f":"IF($G$14=0,0,'Sheet Summary'!AD103)","v":0},{"$f":"IF($H$14=0,0,'Sheet Summary'!AE103)","v":0},{"$f":"IF($I$14=0,0,'Sheet Summary'!AF103)","v":0},{"$f":"IF($J$14=0,0,'Sheet Summary'!AG103)","v":0}]
[null,null,null,null,null,{"$f":"'Sheet Summary'!AC104","v":0},{"$f":"IF($G$14=0,0,'Sheet Summary'!AD104)","v":0},{"$f":"IF($H$14=0,0,'Sheet Summary'!AE104)","v":0},{"$f":"IF($I$14=0,0,'Sheet Summary'!AF104)","v":0},{"$f":"IF($J$14=0,0,'Sheet Summary'!AG104)","v":0}]
[null,null,null,null,null,{"$f":"'Sheet Summary'!AC105","v":0},{"$f":"IF($G$14=0,0,'Sheet Summary'!AD105)","v":0},{"$f":"IF($H$14=0,0,'Sheet Summary'!AE105)","v":0},{"$f":"IF($I$14=0,0,'Sheet Summary'!AF105)","v":0},{"$f":"IF($J$14=0,0,'Sheet Summary'!AG105)","v":0}]
[null,null,null,null,null,{"$f":"'Sheet Summary'!AC106","v":0},{"$f":"IF($G$14=0,0,'Sheet Summary'!AD106)","v":0},{"$f":"IF($H$14=0,0,'Sheet Summary'!AE106)","v":0},{"$f":"IF($I$14=0,0,'Sheet Summary'!AF106)","v":0},{"$f":"IF($J$14=0,0,'Sheet Summary'!AG106)","v":0}]
[null,null,null,null,null,{"$f":"'Sheet Summary'!AC107","v":0},{"$f":"IF($G$14=0,0,'Sheet Summary'!AD107)","v":0},{"$f":"IF($H$14=0,0,'Sheet Summary'!AE107)","v":0},{"$f":"IF($I$14=0,0,'Sheet Summary'!AF107)","v":0},{"$f":"IF($J$14=0,0,'Sheet Summary'!AG107)","v":0}]
[null,null,null,null,null,{"$f":"'Sheet Summary'!AC108","v":0},{"$f":"IF($G$14=0,0,'Sheet Summary'!AD108)","v":0},{"$f":"IF($H$14=0,0,'Sheet Summary'!AE108)","v":0},{"$f":"IF($I$14=0,0,'Sheet Summary'!AF108)","v":0},{"$f":"IF($J$14=0,0,'Sheet Summary'!AG108)","v":0}]
[null,null,null,null,null,{"$f":"'Sheet Summary'!AC109","v":0},{"$f":"IF($G$14=0,0,'Sheet Summary'!AD109)","v":0},{"$f":"IF($H$14=0,0,'Sheet Summary'!AE109)","v":0},{"$f":"IF($I$14=0,0,'Sheet Summary'!AF109)","v":0},{"$f":"IF($J$14=0,0,'Sheet Summary'!AG109)","v":0}]
[null,null,null,null,null,{"$f":"'Sheet Summary'!AC110","v":0},{"$f":"IF($G$14=0,0,'Sheet Summary'!AD110)","v":0},{"$f":"IF($H$14=0,0,'Sheet Summary'!AE110)","v":0},{"$f":"IF($I$14=0,0,'Sheet Summary'!AF110)","v":0},{"$f":"IF($J$14=0,0,'Sheet Summary'!AG110)","v":0}]
[null,null,null,null,null,{"$f":"'Sheet Summary'!AC111","v":0},{"$f":"IF($G$14=0,0,'Sheet Summary'!AD111)","v":0},{"$f":"IF($H$14=0,0,'Sheet Summary'!AE111)","v":0},{"$f":"IF($I$14=0,0,'Sheet Summary'!AF111)","v":0},{"$f":"IF($J$14=0,0,'Sheet Summary'!AG111)","v":0}]
[null,null,null,null,null,{"$f":"'Sheet Summary'!AC112","v":0},{"$f":"IF($G$14=0,0,'Sheet Summary'!AD112)","v":0},{"$f":"IF($H$14=0,0,'Sheet Summary'!AE112)","v":0},{"$f":"IF($I$14=0,0,'Sheet Summary'!AF112)","v":0},{"$f":"IF($J$14=0,0,'Sheet Summary'!AG112)","v":0}]
[null,null,null,null,null,{"$f":"'Sheet Summary'!AC113","v":0},{"$f":"IF($G$14=0,0,'Sheet Summary'!AD113)","v":0},{"$f":"IF($H$14=0,0,'Sheet Summary'!AE113)","v":0},{"$f":"IF($I$14=0,0,'Sheet Summary'!AF113)","v":0},{"$f":"IF($J$14=0,0,'Sheet Summary'!AG113)","v":0}]
[null,null,null,null,null,{"$f":"'Sheet Summary'!AC114","v":0},{"$f":"IF($G$14=0,0,'Sheet Summary'!AD114)","v":0},{"$f":"IF($H$14=0,0,'Sheet Summary'!AE114)","v":0},{"$f":"IF($I$14=0,0,'Sheet Summary'!AF114)","v":0},{"$f":"IF($J$14=0,0,'Sheet Summary'!AG114)","v":0}]
[null,null,null,null,null,{"$f":"'Sheet Summary'!AC115","v":0},{"$f":"IF($G$14=0,0,'Sheet Summary'!AD115)","v":0},{"$f":"IF($H$14=0,0,'Sheet Summary'!AE115)","v":0},{"$f":"IF($I$14=0,0,'Sheet Summary'!AF115)","v":0},{"$f":"IF($J$14=0,0,'Sheet Summary'!AG115)","v":0}]
[null,null,null,null,null,{"$f":"'Sheet Summary'!AC$116","v":0},{"$f":"IF($G$14=0,0,'Sheet Summary'!AD$116)","v":0},{"$f":"IF($H$14=0,0,'Sheet Summary'!AE$116)","v":0},{"$f":"IF($I$14=0,0,'Sheet Summary'!AF$116)","v":0},{"$f":"IF($J$14=0,0,'Sheet Summary'!AG$116)","v":0}]
[null,"SPECIAL SIGNS"]
[null,"SIGN NUMBER","SIGN SIZE","DESCRIPTION","UNITS","AMOUNT REQUIRED"]
[null,null,null,null,null,"PHASE"]
[null,null,null,null,null,{"$f":"F14","v":0},{"$f":"G14","v":0},{"$f":"H14","v":0},{"$f":"I14","v":0},{"$f":"J14","v":0}]
[null,null,null,null,null,{"$f":"'Sheet Summary'!AC119","v":0},{"$f":"IF($G$14=0,0,'Sheet Summary'!AD119)","v":0},{"$f":"IF($H$14=0,0,'Sheet Summary'!AE119)","v":0},{"$f":"IF($I$14=0,0,'Sheet Summary'!AF119)","v":0},{"$f":"IF($J$14=0,0,'Sheet Summary'!AG119)","v":0}]
[null,null,null,null,null,{"$f":"'Sheet Summary'!AC120","v":0},{"$f":"IF($G$14=0,0,'Sheet Summary'!AD120)","v":0},{"$f":"IF($H$14=0,0,'Sheet Summary'!AE120)","v":0},{"$f":"IF($I$14=0,0,'Sheet Summary'!AF120)","v":0},{"$f":"IF($J$14=0,0,'Sheet Summary'!AG120)","v":0}]
[null,null,null,null,null,{"$f":"'Sheet Summary'!AC121","v":0},{"$f":"IF($G$14=0,0,'Sheet Summary'!AD121)","v":0},{"$f":"IF($H$14=0,0,'Sheet Summary'!AE121)","v":0},{"$f":"IF($I$14=0,0,'Sheet Summary'!AF121)","v":0},{"$f":"IF($J$14=0,0,'Sheet Summary'!AG121)","v":0}]
[null,null,null,null,null,{"$f":"'Sheet Summary'!AC122","v":0},{"$f":"IF($G$14=0,0,'Sheet Summary'!AD122)","v":0},{"$f":"IF($H$14=0,0,'Sheet Summary'!AE122)","v":0},{"$f":"IF($I$14=0,0,'Sheet Summary'!AF122)","v":0},{"$f":"IF($J$14=0,0,'Sheet Summary'!AG122)","v":0}]
[null,null,null,null,null,{"$f":"'Sheet Summary'!AC123","v":0},{"$f":"IF($G$14=0,0,'Sheet Summary'!AD123)","v":0},{"$f":"IF($H$14=0,0,'Sheet Summary'!AE123)","v":0},{"$f":"IF($I$14=0,0,'Sheet Summary'!AF123)","v":0},{"$f":"IF($J$14=0,0,'Sheet Summary'!AG123)","v":0}]
[null,null,null,null,null,{"$f":"'Sheet Summary'!AC124","v":0},{"$f":"IF($G$14=0,0,'Sheet Summary'!AD124)","v":0},{"$f":"IF($H$14=0,0,'Sheet Summary'!AE124)","v":0},{"$f":"IF($I$14=0,0,'Sheet Summary'!AF124)","v":0},{"$f":"IF($J$14=0,0,'Sheet Summary'!AG124)","v":0}]
[null,null,null,null,null,{"$f":"'Sheet Summary'!AC125","v":0},{"$f":"IF($G$14=0,0,'Sheet Summary'!AD125)","v":0},{"$f":"IF($H$14=0,0,'Sheet Summary'!AE125)","v":0},{"$f":"IF($I$14=0,0,'Sheet Summary'!AF125)","v":0},{"$f":"IF($J$14=0,0,'Sheet Summary'!AG125)","v":0}]
[null,null,null,null,null,{"$f":"'Sheet Summary'!AC126","v":0},{"$f":"IF($G$14=0,0,'Sheet Summary'!AD126)","v":0},{"$f":"IF($H$14=0,0,'Sheet Summary'!AE126)","v":0},{"$f":"IF($I$14=0,0,'Sheet Summary'!AF126)","v":0},{"$f":"IF($J$14=0,0,'Sheet Summary'!AG126)","v":0}]
[null,null,null,null,null,{"$f":"'Sheet Summary'!AC127","v":0},{"$f":"IF($G$14=0,0,'Sheet Summary'!AD127)","v":0},{"$f":"IF($H$14=0,0,'Sheet Summary'!AE127)","v":0},{"$f":"IF($I$14=0,0,'Sheet Summary'!AF127)","v":0},{"$f":"IF($J$14=0,0,'Sheet Summary'!AG127)","v":0}]
[null,null,null,null,null,{"$f":"'Sheet Summary'!AC128","v":0},{"$f":"IF($G$14=0,0,'Sheet Summary'!AD128)","v":0},{"$f":"IF($H$14=0,0,'Sheet Summary'!AE128)","v":0},{"$f":"IF($I$14=0,0,'Sheet Summary'!AF128)","v":0},{"$f":"IF($J$14=0,0,'Sheet Summary'!AG128)","v":0}]
[null,null,null,null,null,{"$f":"'Sheet Summary'!AC129","v":0},{"$f":"IF($G$14=0,0,'Sheet Summary'!AD129)","v":0},{"$f":"IF($H$14=0,0,'Sheet Summary'!AE129)","v":0},{"$f":"IF($I$14=0,0,'Sheet Summary'!AF129)","v":0},{"$f":"IF($J$14=0,0,'Sheet Summary'!AG129)","v":0}]
[null,null,null,null,null,{"$f":"'Sheet Summary'!AC130","v":0},{"$f":"IF($G$14=0,0,'Sheet Summary'!AD130)","v":0},{"$f":"IF($H$14=0,0,'Sheet Summary'!AE130)","v":0},{"$f":"IF($I$14=0,0,'Sheet Summary'!AF130)","v":0},{"$f":"IF($J$14=0,0,'Sheet Summary'!AG130)","v":0}]
[null,null,null,null,null,{"$f":"'Sheet Summary'!AC131","v":0},{"$f":"IF($G$14=0,0,'Sheet Summary'!AD131)","v":0},{"$f":"IF($H$14=0,0,'Sheet Summary'!AE131)","v":0},{"$f":"IF($I$14=0,0,'Sheet Summary'!AF131)","v":0},{"$f":"IF($J$14=0,0,'Sheet Summary'!AG131)","v":0}]
[null,null,null,null,null,{"$f":"'Sheet Summary'!AC132","v":0},{"$f":"IF($G$14=0,0,'Sheet Summary'!AD132)","v":0},{"$f":"IF($H$14=0,0,'Sheet Summary'!AE132)","v":0},{"$f":"IF($I$14=0,0,'Sheet Summary'!AF132)","v":0},{"$f":"IF($J$14=0,0,'Sheet Summary'!AG132)","v":0}]
[null,null,null,null,null,{"$f":"'Sheet Summary'!AC133","v":0},{"$f":"IF($G$14=0,0,'Sheet Summary'!AD133)","v":0},{"$f":"IF($H$14=0,0,'Sheet Summary'!AE133)","v":0},{"$f":"IF($I$14=0,0,'Sheet Summary'!AF133)","v":0},{"$f":"IF($J$14=0,0,'Sheet Summary'!AG133)","v":0}]

{"sheet":"Sheet Summary","index":1,"n_rows":166,"n_cols":33,"rows_kept":166,"cut":false,"hidden":false,"merged":[[147,3,147,7],[158,3,158,7],[159,3,159,7],[152,3,152,7],[153,3,153,7],[154,3,154,7],[155,3,155,7],[148,3,148,7],[165,3,165,7],[164,3,164,7],[2,3,2,4],[2,5,2,6],[160,3,160,7],[161,3,161,7],[162,3,162,7],[163,3,163,7],[156,3,156,7],[157,3,157,7],[149,3,149,7],[130,3,130,7],[131,3,131,7],[132,3,132,7],[135,3,135,7],[150,3,150,7],[151,3,151,7],[144,3,144,7],[145,3,145,7],[146,3,146,7],[119,3,119,7],[116,1,116,7],[141,3,141,7],[142,3,142,7],[143,3,143,7],[136,3,136,7],[137,3,137,7],[138,3,138,7],[139,3,139,7],[140,3,140,7],[129,3,129,7],[134,1,134,7],[112,3,112,7],[105,3,105,7],[106,3,106,7],[107,3,107,7],[108,3,108,7],[123,3,123,7],[124,3,124,7],[125,3,125,7],[109,3,109,7],[110,3,110,7],[111,3,111,7],[126,3,126,7],[127,3,127,7],[128,3,128,7],[117,3,117,7],[113,3,113,7],[114,3,114,7],[118,3,118,7],[101,3,101,7],[102,3,102,7],[103,3,103,7],[104,3,104,7],[97,3,97,7],[98,3,98,7],[99,3,99,7],[100,3,100,7],[93,3,93,7],[94,3,94,7],[95,3,95,7],[96,3,96,7],[89,3,89,7],[90,3,90,7],[91,3,91,7],[92,3,92,7],[85,3,85,7],[86,3,86,7],[87,3,87,7],[88,3,88,7],[81,3,81,7],[82,3,82,7],[83,3,83,7],[84,3,84,7],[77,3,77,7],[78,3,78,7],[79,3,79,7],[80,3,80,7],[73,3,73,7],[74,3,74,7],[75,3,75,7],[76,3,76,7],[69,3,69,7],[70,3,70,7],[71,3,71,7],[72,3,72,7],[48,3,48,7],[65,3,65,7],[66,3,66,7],[67,3,67,7],[68,3,68,7],[61,3,61,7],[62,3,62,7],[63,3,63,7],[64,3,64,7],[57,3,57,7],[58,3,58,7],[59,3,59,7],[60,3,60,7],[4,17,4,18],[3,21,3,22],[13,3,13,7],[14,3,14,7],[15,3,15,7],[9,3,9,7],[10,3,10,7],[11,3,11,7],[12,3,12,7],[3,1,3,7],[6,3,6,7],[4,3,5,7],[7,3,7,7],[8,3,8,7],[16,3,16,7],[2,1,2,2],[4,2,5,2],[4,1,5,1],[134,13,134,14],[3,28,3,32],[4,28,5,28],[4,29,5,29],[4,30,5,30],[4,31,5,31],[4,32,5,32],[3,25,3,26],[4,25,4,26],[3,17,3,18],[116,28,116,32],[134,28,134,32],[122,3,122,7],[4,21,4,22],[3,9,3,10],[4,9,4,10],[3,13,3,14],[4,13,4,14],[134,21,134,22],[134,17,134,18],[134,25,134,26],[21,3,21,7],[22,3,22,7],[23,3,23,7],[24,3,24,7],[116,9,116,10],[116,13,116,14],[31,3,31,7],[32,3,32,7],[25,3,25,7],[26,3,26,7],[116,25,116,26],[116,17,116,18],[116,21,116,22],[27,3,27,7],[28,3,28,7],[37,3,37,7],[41,3,41,7],[42,3,42,7],[43,3,43,7],[44,3,44,7],[38,3,38,7],[39,3,39,7],[40,3,40,7],[17,3,17,7],[18,3,18,7],[19,3,19,7],[20,3,20,7],[29,3,29,7],[30,3,30,7],[134,9,134,10],[120,3,120,7],[121,3,121,7],[33,3,33,7],[34,3,34,7],[35,3,35,7],[36,3,36,7],[53,3,53,7],[54,3,54,7],[55,3,55,7],[56,3,56,7],[49,3,49,7],[50,3,50,7],[51,3,51,7],[52,3,52,7],[45,3,45,7],[46,3,46,7],[47,3,47,7]]}
[{"$f":"Input!F14","v":0},0,0,0,0]
[null,null,null,null,null,null,null,null,null,{"$f":"A1","v":0},{"$f":"B1","v":0}]
[null,null,null,null,null,null,null,null,null,null,null,null,null,2,2,null,null,3,3,null,null,4,4,null,null,5,5,null,"X","2X","3X","4X","5X"]
[null,"TRAFFIC CONTROL SIGNS",null,null,null,null,null,null,null,{"$f":"IF(COUNTBLANK(Input!F14:J14)=5,\"\",CONCATENATE(\"Phase \",Input!$F$14))","v":""},null,null,null,{"$f":"CONCATENATE(\"Phase \",Input!$G$14)","v":"Phase "},null,null,null,{"$f":"CONCATENATE(\"Phase \",Input!$H$14)","v":"Phase "},null,null,null,{"$f":"CONCATENATE(\"Phase \",Input!$I$14)","v":"Phase "},null,null,null,{"$f":"CONCATENATE(\"Phase \",Input!$J$14)","v":"Phase "},null,null,{"$f":"IF(COUNTBLANK(Input!F14:J14)=5,\"\",IF(COUNTBLANK(Input!G14:J14)=4,\"Total\",\"Total Amount Required\"))","v":""}]
[null,"SIGN\nNUMBER","SIGN SIZE","DESCRIPTION",null,null,null,null,null,"Amount Required Per Sheet",null,null,null,"Amount Required Per Sheet",null,null,null,"Amount Required Per Sheet",null,null,null,"Amount Required Per Sheet",null,null,null,"Amount Required Per Sheet",null,null,{"$f":"IF(COUNTBLANK(Input!F14:J14)=5,\"Total\",CONCATENATE(\"Phase\n\",Input!$F$14))","v":"Total"},{"$f":"CONCATENATE(\"Phase\n\",Input!$G$14)","v":"Phase\n"},{"$f":"CONCATENATE(\"Phase\n\",Input!$H$14)","v":"Phase\n"},{"$f":"CONCATENATE(\"Phase\n\",Input!$I$14)","v":"Phase\n"},{"$f":"CONCATENATE(\"Phase\n\",Input!$J$14)","v":"Phase\n"}]
[0,null,null,null,null,null,null,null,null,"Sheet1","Sheet2",null,null,"Sheet 3","Sheet 4",null,null,"Sheet 5","Sheet 6",null,null,"Sheet 7","Sheet 8",null,null,"Sheet 9","Sheet 10"]
[null,{"$f":"'D-704 Standards'!B7","v":"E5-1-48"},{"$f":"'D-704 Standards'!C7","v":"48\"x48\""},{"$f":"'D-704 Standards'!D7","v":"EXIT GORE"},null,null,null,null,null,null,null,null,null,null,null,null,null,null,null,null,null,null,null,null,null,null,null,null,{"$f":"SUM(I7:L7)","v":0},{"$f":"IF(Input!$G$14=0,0,SUM(M7:P7))","v":0},{"$f":"IF(Input!$H$14=0,0,SUM(Q7:T7))","v":0},{"$f":"IF(Input!$I$14=0,0,SUM(U7:X7))","v":0},{"$f":"IF(Input!$J$14=0,0,SUM(Y7:AB7))","v":0}]
[null,{"$f":"'D-704 Standards'!B8","v":"G20-1-60"},{"$f":"'D-704 Standards'!C8","v":"60\"x24\""},{"$f":"'D-704 Standards'!D8","v":"ROAD WORK NEXT __ MILES"},null,null,null,null,null,null,null,null,null,null,null,null,null,null,null,null,null,null,null,null,null,null,null,null,{"$f":"SUM(I8:L8)","v":0},{"$f":"IF(Input!$G$14=0,0,SUM(M8:P8))","v":0},{"$f":"IF(Input!$H$14=0,0,SUM(Q8:T8))","v":0},{"$f":"IF(Input!$I$14=0,0,SUM(U8:X8))","v":0},{"$f":"IF(Input!$J$14=0,0,SUM(Y8:AB8))","v":0}]
[null,{"$f":"'D-704 Standards'!B9","v":"G20-1b-60"},{"$f":"'D-704 Standards'!C9","v":"60\"x24\""},{"$f":"'D-704 Standards'!D9","v":"NO WORK IN PROGRESS (Sign and installation only)"},null,null,null,null,null,null,null,null,null,null,null,null,null,null,null,null,null,null,null,null,null,null,null,null,0,{"$f":"IF(Input!$G$14=0,0,SUM(M9:P9))","v":0},{"$f":"IF(Input!$H$14=0,0,SUM(Q9:T9))","v":0},{"$f":"IF(Input!$I$14=0,0,SUM(U9:X9))","v":0},{"$f":"IF(Input!$J$14=0,0,SUM(Y9:AB9))","v":0}]
[null,{"$f":"'D-704 Standards'!B10","v":"G20-2-48"},{"$f":"'D-704 Standards'!C10","v":"48\"x24\""},{"$f":"'D-704 Standards'!D10","v":"END ROAD WORK"},null,null,null,null,null,null,null,null,null,null,null,null,null,null,null,null,null,null,null,null,null,null,null,null,0,{"$f":"IF(Input!$G$14=0,0,SUM(M10:P10))","v":0},{"$f":"IF(Input!$H$14=0,0,SUM(Q10:T10))","v":0},{"$f":"IF(Input!$I$14=0,0,SUM(U10:X10))","v":0},{"$f":"IF(Input!$J$14=0,0,SUM(Y10:AB10))","v":0}]
[null,{"$f":"'D-704 Standards'!B11","v":"G20-4-36"},{"$f":"'D-704 Standards'!C11","v":"36\"x18\""},{"$f":"'D-704 Standards'!D11","v":"PILOT CAR FOLLOW ME (Mounted to back of pilot car)"},null,null,null,null,null,null,null,null,null,null,null,null,null,null,null,null,null,null,null,null,null,null,null,null,0,{"$f":"IF(Input!$G$14=0,0,SUM(M11:P11))","v":0},{"$f":"IF(Input!$H$14=0,0,SUM(Q11:T11))","v":0},{"$f":"IF(Input!$I$14=0,0,SUM(U11:X11))","v":0},{"$f":"IF(Input!$J$14=0,0,SUM(Y11:AB11))","v":0}]
[null,{"$f":"'D-704 Standards'!B12","v":"G20-4b-36"},{"$f":"'D-704 Standards'!C12","v":"36\"x30\""},{"$f":"'D-704 Standards'!D12","v":"WAIT FOR PILOT CAR"},null,null,null,null,null,null,null,null,null,null,null,null,null,null,null,null,null,null,null,null,null,null,null,null,0,{"$f":"IF(Input!$G$14=0,0,SUM(M12:P12))","v":0},{"$f":"IF(Input!$H$14=0,0,SUM(Q12:T12))","v":0},{"$f":"IF(Input!$I$14=0,0,SUM(U12:X12))","v":0},{"$f":"IF(Input!$J$14=0,0,SUM(Y12:AB12))","v":0}]
[null,{"$f":"'D-704 Standards'!B13","v":"G20-50a-72"},{"$f":"'D-704 Standards'!C13","v":"72\"x36\""},{"$f":"'D-704 Standards'!D13","v":"ROAD WORK NEXT __ MILES RT & LT ARROWS"},null,null,null,null,null,null,null,null,null,null,null,null,null,null,null,null,null,null,null,null,null,null,null,null,0,{"$f":"IF(Input!$G$14=0,0,SUM(M13:P13))","v":0},{"$f":"IF(Input!$H$14=0,0,SUM(Q13:T13))","v":0},{"$f":"IF(Input!$I$14=0,0,SUM(U13:X13))","v":0},{"$f":"IF(Input!$J$14=0,0,SUM(Y13:AB13))","v":0}]
[null,{"$f":"'D-704 Standards'!B14","v":"G20-52a-72"},{"$f":"'D-704 Standards'!C14","v":"72\"x24\""},{"$f":"'D-704 Standards'!D14","v":"ROAD WORK NEXT __ MILES RT or LT ARROW"},null,null,null,null,null,null,null,null,null,null,null,null,null,null,null,null,null,null,null,null,null,null,null,null,0,{"$f":"IF(Input!$G$14=0,0,SUM(M14:P14))","v":0},{"$f":"IF(Input!$H$14=0,0,SUM(Q14:T14))","v":0},{"$f":"IF(Input!$I$14=0,0,SUM(U14:X14))","v":0},{"$f":"IF(Input!$J$14=0,0,SUM(Y14:AB14))","v":0}]
[null,{"$f":"'D-704 Standards'!B15","v":"G20-55-96"},{"$f":"'D-704 Standards'!C15","v":"96\"x48\""},{"$f":"'D-704 Standards'!D15","v":"SPEED LIMIT ENFORCED - MINIMUM FEE $150 WHEN WORKERS PRESENT"},null,null,null,null,null,null,null,null,null,null,null,null,null,null,null,null,null,null,null,null,null,null,null,null,0,{"$f":"IF(Input!$G$14=0,0,SUM(M15:P15))","v":0},{"$f":"IF(Input!$H$14=0,0,SUM(Q15:T15))","v":0},{"$f":"IF(Input!$I$14=0,0,SUM(U15:X15))","v":0},{"$f":"IF(Input!$J$14=0,0,SUM(Y15:AB15))","v":0}]
[null,{"$f":"'D-704 Standards'!B16","v":"M1-1-36"},{"$f":"'D-704 Standards'!C16","v":"36\"x36\""},{"$f":"'D-704 Standards'!D16","v":"INTERSTATE ROUTE MARKER (Post and installation only)"},null,null,null,null,null,null,null,null,null,null,null,null,null,null,null,null,null,null,null,null,null,null,null,null,0,{"$f":"IF(Input!$G$14=0,0,SUM(M16:P16))","v":0},{"$f":"IF(Input!$H$14=0,0,SUM(Q16:T16))","v":0},{"$f":"IF(Input!$I$14=0,0,SUM(U16:X16))","v":0},{"$f":"IF(Input!$J$14=0,0,SUM(Y16:AB16))","v":0}]
[null,{"$f":"'D-704 Standards'!B17","v":"M1-4-24"},{"$f":"'D-704 Standards'!C17","v":"24\"x24\""},{"$f":"'D-704 Standards'!D17","v":"U.S. ROUTE MARKER (Post and installation only)"},null,null,null,null,null,null,null,null,null,null,null,null,null,null,null,null,null,null,null,null,null,null,null,null,0,{"$f":"IF(Input!$G$14=0,0,SUM(M17:P17))","v":0},{"$f":"IF(Input!$H$14=0,0,SUM(Q17:T17))","v":0},{"$f":"IF(Input!$I$14=0,0,SUM(U17:X17))","v":0},{"$f":"IF(Input!$J$14=0,0,SUM(Y17:AB17))","v":0}]
[null,{"$f":"'D-704 Standards'!B18","v":"M1-5-24"},{"$f":"'D-704 Standards'!C18","v":"24\"x24\""},{"$f":"'D-704 Standards'!D18","v":"STATE ROUTE MARKER (Post and installation only)"},null,null,null,null,null,null,null,null,null,null,null,null,null,null,null,null,null,null,null,null,null,null,null,null,0,{"$f":"IF(Input!$G$14=0,0,SUM(M18:P18))","v":0},{"$f":"IF(Input!$H$14=0,0,SUM(Q18:T18))","v":0},{"$f":"IF(Input!$I$14=0,0,SUM(U18:X18))","v":0},{"$f":"IF(Input!$J$14=0,0,SUM(Y18:AB18))","v":0}]
[null,{"$f":"'D-704 Standards'!B19","v":"M3-1-24"},{"$f":"'D-704 Standards'!C19","v":"24\"x12\""},{"$f":"'D-704 Standards'!D19","v":"NORTH (Mounted on route marker post)"},null,null,null,null,null,null,null,null,null,null,null,null,null,null,null,null,null,null,null,null,null,null,null,null,0,{"$f":"IF(Input!$G$14=0,0,SUM(M19:P19))","v":0},{"$f":"IF(Input!$H$14=0,0,SUM(Q19:T19))","v":0},{"$f":"IF(Input!$I$14=0,0,SUM(U19:X19))","v":0},{"$f":"IF(Input!$J$14=0,0,SUM(Y19:AB19))","v":0}]
[null,{"$f":"'D-704 Standards'!B20","v":"M3-2-24"},{"$f":"'D-704 Standards'!C20","v":"24\"x12\""},{"$f":"'D-704 Standards'!D20","v":"EAST (Mounted on route marker post)"},null,null,null,null,null,null,null,null,null,null,null,null,null,null,null,null,null,null,null,null,null,null,null,null,0,{"$f":"IF(Input!$G$14=0,0,SUM(M20:P20))","v":0},{"$f":"IF(Input!$H$14=0,0,SUM(Q20:T20))","v":0},{"$f":"IF(Input!$I$14=0,0,SUM(U20:X20))","v":0},{"$f":"IF(Input!$J$14=0,0,SUM(Y20:AB20))","v":0}]
[null,{"$f":"'D-704 Standards'!B21","v":"M3-3-24"},{"$f":"'D-704 Standards'!C21","v":"24\"x12\""},{"$f":"'D-704 Standards'!D21","v":"SOUTH (Mounted on route marker post)"},null,null,null,null,null,null,null,null,null,null,null,null,null,null,null,null,null,null,null,null,null,null,null,null,0,{"$f":"IF(Input!$G$14=0,0,SUM(M21:P21))","v":0},{"$f":"IF(Input!$H$14=0,0,SUM(Q21:T21))","v":0},{"$f":"IF(Input!$I$14=0,0,SUM(U21:X21))","v":0},{"$f":"IF(Input!$J$14=0,0,SUM(Y21:AB21))","v":0}]
[null,{"$f":"'D-704 Standards'!B22","v":"M3-4-24"},{"$f":"'D-704 Standards'!C22","v":"24\"x12\""},{"$f":"'D-704 Standards'!D22","v":"WEST (Mounted on route marker post)"},null,null,null,null,null,null,null,null,null,null,null,null,null,null,null,null,null,null,null,null,null,null,null,null,0,{"$f":"IF(Input!$G$14=0,0,SUM(M22:P22))","v":0},{"$f":"IF(Input!$H$14=0,0,SUM(Q22:T22))","v":0},{"$f":"IF(Input!$I$14=0,0,SUM(U22:X22))","v":0},{"$f":"IF(Input!$J$14=0,0,SUM(Y22:AB22))","v":0}]
[null,{"$f":"'D-704 Standards'!B23","v":"M4-8-24"},{"$f":"'D-704 Standards'!C23","v":"24\"x12\""},{"$f":"'D-704 Standards'!D23","v":"DETOUR (Mounted on route marker post)"},null,null,null,null,null,null,null,null,null,null,null,null,null,null,null,null,null,null,null,null,null,null,null,null,0,{"$f":"IF(Input!$G$14=0,0,SUM(M23:P23))","v":0},{"$f":"IF(Input!$H$14=0,0,SUM(Q23:T23))","v":0},{"$f":"IF(Input!$I$14=0,0,SUM(U23:X23))","v":0},{"$f":"IF(Input!$J$14=0,0,SUM(Y23:AB23))","v":0}]
[null,{"$f":"'D-704 Standards'!B24","v":"M4-9-30"},{"$f":"'D-704 Standards'!C24","v":"30\"x24\""},{"$f":"'D-704 Standards'!D24","v":"DETOUR ARROW RIGHT or LEFT/AHD AND RT or LT"},null,null,null,null,null,null,null,null,null,null,null,null,null,null,null,null,null,null,null,null,null,null,null,null,0,{"$f":"IF(Input!$G$14=0,0,SUM(M24:P24))","v":0},{"$f":"IF(Input!$H$14=0,0,SUM(Q24:T24))","v":0},{"$f":"IF(Input!$I$14=0,0,SUM(U24:X24))","v":0},{"$f":"IF(Input!$J$14=0,0,SUM(Y24:AB24))","v":0}]
[null,{"$f":"'D-704 Standards'!B25","v":"M4-10-48"},{"$f":"'D-704 Standards'!C25","v":"48\"x18\""},{"$f":"'D-704 Standards'!D25","v":"DETOUR (INSIDE ARROW) RIGHT or LEFT (Mounted on barricade)"},null,null,null,null,null,null,null,null,null,null,null,null,null,null,null,null,null,null,null,null,null,null,null,null,0,{"$f":"IF(Input!$G$14=0,0,SUM(M25:P25))","v":0},{"$f":"IF(Input!$H$14=0,0,SUM(Q25:T25))","v":0},{"$f":"IF(Input!$I$14=0,0,SUM(U25:X25))","v":0},{"$f":"IF(Input!$J$14=0,0,SUM(Y25:AB25))","v":0}]
[null,{"$f":"'D-704 Standards'!B26","v":"M5-1-21"},{"$f":"'D-704 Standards'!C26","v":"21\"x15\""},{"$f":"'D-704 Standards'!D26","v":"ADVANCE TURN ARROW RT or LT(Mounted on route marker post)"},null,null,null,null,null,null,null,null,null,null,null,null,null,null,null,null,null,null,null,null,null,null,null,null,0,{"$f":"IF(Input!$G$14=0,0,SUM(M26:P26))","v":0},{"$f":"IF(Input!$H$14=0,0,SUM(Q26:T26))","v":0},{"$f":"IF(Input!$I$14=0,0,SUM(U26:X26))","v":0},{"$f":"IF(Input!$J$14=0,0,SUM(Y26:AB26))","v":0}]
[null,{"$f":"'D-704 Standards'!B27","v":"M5-1-30"},{"$f":"'D-704 Standards'!C27","v":"30\"x21\""},{"$f":"'D-704 Standards'!D27","v":"ADVANCE TURN ARROW RT or LT(Mounted on route marker post)"},null,null,null,null,null,null,null,null,null,null,null,null,null,null,null,null,null,null,null,null,null,null,null,null,0,{"$f":"IF(Input!$G$14=0,0,SUM(M27:P27))","v":0},{"$f":"IF(Input!$H$14=0,0,SUM(Q27:T27))","v":0},{"$f":"IF(Input!$I$14=0,0,SUM(U27:X27))","v":0},{"$f":"IF(Input!$J$14=0,0,SUM(Y27:AB27))","v":0}]
[null,{"$f":"'D-704 Standards'!B28","v":"M6-1-21"},{"$f":"'D-704 Standards'!C28","v":"21\"x15\""},{"$f":"'D-704 Standards'!D28","v":"DIRECTIONAL ARROW RT or LT (Mounted on route marker post)"},null,null,null,null,null,null,null,null,null,null,null,null,null,null,null,null,null,null,null,null,null,null,null,null,0,{"$f":"IF(Input!$G$14=0,0,SUM(M28:P28))","v":0},{"$f":"IF(Input!$H$14=0,0,SUM(Q28:T28))","v":0},{"$f":"IF(Input!$I$14=0,0,SUM(U28:X28))","v":0},{"$f":"IF(Input!$J$14=0,0,SUM(Y28:AB28))","v":0}]
[null,{"$f":"'D-704 Standards'!B29","v":"M6-1-30"},{"$f":"'D-704 Standards'!C29","v":"30\"x21\""},{"$f":"'D-704 Standards'!D29","v":"DIRECTIONAL ARROW RT or LT (Mounted on route marker post)"},null,null,null,null,null,null,null,null,null,null,null,null,null,null,null,null,null,null,null,null,null,null,null,null,0,{"$f":"IF(Input!$G$14=0,0,SUM(M29:P29))","v":0},{"$f":"IF(Input!$H$14=0,0,SUM(Q29:T29))","v":0},{"$f":"IF(Input!$I$14=0,0,SUM(U29:X29))","v":0},{"$f":"IF(Input!$J$14=0,0,SUM(Y29:AB29))","v":0}]
[null,{"$f":"'D-704 Standards'!B30","v":"M6-3-21"},{"$f":"'D-704 Standards'!C30","v":"21\"x15\""},{"$f":"'D-704 Standards'!D30","v":"DIRECTIONAL ARROW UP (Mounted on route marker post)"},null,null,null,null,null,null,null,null,null,null,null,null,null,null,null,null,null,null,null,null,null,null,null,null,0,{"$f":"IF(Input!$G$14=0,0,SUM(M30:P30))","v":0},{"$f":"IF(Input!$H$14=0,0,SUM(Q30:T30))","v":0},{"$f":"IF(Input!$I$14=0,0,SUM(U30:X30))","v":0},{"$f":"IF(Input!$J$14=0,0,SUM(Y30:AB30))","v":0}]
[null,{"$f":"'D-704 Standards'!B31","v":"R1-1-48"},{"$f":"'D-704 Standards'!C31","v":"48\"x48\""},{"$f":"'D-704 Standards'!D31","v":"STOP"},null,null,null,null,null,null,null,null,null,null,null,null,null,null,null,null,null,null,null,null,null,null,null,null,0,{"$f":"IF(Input!$G$14=0,0,SUM(M31:P31))","v":0},{"$f":"IF(Input!$H$14=0,0,SUM(Q31:T31))","v":0},{"$f":"IF(Input!$I$14=0,0,SUM(U31:X31))","v":0},{"$f":"IF(Input!$J$14=0,0,SUM(Y31:AB31))","v":0}]
[null,{"$f":"'D-704 Standards'!B32","v":"R1-2-60"},{"$f":"'D-704 Standards'!C32","v":"60\"x60\" "},{"$f":"'D-704 Standards'!D32","v":"YIELD "},null,null,null,null,null,null,null,null,null,null,null,null,null,null,null,null,null,null,null,null,null,null,null,null,0,{"$f":"IF(Input!$G$14=0,0,SUM(M32:P32))","v":0},{"$f":"IF(Input!$H$14=0,0,SUM(Q32:T32))","v":0},{"$f":"IF(Input!$I$14=0,0,SUM(U32:X32))","v":0},{"$f":"IF(Input!$J$14=0,0,SUM(Y32:AB32))","v":0}]
[null,{"$f":"'D-704 Standards'!B33","v":"R2-1-36"},{"$f":"'D-704 Standards'!C33","v":"36\"x48\""},{"$f":"'D-704 Standards'!D33","v":"SPEED LIMIT __ (Portable only)"},null,null,null,null,null,null,null,null,null,null,null,null,null,null,null,null,null,null,null,null,null,null,null,null,0,{"$f":"IF(Input!$G$14=0,0,SUM(M33:P33))","v":0},{"$f":"IF(Input!$H$14=0,0,SUM(Q33:T33))","v":0},{"$f":"IF(Input!$I$14=0,0,SUM(U33:X33))","v":0},{"$f":"IF(Input!$J$14=0,0,SUM(Y33:AB33))","v":0}]
[null,{"$f":"'D-704 Standards'!B34","v":"R2-1-48"},{"$f":"'D-704 Standards'!C34","v":"48\"x60\""},{"$f":"'D-704 Standards'!D34","v":"SPEED LIMIT __"},null,null,null,null,null,null,null,null,null,null,null,null,null,null,null,null,null,null,null,null,null,null,null,null,0,{"$f":"IF(Input!$G$14=0,0,SUM(M34:P34))","v":0},{"$f":"IF(Input!$H$14=0,0,SUM(Q34:T34))","v":0},{"$f":"IF(Input!$I$14=0,0,SUM(U34:X34))","v":0},{"$f":"IF(Input!$J$14=0,0,SUM(Y34:AB34))","v":0}]
[null,{"$f":"'D-704 Standards'!B35","v":"R2-1aP-24"},{"$f":"'D-704 Standards'!C35","v":"24\"x18\""},{"$f":"'D-704 Standards'!D35","v":"MINIMUM FEE $150 (Mounted on Speed Limit post)"},null,null,null,null,null,null,null,null,null,null,null,null,null,null,null,null,null,null,null,null,null,null,null,null,0,{"$f":"IF(Input!$G$14=0,0,SUM(M35:P35))","v":0},{"$f":"IF(Input!$H$14=0,0,SUM(Q35:T35))","v":0},{"$f":"IF(Input!$I$14=0,0,SUM(U35:X35))","v":0},{"$f":"IF(Input!$J$14=0,0,SUM(Y35:AB35))","v":0}]
[null,{"$f":"'D-704 Standards'!B36","v":"R3-2-48"},{"$f":"'D-704 Standards'!C36","v":"48\"x48\""},{"$f":"'D-704 Standards'!D36","v":"NO LEFT TURN"},null,null,null,null,null,null,null,null,null,null,null,null,null,null,null,null,null,null,null,null,null,null,null,null,0,{"$f":"IF(Input!$G$14=0,0,SUM(M36:P36))","v":0},{"$f":"IF(Input!$H$14=0,0,SUM(Q36:T36))","v":0},{"$f":"IF(Input!$I$14=0,0,SUM(U36:X36))","v":0},{"$f":"IF(Input!$J$14=0,0,SUM(Y36:AB36))","v":0}]
[null,{"$f":"'D-704 Standards'!B37","v":"R4-1-48"},{"$f":"'D-704 Standards'!C37","v":"48\"x60\""},{"$f":"'D-704 Standards'!D37","v":"DO NOT PASS"},null,null,null,null,null,null,null,null,null,null,null,null,null,null,null,null,null,null,null,null,null,null,null,null,0,{"$f":"IF(Input!$G$14=0,0,SUM(M37:P37))","v":0},{"$f":"IF(Input!$H$14=0,0,SUM(Q37:T37))","v":0},{"$f":"IF(Input!$I$14=0,0,SUM(U37:X37))","v":0},{"$f":"IF(Input!$J$14=0,0,SUM(Y37:AB37))","v":0}]
[null,{"$f":"'D-704 Standards'!B38","v":"R4-7-48"},{"$f":"'D-704 Standards'!C38","v":"48\"x60\""},{"$f":"'D-704 Standards'!D38","v":"KEEP RIGHT"},null,null,null,null,null,null,null,null,null,null,null,null,null,null,null,null,null,null,null,null,null,null,null,null,0,{"$f":"IF(Input!$G$14=0,0,SUM(M38:P38))","v":0},{"$f":"IF(Input!$H$14=0,0,SUM(Q38:T38))","v":0},{"$f":"IF(Input!$I$14=0,0,SUM(U38:X38))","v":0},{"$f":"IF(Input!$J$14=0,0,SUM(Y38:AB38))","v":0}]
[null,{"$f":"'D-704 Standards'!B39","v":"R5-1-48"},{"$f":"'D-704 Standards'!C39","v":"48\"x48\""},{"$f":"'D-704 Standards'!D39","v":"DO NOT ENTER"},null,null,null,null,null,null,null,null,null,null,null,null,null,null,null,null,null,null,null,null,null,null,null,null,0,{"$f":"IF(Input!$G$14=0,0,SUM(M39:P39))","v":0},{"$f":"IF(Input!$H$14=0,0,SUM(Q39:T39))","v":0},{"$f":"IF(Input!$I$14=0,0,SUM(U39:X39))","v":0},{"$f":"IF(Input!$J$14=0,0,SUM(Y39:AB39))","v":0}]
[null,{"$f":"'D-704 Standards'!B40","v":"R6-1-54"},{"$f":"'D-704 Standards'!C40","v":"54\"x18\""},{"$f":"'D-704 Standards'!D40","v":"ONE WAY RIGHT or LEFT (Mounted on STOP or DO NOT ENTER  post)"},null,null,null,null,null,null,null,null,null,null,null,null,null,null,null,null,null,null,null,null,null,null,null,null,0,{"$f":"IF(Input!$G$14=0,0,SUM(M40:P40))","v":0},{"$f":"IF(Input!$H$14=0,0,SUM(Q40:T40))","v":0},{"$f":"IF(Input!$I$14=0,0,SUM(U40:X40))","v":0},{"$f":"IF(Input!$J$14=0,0,SUM(Y40:AB40))","v":0}]
[null,{"$f":"'D-704 Standards'!B41","v":"R7-1-12"},{"$f":"'D-704 Standards'!C41","v":"12\"x18\""},{"$f":"'D-704 Standards'!D41","v":"NO PARKING ANY TIME"},null,null,null,null,null,null,null,null,null,null,null,null,null,null,null,null,null,null,null,null,null,null,null,null,0,{"$f":"IF(Input!$G$14=0,0,SUM(M41:P41))","v":0},{"$f":"IF(Input!$H$14=0,0,SUM(Q41:T41))","v":0},{"$f":"IF(Input!$I$14=0,0,SUM(U41:X41))","v":0},{"$f":"IF(Input!$J$14=0,0,SUM(Y41:AB41))","v":0}]
[null,{"$f":"'D-704 Standards'!B42","v":"R10-6-24"},{"$f":"'D-704 Standards'!C42","v":"24\"x36\""},{"$f":"'D-704 Standards'!D42","v":"STOP HERE ON RED"},null,null,null,null,null,null,null,null,null,null,null,null,null,null,null,null,null,null,null,null,null,null,null,null,0,{"$f":"IF(Input!$G$14=0,0,SUM(M42:P42))","v":0},{"$f":"IF(Input!$H$14=0,0,SUM(Q42:T42))","v":0},{"$f":"IF(Input!$I$14=0,0,SUM(U42:X42))","v":0},{"$f":"IF(Input!$J$14=0,0,SUM(Y42:AB42))","v":0}]
[null,{"$f":"'D-704 Standards'!B43","v":"R11-2-48"},{"$f":"'D-704 Standards'!C43","v":"48\"x30\""},{"$f":"'D-704 Standards'!D43","v":"ROAD CLOSED (Mounted on barricade)"},null,null,null,null,null,null,null,null,null,null,null,null,null,null,null,null,null,null,null,null,null,null,null,null,0,{"$f":"IF(Input!$G$14=0,0,SUM(M43:P43))","v":0},{"$f":"IF(Input!$H$14=0,0,SUM(Q43:T43))","v":0},{"$f":"IF(Input!$I$14=0,0,SUM(U43:X43))","v":0},{"$f":"IF(Input!$J$14=0,0,SUM(Y43:AB43))","v":0}]
[null,{"$f":"'D-704 Standards'!B44","v":"R11-2a-48"},{"$f":"'D-704 Standards'!C44","v":"48\"x30\""},{"$f":"'D-704 Standards'!D44","v":"STREET CLOSED (Mounted on barricade)"},null,null,null,null,null,null,null,null,null,null,null,null,null,null,null,null,null,null,null,null,null,null,null,null,0,{"$f":"IF(Input!$G$14=0,0,SUM(M44:P44))","v":0},{"$f":"IF(Input!$H$14=0,0,SUM(Q44:T44))","v":0},{"$f":"IF(Input!$I$14=0,0,SUM(U44:X44))","v":0},{"$f":"IF(Input!$J$14=0,0,SUM(Y44:AB44))","v":0}]
[null,{"$f":"'D-704 Standards'!B45","v":"R11-3a-60"},{"$f":"'D-704 Standards'!C45","v":"60\"x30\""},{"$f":"'D-704 Standards'!D45","v":"ROAD CLOSED __ MILES AHEAD LOCAL TRAFFIC ONLY (Mtd on barricade)"},null,null,null,null,null,null,null,null,null,null,null,null,null,null,null,null,null,null,null,null,null,null,null,null,0,{"$f":"IF(Input!$G$14=0,0,SUM(M45:P45))","v":0},{"$f":"IF(Input!$H$14=0,0,SUM(Q45:T45))","v":0},{"$f":"IF(Input!$I$14=0,0,SUM(U45:X45))","v":0},{"$f":"IF(Input!$J$14=0,0,SUM(Y45:AB45))","v":0}]
[null,{"$f":"'D-704 Standards'!B46","v":"R11-3c-60"},{"$f":"'D-704 Standards'!C46","v":"60\"x30\""},{"$f":"'D-704 Standards'!D46","v":"STREET CLOSED __ MILES AHEAD LOCAL TRAFFIC ONLY (Mtd on barricade)"},null,null,null,null,null,null,null,null,null,null,null,null,null,null,null,null,null,null,null,null,null,null,null,null,0,{"$f":"IF(Input!$G$14=0,0,SUM(M46:P46))","v":0},{"$f":"IF(Input!$H$14=0,0,SUM(Q46:T46))","v":0},{"$f":"IF(Input!$I$14=0,0,SUM(U46:X46))","v":0},{"$f":"IF(Input!$J$14=0,0,SUM(Y46:AB46))","v":0}]
[null,{"$f":"'D-704 Standards'!B47","v":"R11-4a-60"},{"$f":"'D-704 Standards'!C47","v":"60\"x30\""},{"$f":"'D-704 Standards'!D47","v":"STREET CLOSED TO THRU TRAFFIC (Mounted on barricade)"},null,null,null,null,null,null,null,null,null,null,null,null,null,null,null,null,null,null,null,null,null,null,null,null,0,{"$f":"IF(Input!$G$14=0,0,SUM(M47:P47))","v":0},{"$f":"IF(Input!$H$14=0,0,SUM(Q47:T47))","v":0},{"$f":"IF(Input!$I$14=0,0,SUM(U47:X47))","v":0},{"$f":"IF(Input!$J$14=0,0,SUM(Y47:AB47))","v":0}]
[null,{"$f":"'D-704 Standards'!B48","v":"W1-3-48"},{"$f":"'D-704 Standards'!C48","v":"48\"x48\""},{"$f":"'D-704 Standards'!D48","v":"REVERSE TURN RIGHT or LEFT"},null,null,null,null,null,null,null,null,null,null,null,null,null,null,null,null,null,null,null,null,null,null,null,null,0,{"$f":"IF(Input!$G$14=0,0,SUM(M48:P48))","v":0},{"$f":"IF(Input!$H$14=0,0,SUM(Q48:T48))","v":0},{"$f":"IF(Input!$I$14=0,0,SUM(U48:X48))","v":0},{"$f":"IF(Input!$J$14=0,0,SUM(Y48:AB48))","v":0}]
[null,{"$f":"'D-704 Standards'!B49","v":"W1-4-48"},{"$f":"'D-704 Standards'!C49","v":"48\"x48\""},{"$f":"'D-704 Standards'!D49","v":"REVERSE CURVE RIGHT or LEFT"},null,null,null,null,null,null,null,null,null,null,null,null,null,null,null,null,null,null,null,null,null,null,null,null,0,{"$f":"IF(Input!$G$14=0,0,SUM(M49:P49))","v":0},{"$f":"IF(Input!$H$14=0,0,SUM(Q49:T49))","v":0},{"$f":"IF(Input!$I$14=0,0,SUM(U49:X49))","v":0},{"$f":"IF(Input!$J$14=0,0,SUM(Y49:AB49))","v":0}]
[null,{"$f":"'D-704 Standards'!B50","v":"W1-4b-48"},{"$f":"'D-704 Standards'!C50","v":"48\"x48\""},{"$f":"'D-704 Standards'!D50","v":"TWO LANE REVERSE CURVE RIGHT or LEFT"},null,null,null,null,null,null,null,null,null,null,null,null,null,null,null,null,null,null,null,null,null,null,null,null,0,{"$f":"IF(Input!$G$14=0,0,SUM(M50:P50))","v":0},{"$f":"IF(Input!$H$14=0,0,SUM(Q50:T50))","v":0},{"$f":"IF(Input!$I$14=0,0,SUM(U50:X50))","v":0},{"$f":"IF(Input!$J$14=0,0,SUM(Y50:AB50))","v":0}]
[null,{"$f":"'D-704 Standards'!B51","v":"W1-6-48"},{"$f":"'D-704 Standards'!C51","v":"48\"x24\""},{"$f":"'D-704 Standards'!D51","v":"ONE DIRECTION LARGE ARROW"},null,null,null,null,null,null,null,null,null,null,null,null,null,null,null,null,null,null,null,null,null,null,null,null,0,{"$f":"IF(Input!$G$14=0,0,SUM(M51:P51))","v":0},{"$f":"IF(Input!$H$14=0,0,SUM(Q51:T51))","v":0},{"$f":"IF(Input!$I$14=0,0,SUM(U51:X51))","v":0},{"$f":"IF(Input!$J$14=0,0,SUM(Y51:AB51))","v":0}]
[null,{"$f":"'D-704 Standards'!B52","v":"W3-1-48"},{"$f":"'D-704 Standards'!C52","v":"48\"x48\""},{"$f":"'D-704 Standards'!D52","v":"STOP AHEAD"},null,null,null,null,null,null,null,null,null,null,null,null,null,null,null,null,null,null,null,null,null,null,null,null,0,{"$f":"IF(Input!$G$14=0,0,SUM(M52:P52))","v":0},{"$f":"IF(Input!$H$14=0,0,SUM(Q52:T52))","v":0},{"$f":"IF(Input!$I$14=0,0,SUM(U52:X52))","v":0},{"$f":"IF(Input!$J$14=0,0,SUM(Y52:AB52))","v":0}]
[null,{"$f":"'D-704 Standards'!B53","v":"W3-3-48"},{"$f":"'D-704 Standards'!C53","v":"48\"x48\""},{"$f":"'D-704 Standards'!D53","v":"SIGNAL AHEAD"},null,null,null,null,null,null,null,null,null,null,null,null,null,null,null,null,null,null,null,null,null,null,null,null,0,{"$f":"IF(Input!$G$14=0,0,SUM(M53:P53))","v":0},{"$f":"IF(Input!$H$14=0,0,SUM(Q53:T53))","v":0},{"$f":"IF(Input!$I$14=0,0,SUM(U53:X53))","v":0},{"$f":"IF(Input!$J$14=0,0,SUM(Y53:AB53))","v":0}]
[null,{"$f":"'D-704 Standards'!B54","v":"W3-4-48"},{"$f":"'D-704 Standards'!C54","v":"48\"x48\""},{"$f":"'D-704 Standards'!D54","v":"BE PREPARED TO STOP"},null,null,null,null,null,null,null,null,null,null,null,null,null,null,null,null,null,null,null,null,null,null,null,null,0,{"$f":"IF(Input!$G$14=0,0,SUM(M54:P54))","v":0},{"$f":"IF(Input!$H$14=0,0,SUM(Q54:T54))","v":0},{"$f":"IF(Input!$I$14=0,0,SUM(U54:X54))","v":0},{"$f":"IF(Input!$J$14=0,0,SUM(Y54:AB54))","v":0}]
[null,{"$f":"'D-704 Standards'!B55","v":"W3-5-48"},{"$f":"'D-704 Standards'!C55","v":"48\"x48\""},{"$f":"'D-704 Standards'!D55","v":"SPEED REDUCTION AHEAD"},null,null,null,null,null,null,null,null,null,null,null,null,null,null,null,null,null,null,null,null,null,null,null,null,0,{"$f":"IF(Input!$G$14=0,0,SUM(M55:P55))","v":0},{"$f":"IF(Input!$H$14=0,0,SUM(Q55:T55))","v":0},{"$f":"IF(Input!$I$14=0,0,SUM(U55:X55))","v":0},{"$f":"IF(Input!$J$14=0,0,SUM(Y55:AB55))","v":0}]
[null,{"$f":"'D-704 Standards'!B56","v":"W4-2-48"},{"$f":"'D-704 Standards'!C56","v":"48\"x48\""},{"$f":"'D-704 Standards'!D56","v":"LANE ENDS RIGHT or LEFT"},null,null,null,null,null,null,null,null,null,null,null,null,null,null,null,null,null,null,null,null,null,null,null,null,0,{"$f":"IF(Input!$G$14=0,0,SUM(M56:P56))","v":0},{"$f":"IF(Input!$H$14=0,0,SUM(Q56:T56))","v":0},{"$f":"IF(Input!$I$14=0,0,SUM(U56:X56))","v":0},{"$f":"IF(Input!$J$14=0,0,SUM(Y56:AB56))","v":0}]
[null,{"$f":"'D-704 Standards'!B57","v":"W5-1-48"},{"$f":"'D-704 Standards'!C57","v":"48\"x48\""},{"$f":"'D-704 Standards'!D57","v":"ROAD NARROWS"},null,null,null,null,null,null,null,null,null,null,null,null,null,null,null,null,null,null,null,null,null,null,null,null,0,{"$f":"IF(Input!$G$14=0,0,SUM(M57:P57))","v":0},{"$f":"IF(Input!$H$14=0,0,SUM(Q57:T57))","v":0},{"$f":"IF(Input!$I$14=0,0,SUM(U57:X57))","v":0},{"$f":"IF(Input!$J$14=0,0,SUM(Y57:AB57))","v":0}]
[null,{"$f":"'D-704 Standards'!B58","v":"W5-8-48"},{"$f":"'D-704 Standards'!C58","v":"48\"x48\""},{"$f":"'D-704 Standards'!D58","v":"THRU TRAFFIC RIGHT LANE"},null,null,null,null,null,null,null,null,null,null,null,null,null,null,null,null,null,null,null,null,null,null,null,null,0,{"$f":"IF(Input!$G$14=0,0,SUM(M58:P58))","v":0},{"$f":"IF(Input!$H$14=0,0,SUM(Q58:T58))","v":0},{"$f":"IF(Input!$I$14=0,0,SUM(U58:X58))","v":0},{"$f":"IF(Input!$J$14=0,0,SUM(Y58:AB58))","v":0}]
[null,{"$f":"'D-704 Standards'!B59","v":"W5-9-48"},{"$f":"'D-704 Standards'!C59","v":"48\"x48\""},{"$f":"'D-704 Standards'!D59","v":"ROAD WORK TRAFFIC ONLY DOWN & LT or RT ARROW"},null,null,null,null,null,null,null,null,null,null,null,null,null,null,null,null,null,null,null,null,null,null,null,null,0,{"$f":"IF(Input!$G$14=0,0,SUM(M59:P59))","v":0},{"$f":"IF(Input!$H$14=0,0,SUM(Q59:T59))","v":0},{"$f":"IF(Input!$I$14=0,0,SUM(U59:X59))","v":0},{"$f":"IF(Input!$J$14=0,0,SUM(Y59:AB59))","v":0}]
[null,{"$f":"'D-704 Standards'!B60","v":"W6-3-48"},{"$f":"'D-704 Standards'!C60","v":"48\"x48\""},{"$f":"'D-704 Standards'!D60","v":"TWO WAY TRAFFIC"},null,null,null,null,null,null,null,null,null,null,null,null,null,null,null,null,null,null,null,null,null,null,null,null,0,{"$f":"IF(Input!$G$14=0,0,SUM(M60:P60))","v":0},{"$f":"IF(Input!$H$14=0,0,SUM(Q60:T60))","v":0},{"$f":"IF(Input!$I$14=0,0,SUM(U60:X60))","v":0},{"$f":"IF(Input!$J$14=0,0,SUM(Y60:AB60))","v":0}]
[null,{"$f":"'D-704 Standards'!B61","v":"W8-1-48"},{"$f":"'D-704 Standards'!C61","v":"48\"x48\""},{"$f":"'D-704 Standards'!D61","v":"BUMP"},null,null,null,null,null,null,null,null,null,null,null,null,null,null,null,null,null,null,null,null,null,null,null,null,0,{"$f":"IF(Input!$G$14=0,0,SUM(M61:P61))","v":0},{"$f":"IF(Input!$H$14=0,0,SUM(Q61:T61))","v":0},{"$f":"IF(Input!$I$14=0,0,SUM(U61:X61))","v":0},{"$f":"IF(Input!$J$14=0,0,SUM(Y61:AB61))","v":0}]
[null,{"$f":"'D-704 Standards'!B62","v":"W8-3-48"},{"$f":"'D-704 Standards'!C62","v":"48\"x48\""},{"$f":"'D-704 Standards'!D62","v":"PAVEMENT ENDS"},null,null,null,null,null,null,null,null,null,null,null,null,null,null,null,null,null,null,null,null,null,null,null,null,0,{"$f":"IF(Input!$G$14=0,0,SUM(M62:P62))","v":0},{"$f":"IF(Input!$H$14=0,0,SUM(Q62:T62))","v":0},{"$f":"IF(Input!$I$14=0,0,SUM(U62:X62))","v":0},{"$f":"IF(Input!$J$14=0,0,SUM(Y62:AB62))","v":0}]
[null,{"$f":"'D-704 Standards'!B63","v":"W8-7-48"},{"$f":"'D-704 Standards'!C63","v":"48\"x48\""},{"$f":"'D-704 Standards'!D63","v":"LOOSE GRAVEL"},null,null,null,null,null,null,null,null,null,null,null,null,null,null,null,null,null,null,null,null,null,null,null,null,0,{"$f":"IF(Input!$G$14=0,0,SUM(M63:P63))","v":0},{"$f":"IF(Input!$H$14=0,0,SUM(Q63:T63))","v":0},{"$f":"IF(Input!$I$14=0,0,SUM(U63:X63))","v":0},{"$f":"IF(Input!$J$14=0,0,SUM(Y63:AB63))","v":0}]
[null,{"$f":"'D-704 Standards'!B64","v":"W8-17-48"},{"$f":"'D-704 Standards'!C64","v":"48\"x48\""},{"$f":"'D-704 Standards'!D64","v":"SHOULDER DROP-OFF SYMBOL"},null,null,null,null,null,null,null,null,null,null,null,null,null,null,null,null,null,null,null,null,null,null,null,null,0,{"$f":"IF(Input!$G$14=0,0,SUM(M64:P64))","v":0},{"$f":"IF(Input!$H$14=0,0,SUM(Q64:T64))","v":0},{"$f":"IF(Input!$I$14=0,0,SUM(U64:X64))","v":0},{"$f":"IF(Input!$J$14=0,0,SUM(Y64:AB64))","v":0}]
[null,{"$f":"'D-704 Standards'!B65","v":"W8-11-48"},{"$f":"'D-704 Standards'!C65","v":"48\"x48\""},{"$f":"'D-704 Standards'!D65","v":"UNEVEN LANES"},null,null,null,null,null,null,null,null,null,null,null,null,null,null,null,null,null,null,null,null,null,null,null,null,0,{"$f":"IF(Input!$G$14=0,0,SUM(M65:P65))","v":0},{"$f":"IF(Input!$H$14=0,0,SUM(Q65:T65))","v":0},{"$f":"IF(Input!$I$14=0,0,SUM(U65:X65))","v":0},{"$f":"IF(Input!$J$14=0,0,SUM(Y65:AB65))","v":0}]
[null,{"$f":"'D-704 Standards'!B66","v":"W8-12-48"},{"$f":"'D-704 Standards'!C66","v":"48\"x48\""},{"$f":"'D-704 Standards'!D66","v":"NO CENTER LINE"},null,null,null,null,null,null,null,null,null,null,null,null,null,null,null,null,null,null,null,null,null,null,null,null,0,{"$f":"IF(Input!$G$14=0,0,SUM(M66:P66))","v":0},{"$f":"IF(Input!$H$14=0,0,SUM(Q66:T66))","v":0},{"$f":"IF(Input!$I$14=0,0,SUM(U66:X66))","v":0},{"$f":"IF(Input!$J$14=0,0,SUM(Y66:AB66))","v":0}]
[null,{"$f":"'D-704 Standards'!B67","v":"W8-53-48"},{"$f":"'D-704 Standards'!C67","v":"48\"x48\""},{"$f":"'D-704 Standards'!D67","v":"TRUCKS ENTERING HIGHWAY"},null,null,null,null,null,null,null,null,null,null,null,null,null,null,null,null,null,null,null,null,null,null,null,null,0,{"$f":"IF(Input!$G$14=0,0,SUM(M67:P67))","v":0},{"$f":"IF(Input!$H$14=0,0,SUM(Q67:T67))","v":0},{"$f":"IF(Input!$I$14=0,0,SUM(U67:X67))","v":0},{"$f":"IF(Input!$J$14=0,0,SUM(Y67:AB67))","v":0}]
[null,{"$f":"'D-704 Standards'!B68","v":"W8-54-48"},{"$f":"'D-704 Standards'!C68","v":"48\"x48\""},{"$f":"'D-704 Standards'!D68","v":"TRUCKS ENTERING AHEAD or __ FT or _ MILE"},null,null,null,null,null,null,null,null,null,null,null,null,null,null,null,null,null,null,null,null,null,null,null,null,0,{"$f":"IF(Input!$G$14=0,0,SUM(M68:P68))","v":0},{"$f":"IF(Input!$H$14=0,0,SUM(Q68:T68))","v":0},{"$f":"IF(Input!$I$14=0,0,SUM(U68:X68))","v":0},{"$f":"IF(Input!$J$14=0,0,SUM(Y68:AB68))","v":0}]
[null,{"$f":"'D-704 Standards'!B69","v":"W8-55-48"},{"$f":"'D-704 Standards'!C69","v":"48\"x48\""},{"$f":"'D-704 Standards'!D69","v":"TRUCKS CROSSING AHEAD or __ FT or _ MILE"},null,null,null,null,null,null,null,null,null,null,null,null,null,null,null,null,null,null,null,null,null,null,null,null,0,{"$f":"IF(Input!$G$14=0,0,SUM(M69:P69))","v":0},{"$f":"IF(Input!$H$14=0,0,SUM(Q69:T69))","v":0},{"$f":"IF(Input!$I$14=0,0,SUM(U69:X69))","v":0},{"$f":"IF(Input!$J$14=0,0,SUM(Y69:AB69))","v":0}]
[null,{"$f":"'D-704 Standards'!B70","v":"W8-56-48"},{"$f":"'D-704 Standards'!C70","v":"48\"x48\""},{"$f":"'D-704 Standards'!D70","v":"TRUCKS EXITING HIGHWAY"},null,null,null,null,null,null,null,null,null,null,null,null,null,null,null,null,null,null,null,null,null,null,null,null,0,{"$f":"IF(Input!$G$14=0,0,SUM(M70:P70))","v":0},{"$f":"IF(Input!$H$14=0,0,SUM(Q70:T70))","v":0},{"$f":"IF(Input!$I$14=0,0,SUM(U70:X70))","v":0},{"$f":"IF(Input!$J$14=0,0,SUM(Y70:AB70))","v":0}]
[null,{"$f":"'D-704 Standards'!B71","v":"W9-3a-48"},{"$f":"'D-704 Standards'!C71","v":"48\"x48\""},{"$f":"'D-704 Standards'!D71","v":"CENTER LANE CLOSED SYMBOL"},null,null,null,null,null,null,null,null,null,null,null,null,null,null,null,null,null,null,null,null,null,null,null,null,0,{"$f":"IF(Input!$G$14=0,0,SUM(M71:P71))","v":0},{"$f":"IF(Input!$H$14=0,0,SUM(Q71:T71))","v":0},{"$f":"IF(Input!$I$14=0,0,SUM(U71:X71))","v":0},{"$f":"IF(Input!$J$14=0,0,SUM(Y71:AB71))","v":0}]
[null,{"$f":"'D-704 Standards'!B72","v":"W13-1P-30"},{"$f":"'D-704 Standards'!C72","v":"30\"x30\""},{"$f":"'D-704 Standards'!D72","v":"__ MPH ADVISORY SPEED PLAQUE (Mounted on warning sign post)"},null,null,null,null,null,null,null,null,null,null,null,null,null,null,null,null,null,null,null,null,null,null,null,null,{"$f":"SUM(I72:L72)","v":0},{"$f":"IF(Input!$G$14=0,0,SUM(M72:P72))","v":0},{"$f":"IF(Input!$H$14=0,0,SUM(Q72:T72))","v":0},{"$f":"IF(Input!$I$14=0,0,SUM(U72:X72))","v":0},{"$f":"IF(Input!$J$14=0,0,SUM(Y72:AB72))","v":0}]
[null,{"$f":"'D-704 Standards'!B73","v":"W14-3-64"},{"$f":"'D-704 Standards'!C73","v":"64\"x48\""},{"$f":"'D-704 Standards'!D73","v":"NO PASSING ZONE"},null,null,null,null,null,null,null,null,null,null,null,null,null,null,null,null,null,null,null,null,null,null,null,null,0,{"$f":"IF(Input!$G$14=0,0,SUM(M73:P73))","v":0},{"$f":"IF(Input!$H$14=0,0,SUM(Q73:T73))","v":0},{"$f":"IF(Input!$I$14=0,0,SUM(U73:X73))","v":0},{"$f":"IF(Input!$J$14=0,0,SUM(Y73:AB73))","v":0}]
[null,{"$f":"'D-704 Standards'!B74","v":"W16-2P-30"},{"$f":"'D-704 Standards'!C74","v":"30\"x24\""},{"$f":"'D-704 Standards'!D74","v":"__ FEET PLAQUE (Mounted on warning sign post)"},null,null,null,null,null,null,null,null,null,null,null,null,null,null,null,null,null,null,null,null,null,null,null,null,0,{"$f":"IF(Input!$G$14=0,0,SUM(M74:P74))","v":0},{"$f":"IF(Input!$H$14=0,0,SUM(Q74:T74))","v":0},{"$f":"IF(Input!$I$14=0,0,SUM(U74:X74))","v":0},{"$f":"IF(Input!$J$14=0,0,SUM(Y74:AB74))","v":0}]
[null,{"$f":"'D-704 Standards'!B75","v":"W20-1-48"},{"$f":"'D-704 Standards'!C75","v":"48\"x48\""},{"$f":"'D-704 Standards'!D75","v":"ROAD WORK AHEAD or _FT or _ MILE"},null,null,null,null,null,null,null,null,null,null,null,null,null,null,null,null,null,null,null,null,null,null,null,null,0,{"$f":"IF(Input!$G$14=0,0,SUM(M75:P75))","v":0},{"$f":"IF(Input!$H$14=0,0,SUM(Q75:T75))","v":0},{"$f":"IF(Input!$I$14=0,0,SUM(U75:X75))","v":0},{"$f":"IF(Input!$J$14=0,0,SUM(Y75:AB75))","v":0}]
[null,{"$f":"'D-704 Standards'!B76","v":"W20-2-48"},{"$f":"'D-704 Standards'!C76","v":"48\"x48\""},{"$f":"'D-704 Standards'!D76","v":"DETOUR AHEAD or __ FT or _ MILE"},null,null,null,null,null,null,null,null,null,null,null,null,null,null,null,null,null,null,null,null,null,null,null,null,0,{"$f":"IF(Input!$G$14=0,0,SUM(M76:P76))","v":0},{"$f":"IF(Input!$H$14=0,0,SUM(Q76:T76))","v":0},{"$f":"IF(Input!$I$14=0,0,SUM(U76:X76))","v":0},{"$f":"IF(Input!$J$14=0,0,SUM(Y76:AB76))","v":0}]
[null,{"$f":"'D-704 Standards'!B77","v":"W20-3-48"},{"$f":"'D-704 Standards'!C77","v":"48\"x48\""},{"$f":"'D-704 Standards'!D77","v":"ROAD or STREET CLOSED AHEAD or __ FT or _ MILE"},null,null,null,null,null,null,null,null,null,null,null,null,null,null,null,null,null,null,null,null,null,null,null,null,0,{"$f":"IF(Input!$G$14=0,0,SUM(M77:P77))","v":0},{"$f":"IF(Input!$H$14=0,0,SUM(Q77:T77))","v":0},{"$f":"IF(Input!$I$14=0,0,SUM(U77:X77))","v":0},{"$f":"IF(Input!$J$14=0,0,SUM(Y77:AB77))","v":0}]
[null,{"$f":"'D-704 Standards'!B78","v":"W20-4-48"},{"$f":"'D-704 Standards'!C78","v":"48\"x48\""},{"$f":"'D-704 Standards'!D78","v":"ONE LANE ROAD AHEAD or __ FT or _ MILE"},null,null,null,null,null,null,null,null,null,null,null,null,null,null,null,null,null,null,null,null,null,null,null,null,0,{"$f":"IF(Input!$G$14=0,0,SUM(M78:P78))","v":0},{"$f":"IF(Input!$H$14=0,0,SUM(Q78:T78))","v":0},{"$f":"IF(Input!$I$14=0,0,SUM(U78:X78))","v":0},{"$f":"IF(Input!$J$14=0,0,SUM(Y78:AB78))","v":0}]
[null,{"$f":"'D-704 Standards'!B79","v":"W20-5-48"},{"$f":"'D-704 Standards'!C79","v":"48\"x48\""},{"$f":"'D-704 Standards'!D79","v":"RIGHT or CENTER or LEFT LANE CLOSED AHEAD or __ FT or _ MILE"},null,null,null,null,null,null,null,null,null,null,null,null,null,null,null,null,null,null,null,null,null,null,null,null,0,{"$f":"IF(Input!$G$14=0,0,SUM(M79:P79))","v":0},{"$f":"IF(Input!$H$14=0,0,SUM(Q79:T79))","v":0},{"$f":"IF(Input!$I$14=0,0,SUM(U79:X79))","v":0},{"$f":"IF(Input!$J$14=0,0,SUM(Y79:AB79))","v":0}]
[null,{"$f":"'D-704 Standards'!B80","v":"W20-7-48"},{"$f":"'D-704 Standards'!C80","v":"48\"x48\""},{"$f":"'D-704 Standards'!D80","v":"FLAGGER"},null,null,null,null,null,null,null,null,null,null,null,null,null,null,null,null,null,null,null,null,null,null,null,null,0,{"$f":"IF(Input!$G$14=0,0,SUM(M80:P80))","v":0},{"$f":"IF(Input!$H$14=0,0,SUM(Q80:T80))","v":0},{"$f":"IF(Input!$I$14=0,0,SUM(U80:X80))","v":0},{"$f":"IF(Input!$J$14=0,0,SUM(Y80:AB80))","v":0}]
[null,{"$f":"'D-704 Standards'!B81","v":"W20-8-18"},{"$f":"'D-704 Standards'!C81","v":"18\"x18\""},{"$f":"'D-704 Standards'!D81","v":"STOP - SLOW PADDLE Back to Back"},null,null,null,null,null,null,null,null,null,null,null,null,null,null,null,null,null,null,null,null,null,null,null,null,0,{"$f":"IF(Input!$G$14=0,0,SUM(M81:P81))","v":0},{"$f":"IF(Input!$H$14=0,0,SUM(Q81:T81))","v":0},{"$f":"IF(Input!$I$14=0,0,SUM(U81:X81))","v":0},{"$f":"IF(Input!$J$14=0,0,SUM(Y81:AB81))","v":0}]
[null,{"$f":"'D-704 Standards'!B82","v":"W20-52P-54"},{"$f":"'D-704 Standards'!C82","v":"54\"x12\""},{"$f":"'D-704 Standards'!D82","v":"NEXT __ MILES (Mounted on warning sign post)"},null,null,null,null,null,null,null,null,null,null,null,null,null,null,null,null,null,null,null,null,null,null,null,null,0,{"$f":"IF(Input!$G$14=0,0,SUM(M82:P82))","v":0},{"$f":"IF(Input!$H$14=0,0,SUM(Q82:T82))","v":0},{"$f":"IF(Input!$I$14=0,0,SUM(U82:X82))","v":0},{"$f":"IF(Input!$J$14=0,0,SUM(Y82:AB82))","v":0}]
[null,{"$f":"'D-704 Standards'!B83","v":"W21-1-48"},{"$f":"'D-704 Standards'!C83","v":"48\"x48\""},{"$f":"'D-704 Standards'!D83","v":"WORKERS"},null,null,null,null,null,null,null,null,null,null,null,null,null,null,null,null,null,null,null,null,null,null,null,null,0,{"$f":"IF(Input!$G$14=0,0,SUM(M83:P83))","v":0},{"$f":"IF(Input!$H$14=0,0,SUM(Q83:T83))","v":0},{"$f":"IF(Input!$I$14=0,0,SUM(U83:X83))","v":0},{"$f":"IF(Input!$J$14=0,0,SUM(Y83:AB83))","v":0}]
[null,{"$f":"'D-704 Standards'!B84","v":"W21-2-48"},{"$f":"'D-704 Standards'!C84","v":"48\"x48\""},{"$f":"'D-704 Standards'!D84","v":"FRESH OIL"},null,null,null,null,null,null,null,null,null,null,null,null,null,null,null,null,null,null,null,null,null,null,null,null,0,{"$f":"IF(Input!$G$14=0,0,SUM(M84:P84))","v":0},{"$f":"IF(Input!$H$14=0,0,SUM(Q84:T84))","v":0},{"$f":"IF(Input!$I$14=0,0,SUM(U84:X84))","v":0},{"$f":"IF(Input!$J$14=0,0,SUM(Y84:AB84))","v":0}]
[null,{"$f":"'D-704 Standards'!B85","v":"W21-3-48"},{"$f":"'D-704 Standards'!C85","v":"48\"x48\""},{"$f":"'D-704 Standards'!D85","v":"ROAD MACHINERY AHEAD  or __ FT or _ MILE"},null,null,null,null,null,null,null,null,null,null,null,null,null,null,null,null,null,null,null,null,null,null,null,null,0,{"$f":"IF(Input!$G$14=0,0,SUM(M85:P85))","v":0},{"$f":"IF(Input!$H$14=0,0,SUM(Q85:T85))","v":0},{"$f":"IF(Input!$I$14=0,0,SUM(U85:X85))","v":0},{"$f":"IF(Input!$J$14=0,0,SUM(Y85:AB85))","v":0}]
[null,{"$f":"'D-704 Standards'!B86","v":"W21-5-48"},{"$f":"'D-704 Standards'!C86","v":"48\"x48\""},{"$f":"'D-704 Standards'!D86","v":"SHOULDER WORK"},null,null,null,null,null,null,null,null,null,null,null,null,null,null,null,null,null,null,null,null,null,null,null,null,0,{"$f":"IF(Input!$G$14=0,0,SUM(M86:P86))","v":0},{"$f":"IF(Input!$H$14=0,0,SUM(Q86:T86))","v":0},{"$f":"IF(Input!$I$14=0,0,SUM(U86:X86))","v":0},{"$f":"IF(Input!$J$14=0,0,SUM(Y86:AB86))","v":0}]
[null,{"$f":"'D-704 Standards'!B87","v":"W21-5a-48"},{"$f":"'D-704 Standards'!C87","v":"48\"x48\""},{"$f":"'D-704 Standards'!D87","v":"RIGHT or LEFT SHOULDER CLOSED"},null,null,null,null,null,null,null,null,null,null,null,null,null,null,null,null,null,null,null,null,null,null,null,null,0,{"$f":"IF(Input!$G$14=0,0,SUM(M87:P87))","v":0},{"$f":"IF(Input!$H$14=0,0,SUM(Q87:T87))","v":0},{"$f":"IF(Input!$I$14=0,0,SUM(U87:X87))","v":0},{"$f":"IF(Input!$J$14=0,0,SUM(Y87:AB87))","v":0}]
[null,{"$f":"'D-704 Standards'!B88","v":"W21-5b-48"},{"$f":"'D-704 Standards'!C88","v":"48\"x48\""},{"$f":"'D-704 Standards'!D88","v":"RIGHT or LEFT SHOULDER CLOSED AHEAD or __ FT or _ MILE"},null,null,null,null,null,null,null,null,null,null,null,null,null,null,null,null,null,null,null,null,null,null,null,null,0,{"$f":"IF(Input!$G$14=0,0,SUM(M88:P88))","v":0},{"$f":"IF(Input!$H$14=0,0,SUM(Q88:T88))","v":0},{"$f":"IF(Input!$I$14=0,0,SUM(U88:X88))","v":0},{"$f":"IF(Input!$J$14=0,0,SUM(Y88:AB88))","v":0}]
[null,{"$f":"'D-704 Standards'!B89","v":"W21-6-48"},{"$f":"'D-704 Standards'!C89","v":"48\"x48\""},{"$f":"'D-704 Standards'!D89","v":"SURVEY CREW"},null,null,null,null,null,null,null,null,null,null,null,null,null,null,null,null,null,null,null,null,null,null,null,null,0,{"$f":"IF(Input!$G$14=0,0,SUM(M89:P89))","v":0},{"$f":"IF(Input!$H$14=0,0,SUM(Q89:T89))","v":0},{"$f":"IF(Input!$I$14=0,0,SUM(U89:X89))","v":0},{"$f":"IF(Input!$J$14=0,0,SUM(Y89:AB89))","v":0}]
[null,{"$f":"'D-704 Standards'!B90","v":"W21-50-48"},{"$f":"'D-704 Standards'!C90","v":"48\"x48\""},{"$f":"'D-704 Standards'!D90","v":"BRIDGE PAINTING AHEAD or __ FT"},null,null,null,null,null,null,null,null,null,null,null,null,null,null,null,null,null,null,null,null,null,null,null,null,0,{"$f":"IF(Input!$G$14=0,0,SUM(M90:P90))","v":0},{"$f":"IF(Input!$H$14=0,0,SUM(Q90:T90))","v":0},{"$f":"IF(Input!$I$14=0,0,SUM(U90:X90))","v":0},{"$f":"IF(Input!$J$14=0,0,SUM(Y90:AB90))","v":0}]
[null,{"$f":"'D-704 Standards'!B91","v":"W21-51-48"},{"$f":"'D-704 Standards'!C91","v":"48\"x48\""},{"$f":"'D-704 Standards'!D91","v":"MATERIAL ON ROADWAY"},null,null,null,null,null,null,null,null,null,null,null,null,null,null,null,null,null,null,null,null,null,null,null,null,0,{"$f":"IF(Input!$G$14=0,0,SUM(M91:P91))","v":0},{"$f":"IF(Input!$H$14=0,0,SUM(Q91:T91))","v":0},{"$f":"IF(Input!$I$14=0,0,SUM(U91:X91))","v":0},{"$f":"IF(Input!$J$14=0,0,SUM(Y91:AB91))","v":0}]
[null,{"$f":"'D-704 Standards'!B92","v":"W21-52-48"},{"$f":"'D-704 Standards'!C92","v":"48\"x48\""},{"$f":"'D-704 Standards'!D92","v":"PAVEMENT BREAKS"},null,null,null,null,null,null,null,null,null,null,null,null,null,null,null,null,null,null,null,null,null,null,null,null,0,{"$f":"IF(Input!$G$14=0,0,SUM(M92:P92))","v":0},{"$f":"IF(Input!$H$14=0,0,SUM(Q92:T92))","v":0},{"$f":"IF(Input!$I$14=0,0,SUM(U92:X92))","v":0},{"$f":"IF(Input!$J$14=0,0,SUM(Y92:AB92))","v":0}]
[null,{"$f":"'D-704 Standards'!B93","v":"W21-53-48"},{"$f":"'D-704 Standards'!C93","v":"48\"x48\""},{"$f":"'D-704 Standards'!D93","v":"RUMBLE STRIPS AHEAD"},null,null,null,null,null,null,null,null,null,null,null,null,null,null,null,null,null,null,null,null,null,null,null,null,0,{"$f":"IF(Input!$G$14=0,0,SUM(M93:P93))","v":0},{"$f":"IF(Input!$H$14=0,0,SUM(Q93:T93))","v":0},{"$f":"IF(Input!$I$14=0,0,SUM(U93:X93))","v":0},{"$f":"IF(Input!$J$14=0,0,SUM(Y93:AB93))","v":0}]
[null,{"$f":"'D-704 Standards'!B94","v":"W22-8-48"},{"$f":"'D-704 Standards'!C94","v":"48\"x48\""},{"$f":"'D-704 Standards'!D94","v":"FRESH OIL LOOSE ROCK"},null,null,null,null,null,null,null,null,null,null,null,null,null,null,null,null,null,null,null,null,null,null,null,null,0,{"$f":"IF(Input!$G$14=0,0,SUM(M94:P94))","v":0},{"$f":"IF(Input!$H$14=0,0,SUM(Q94:T94))","v":0},{"$f":"IF(Input!$I$14=0,0,SUM(U94:X94))","v":0},{"$f":"IF(Input!$J$14=0,0,SUM(Y94:AB94))","v":0}]
[null,{"$f":"'D-704 Standards'!B95","v":"W24-1-48"},{"$f":"'D-704 Standards'!C95","v":"48\"x48\""},{"$f":"'D-704 Standards'!D95","v":"DOUBLE REVERSE CURVE"},null,null,null,null,null,null,null,null,null,null,null,null,null,null,null,null,null,null,null,null,null,null,null,null,0,{"$f":"IF(Input!$G$14=0,0,SUM(M95:P95))","v":0},{"$f":"IF(Input!$H$14=0,0,SUM(Q95:T95))","v":0},{"$f":"IF(Input!$I$14=0,0,SUM(U95:X95))","v":0},{"$f":"IF(Input!$J$14=0,0,SUM(Y95:AB95))","v":0}]
[null,{"$f":"Input!B104","v":0},{"$f":"Input!C104","v":0},{"$f":"Input!D104","v":0},null,null,null,null,null,null,null,null,null,null,null,null,null,null,null,null,null,null,null,null,null,null,null,null,0,{"$f":"IF(Input!$G$14=0,0,SUM(M96:P96))","v":0},{"$f":"IF(Input!$H$14=0,0,SUM(Q96:T96))","v":0},{"$f":"IF(Input!$I$14=0,0,SUM(U96:X96))","v":0},{"$f":"IF(Input!$J$14=0,0,SUM(Y96:AB96))","v":0}]
[null,{"$f":"Input!B105","v":0},{"$f":"Input!C105","v":0},{"$f":"Input!D105","v":0},null,null,null,null,null,null,null,null,null,null,null,null,null,null,null,null,null,null,null,null,null,null,null,null,0,{"$f":"IF(Input!$G$14=0,0,SUM(M97:P97))","v":0},{"$f":"IF(Input!$H$14=0,0,SUM(Q97:T97))","v":0},{"$f":"IF(Input!$I$14=0,0,SUM(U97:X97))","v":0},{"$f":"IF(Input!$J$14=0,0,SUM(Y97:AB97))","v":0}]
[null,{"$f":"Input!B106","v":0},{"$f":"Input!C106","v":0},{"$f":"Input!D106","v":0},null,null,null,null,null,null,null,null,null,null,null,null,null,null,null,null,null,null,null,null,null,null,null,null,0,{"$f":"IF(Input!$G$14=0,0,SUM(M98:P98))","v":0},{"$f":"IF(Input!$H$14=0,0,SUM(Q98:T98))","v":0},{"$f":"IF(Input!$I$14=0,0,SUM(U98:X98))","v":0},{"$f":"IF(Input!$J$14=0,0,SUM(Y98:AB98))","v":0}]
[null,{"$f":"Input!B107","v":0},{"$f":"Input!C107","v":0},{"$f":"Input!D107","v":0},null,null,null,null,null,null,null,null,null,null,null,null,null,null,null,null,null,null,null,null,null,null,null,null,0,{"$f":"IF(Input!$G$14=0,0,SUM(M99:P99))","v":0},{"$f":"IF(Input!$H$14=0,0,SUM(Q99:T99))","v":0},{"$f":"IF(Input!$I$14=0,0,SUM(U99:X99))","v":0},{"$f":"IF(Input!$J$14=0,0,SUM(Y99:AB99))","v":0}]
[null,{"$f":"Input!B108","v":0},{"$f":"Input!C108","v":0},{"$f":"Input!D108","v":0},null,null,null,null,null,null,null,null,null,null,null,null,null,null,null,null,null,null,null,null,null,null,null,null,0,{"$f":"IF(Input!$G$14=0,0,SUM(M100:P100))","v":0},{"$f":"IF(Input!$H$14=0,0,SUM(Q100:T100))","v":0},{"$f":"IF(Input!$I$14=0,0,SUM(U100:X100))","v":0},{"$f":"IF(Input!$J$14=0,0,SUM(Y100:AB100))","v":0}]
[null,{"$f":"Input!B109","v":0},{"$f":"Input!C109","v":0},{"$f":"Input!D109","v":0},null,null,null,null,null,null,null,null,null,null,null,null,null,null,null,null,null,null,null,null,null,null,null,null,0,{"$f":"IF(Input!$G$14=0,0,SUM(M101:P101))","v":0},{"$f":"IF(Input!$H$14=0,0,SUM(Q101:T101))","v":0},{"$f":"IF(Input!$I$14=0,0,SUM(U101:X101))","v":0},{"$f":"IF(Input!$J$14=0,0,SUM(Y101:AB101))","v":0}]
[null,{"$f":"Input!B110","v":0},{"$f":"Input!C110","v":0},{"$f":"Input!D110","v":0},null,null,null,null,null,null,null,null,null,null,null,null,null,null,null,null,null,null,null,null,null,null,null,null,0,{"$f":"IF(Input!$G$14=0,0,SUM(M102:P102))","v":0},{"$f":"IF(Input!$H$14=0,0,SUM(Q102:T102))","v":0},{"$f":"IF(Input!$I$14=0,0,SUM(U102:X102))","v":0},{"$f":"IF(Input!$J$14=0,0,SUM(Y102:AB102))","v":0}]
[null,{"$f":"Input!B111","v":0},{"$f":"Input!C111","v":0},{"$f":"Input!D111","v":0},null,null,null,null,null,null,null,null,null,null,null,null,null,null,null,null,null,null,null,null,null,null,null,null,0,{"$f":"IF(Input!$G$14=0,0,SUM(M103:P103))","v":0},{"$f":"IF(Input!$H$14=0,0,SUM(Q103:T103))","v":0},{"$f":"IF(Input!$I$14=0,0,SUM(U103:X103))","v":0},{"$f":"IF(Input!$J$14=0,0,SUM(Y103:AB103))","v":0}]
[null,{"$f":"Input!B112","v":0},{"$f":"Input!C112","v":0},{"$f":"Input!D112","v":0},null,null,null,null,null,null,null,null,null,null,null,null,null,null,null,null,null,null,null,null,null,null,null,null,0,{"$f":"IF(Input!$G$14=0,0,SUM(M104:P104))","v":0},{"$f":"IF(Input!$H$14=0,0,SUM(Q104:T104))","v":0},{"$f":"IF(Input!$I$14=0,0,SUM(U104:X104))","v":0},{"$f":"IF(Input!$J$14=0,0,SUM(Y104:AB104))","v":0}]
[null,{"$f":"Input!B113","v":0},{"$f":"Input!C113","v":0},{"$f":"Input!D113","v":0},null,null,null,null,null,null,null,null,null,null,null,null,null,null,null,null,null,null,null,null,null,null,null,null,0,{"$f":"IF(Input!$G$14=0,0,SUM(M105:P105))","v":0},{"$f":"IF(Input!$H$14=0,0,SUM(Q105:T105))","v":0},{"$f":"IF(Input!$I$14=0,0,SUM(U105:X105))","v":0},{"$f":"IF(Input!$J$14=0,0,SUM(Y105:AB105))","v":0}]
[null,{"$f":"Input!B114","v":0},{"$f":"Input!C114","v":0},{"$f":"Input!D114","v":0},null,null,null,null,null,null,null,null,null,null,null,null,null,null,null,null,null,null,null,null,null,null,null,null,0,{"$f":"IF(Input!$G$14=0,0,SUM(M106:P106))","v":0},{"$f":"IF(Input!$H$14=0,0,SUM(Q106:T106))","v":0},{"$f":"IF(Input!$I$14=0,0,SUM(U106:X106))","v":0},{"$f":"IF(Input!$J$14=0,0,SUM(Y106:AB106))","v":0}]
[null,{"$f":"Input!B115","v":0},{"$f":"Input!C115","v":0},{"$f":"Input!D115","v":0},null,null,null,null,null,null,null,null,null,null,null,null,null,null,null,null,null,null,null,null,null,null,null,null,0,{"$f":"IF(Input!$G$14=0,0,SUM(M107:P107))","v":0},{"$f":"IF(Input!$H$14=0,0,SUM(Q107:T107))","v":0},{"$f":"IF(Input!$I$14=0,0,SUM(U107:X107))","v":0},{"$f":"IF(Input!$J$14=0,0,SUM(Y107:AB107))","v":0}]
[null,{"$f":"Input!B116","v":0},{"$f":"Input!C116","v":0},{"$f":"Input!D116","v":0},null,null,null,null,null,null,null,null,null,null,null,null,null,null,null,null,null,null,null,null,null,null,null,null,0,{"$f":"IF(Input!$G$14=0,0,SUM(M108:P108))","v":0},{"$f":"IF(Input!$H$14=0,0,SUM(Q108:T108))","v":0},{"$f":"IF(Input!$I$14=0,0,SUM(U108:X108))","v":0},{"$f":"IF(Input!$J$14=0,0,SUM(Y108:AB108))","v":0}]
[null,{"$f":"Input!B117","v":0},{"$f":"Input!C117","v":0},{"$f":"Input!D117","v":0},null,null,null,null,null,null,null,null,null,null,null,null,null,null,null,null,null,null,null,null,null,null,null,null,0,{"$f":"IF(Input!$G$14=0,0,SUM(M109:P109))","v":0},{"$f":"IF(Input!$H$14=0,0,SUM(Q109:T109))","v":0},{"$f":"IF(Input!$I$14=0,0,SUM(U109:X109))","v":0},{"$f":"IF(Input!$J$14=0,0,SUM(Y109:AB109))","v":0}]
[null,{"$f":"Input!B118","v":0},{"$f":"Input!C118","v":0},{"$f":"Input!D118","v":0},null,null,null,null,null,null,null,null,null,null,null,null,null,null,null,null,null,null,null,null,null,null,null,null,0,{"$f":"IF(Input!$G$14=0,0,SUM(M110:P110))","v":0},{"$f":"IF(Input!$H$14=0,0,SUM(Q110:T110))","v":0},{"$f":"IF(Input!$I$14=0,0,SUM(U110:X110))","v":0},{"$f":"IF(Input!$J$14=0,0,SUM(Y110:AB110))","v":0}]
[null,{"$f":"Input!B119","v":0},{"$f":"Input!C119","v":0},{"$f":"Input!D119","v":0},null,null,null,null,null,null,null,null,null,null,null,null,null,null,null,null,null,null,null,null,null,null,null,null,0,{"$f":"IF(Input!$G$14=0,0,SUM(M111:P111))","v":0},{"$f":"IF(Input!$H$14=0,0,SUM(Q111:T111))","v":0},{"$f":"IF(Input!$I$14=0,0,SUM(U111:X111))","v":0},{"$f":"IF(Input!$J$14=0,0,SUM(Y111:AB111))","v":0}]
[null,{"$f":"Input!B120","v":0},{"$f":"Input!C120","v":0},{"$f":"Input!D120","v":0},null,null,null,null,null,null,null,null,null,null,null,null,null,null,null,null,null,null,null,null,null,null,null,null,0,{"$f":"IF(Input!$G$14=0,0,SUM(M112:P112))","v":0},{"$f":"IF(Input!$H$14=0,0,SUM(Q112:T112))","v":0},{"$f":"IF(Input!$I$14=0,0,SUM(U112:X112))","v":0},{"$f":"IF(Input!$J$14=0,0,SUM(Y112:AB112))","v":0}]
[null,{"$f":"Input!B121","v":0},{"$f":"Input!C121","v":0},{"$f":"Input!D121","v":0},null,null,null,null,null,null,null,null,null,null,null,null,null,null,null,null,null,null,null,null,null,null,null,null,0,{"$f":"IF(Input!$G$14=0,0,SUM(M113:P113))","v":0},{"$f":"IF(Input!$H$14=0,0,SUM(Q113:T113))","v":0},{"$f":"IF(Input!$I$14=0,0,SUM(U113:X113))","v":0},{"$f":"IF(Input!$J$14=0,0,SUM(Y113:AB113))","v":0}]
[null,{"$f":"Input!B122","v":0},{"$f":"Input!C122","v":0},{"$f":"Input!D122","v":0},null,null,null,null,null,null,null,null,null,null,null,null,null,null,null,null,null,null,null,null,null,null,null,null,0,{"$f":"IF(Input!$G$14=0,0,SUM(M114:P114))","v":0},{"$f":"IF(Input!$H$14=0,0,SUM(Q114:T114))","v":0},{"$f":"IF(Input!$I$14=0,0,SUM(U114:X114))","v":0},{"$f":"IF(Input!$J$14=0,0,SUM(Y114:AB114))","v":0}]
[null,{"$f":"Input!B123","v":0},{"$f":"Input!C123","v":0},{"$f":"Input!D123","v":0},null,null,null,null,null,null,null,null,null,null,null,null,null,null,null,null,null,null,null,null,null,null,null,null,0,{"$f":"IF(Input!$G$14=0,0,SUM(M115:P115))","v":0},{"$f":"IF(Input!$H$14=0,0,SUM(Q115:T115))","v":0},{"$f":"IF(Input!$I$14=0,0,SUM(U115:X115))","v":0},{"$f":"IF(Input!$J$14=0,0,SUM(Y115:AB115))","v":0}]
[]
[null,"SPECIAL SIGNS",null,null,null,null,null,null,null,{"$f":"IF(COUNTBLANK(Input!F14:J14)=5,\"\",CONCATENATE(\"Phase \",Input!$F$14))","v":""},null,null,null,{"$f":"CONCATENATE(\"Phase \",Input!$G$14)","v":"Phase "},null,null,null,{"$f":"CONCATENATE(\"Phase \",Input!$H$14)","v":"Phase "},null,null,null,{"$f":"CONCATENATE(\"Phase \",Input!$I$14)","v":"Phase "},null,null,null,{"$f":"CONCATENATE(\"Phase \",Input!$J$14)","v":"Phase "},null,null,{"$f":"IF(COUNTBLANK(Input!F14:J14)=5,\"\",IF(COUNTBLANK(Input!G14:J14)=4,\"Total\",\"Total Amount Required\"))","v":""}]
[null,"SIGN NUMBER","SIGN SIZE","DESCRIPTION",null,null,null,null,null,{"$f":"J6","v":"Sheet1"},{"$f":"K6","v":"Sheet2"},{"$f":"L6","v":0},null,{"$f":"N6","v":"Sheet 3"},{"$f":"O6","v":"Sheet 4"},null,null,{"$f":"R6","v":"Sheet 5"},{"$f":"S6","v":"Sheet 6"},null,null,{"$f":"V6","v":"Sheet 7"},{"$f":"W6","v":"Sheet 8"},null,null,{"$f":"Z6","v":"Sheet 9"},{"$f":"AA6","v":"Sheet 10"},null,{"$f":"IF(COUNTBLANK(Input!F14:J14)=5,\"Total\",CONCATENATE(\"Phase\n\",Input!$F$14))","v":"Total"},{"$f":"CONCATENATE(\"Phase\n\",Input!$G$14)","v":"Phase\n"},{"$f":"CONCATENATE(\"Phase\n\",Input!$H$14)","v":"Phase\n"},{"$f":"CONCATENATE(\"Phase\n\",Input!$I$14)","v":"Phase\n"},{"$f":"CONCATENATE(\"Phase\n\",Input!$J$14)","v":"Phase\n"}]
[null,{"$f":"Input!B129","v":0},{"$f":"Input!C129","v":0},{"$f":"Input!D129","v":0},null,null,null,null,null,null,null,null,null,null,null,null,null,null,null,null,null,null,null,null,null,null,null,null,{"$f":"SUM(I119:L119)","v":0},{"$f":"IF(Input!$G$14=0,0,SUM(M119:P119))","v":0},{"$f":"IF(Input!$H$14=0,0,SUM(Q119:T119))","v":0},{"$f":"IF(Input!$I$14=0,0,SUM(U119:X119))","v":0},{"$f":"IF(Input!$J$14=0,0,SUM(Y119:AB119))","v":0}]
[null,{"$f":"Input!B130","v":0},{"$f":"Input!C130","v":0},{"$f":"Input!D130","v":0},null,null,null,null,null,null,null,null,null,null,null,null,null,null,null,null,null,null,null,null,null,null,null,null,0,{"$f":"IF(Input!$G$14=0,0,SUM(M120:P120))","v":0},{"$f":"IF(Input!$H$14=0,0,SUM(Q120:T120))","v":0},{"$f":"IF(Input!$I$14=0,0,SUM(U120:X120))","v":0},{"$f":"IF(Input!$J$14=0,0,SUM(Y120:AB120))","v":0}]
[null,{"$f":"Input!B131","v":0},{"$f":"Input!C131","v":0},{"$f":"Input!D131","v":0},null,null,null,null,null,null,null,null,null,null,null,null,null,null,null,null,null,null,null,null,null,null,null,null,0,{"$f":"IF(Input!$G$14=0,0,SUM(M121:P121))","v":0},{"$f":"IF(Input!$H$14=0,0,SUM(Q121:T121))","v":0},{"$f":"IF(Input!$I$14=0,0,SUM(U121:X121))","v":0},{"$f":"IF(Input!$J$14=0,0,SUM(Y121:AB121))","v":0}]
[null,{"$f":"Input!B132","v":0},{"$f":"Input!C132","v":0},{"$f":"Input!D132","v":0},null,null,null,null,null,null,null,null,null,null,null,null,null,null,null,null,null,null,null,null,null,null,null,null,0,{"$f":"IF(Input!$G$14=0,0,SUM(M122:P122))","v":0},{"$f":"IF(Input!$H$14=0,0,SUM(Q122:T122))","v":0},{"$f":"IF(Input!$I$14=0,0,SUM(U122:X122))","v":0},{"$f":"IF(Input!$J$14=0,0,SUM(Y122:AB122))","v":0}]
[null,{"$f":"Input!B133","v":0},{"$f":"Input!C133","v":0},{"$f":"Input!D133","v":0},null,null,null,null,null,null,null,null,null,null,null,null,null,null,null,null,null,null,null,null,null,null,null,null,0,{"$f":"IF(Input!$G$14=0,0,SUM(M123:P123))","v":0},{"$f":"IF(Input!$H$14=0,0,SUM(Q123:T123))","v":0},{"$f":"IF(Input!$I$14=0,0,SUM(U123:X123))","v":0},{"$f":"IF(Input!$J$14=0,0,SUM(Y123:AB123))","v":0}]
[null,{"$f":"Input!B134","v":0},{"$f":"Input!C134","v":0},{"$f":"Input!D134","v":0},null,null,null,null,null,null,null,null,null,null,null,null,null,null,null,null,null,null,null,null,null,null,null,null,0,{"$f":"IF(Input!$G$14=0,0,SUM(M124:P124))","v":0},{"$f":"IF(Input!$H$14=0,0,SUM(Q124:T124))","v":0},{"$f":"IF(Input!$I$14=0,0,SUM(U124:X124))","v":0},{"$f":"IF(Input!$J$14=0,0,SUM(Y124:AB124))","v":0}]
[null,{"$f":"Input!B135","v":0},{"$f":"Input!C135","v":0},{"$f":"Input!D135","v":0},null,null,null,null,null,null,null,null,null,null,null,null,null,null,null,null,null,null,null,null,null,null,null,null,0,{"$f":"IF(Input!$G$14=0,0,SUM(M125:P125))","v":0},{"$f":"IF(Input!$H$14=0,0,SUM(Q125:T125))","v":0},{"$f":"IF(Input!$I$14=0,0,SUM(U125:X125))","v":0},{"$f":"IF(Input!$J$14=0,0,SUM(Y125:AB125))","v":0}]
[null,{"$f":"Input!B136","v":0},{"$f":"Input!C136","v":0},{"$f":"Input!D136","v":0},null,null,null,null,null,null,null,null,null,null,null,null,null,null,null,null,null,null,null,null,null,null,null,null,0,{"$f":"IF(Input!$G$14=0,0,SUM(M126:P126))","v":0},{"$f":"IF(Input!$H$14=0,0,SUM(Q126:T126))","v":0},{"$f":"IF(Input!$I$14=0,0,SUM(U126:X126))","v":0},{"$f":"IF(Input!$J$14=0,0,SUM(Y126:AB126))","v":0}]
[null,{"$f":"Input!B137","v":0},{"$f":"Input!C137","v":0},{"$f":"Input!D137","v":0},null,null,null,null,null,null,null,null,null,null,null,null,null,null,null,null,null,null,null,null,null,null,null,null,0,{"$f":"IF(Input!$G$14=0,0,SUM(M127:P127))","v":0},{"$f":"IF(Input!$H$14=0,0,SUM(Q127:T127))","v":0},{"$f":"IF(Input!$I$14=0,0,SUM(U127:X127))","v":0},{"$f":"IF(Input!$J$14=0,0,SUM(Y127:AB127))","v":0}]
[null,{"$f":"Input!B138","v":0},{"$f":"Input!C138","v":0},{"$f":"Input!D138","v":0},null,null,null,null,null,null,null,null,null,null,null,null,null,null,null,null,null,null,null,null,null,null,null,null,0,{"$f":"IF(Input!$G$14=0,0,SUM(M128:P128))","v":0},{"$f":"IF(Input!$H$14=0,0,SUM(Q128:T128))","v":0},{"$f":"IF(Input!$I$14=0,0,SUM(U128:X128))","v":0},{"$f":"IF(Input!$J$14=0,0,SUM(Y128:AB128))","v":0}]
[null,{"$f":"Input!B139","v":0},{"$f":"Input!C139","v":0},{"$f":"Input!D139","v":0},null,null,null,null,null,null,null,null,null,null,null,null,null,null,null,null,null,null,null,null,null,null,null,null,0,{"$f":"IF(Input!$G$14=0,0,SUM(M129:P129))","v":0},{"$f":"IF(Input!$H$14=0,0,SUM(Q129:T129))","v":0},{"$f":"IF(Input!$I$14=0,0,SUM(U129:X129))","v":0},{"$f":"IF(Input!$J$14=0,0,SUM(Y129:AB129))","v":0}]
[null,{"$f":"Input!B140","v":0},{"$f":"Input!C140","v":0},{"$f":"Input!D140","v":0},null,null,null,null,null,null,null,null,null,null,null,null,null,null,null,null,null,null,null,null,null,null,null,null,0,{"$f":"IF(Input!$G$14=0,0,SUM(M130:P130))","v":0},{"$f":"IF(Input!$H$14=0,0,SUM(Q130:T130))","v":0},{"$f":"IF(Input!$I$14=0,0,SUM(U130:X130))","v":0},{"$f":"IF(Input!$J$14=0,0,SUM(Y130:AB130))","v":0}]
[null,{"$f":"Input!B141","v":0},{"$f":"Input!C141","v":0},{"$f":"Input!D141","v":0},null,null,null,null,null,null,null,null,null,null,null,null,null,null,null,null,null,null,null,null,null,null,null,null,0,{"$f":"IF(Input!$G$14=0,0,SUM(M131:P131))","v":0},{"$f":"IF(Input!$H$14=0,0,SUM(Q131:T131))","v":0},{"$f":"IF(Input!$I$14=0,0,SUM(U131:X131))","v":0},{"$f":"IF(Input!$J$14=0,0,SUM(Y131:AB131))","v":0}]
[null,{"$f":"Input!B142","v":0},{"$f":"Input!C142","v":0},{"$f":"Input!D142","v":0},null,null,null,null,null,null,null,null,null,null,null,null,null,null,null,null,null,null,null,null,null,null,null,null,0,{"$f":"IF(Input!$G$14=0,0,SUM(M132:P132))","v":0},{"$f":"IF(Input!$H$14=0,0,SUM(Q132:T132))","v":0},{"$f":"IF(Input!$I$14=0,0,SUM(U132:X132))","v":0},{"$f":"IF(Input!$J$14=0,0,SUM(Y132:AB132))","v":0}]
[null,{"$f":"Input!B143","v":0},{"$f":"Input!C143","v":0},{"$f":"Input!D143","v":0},null,null,null,null,null,null,null,null,null,null,null,null,null,null,null,null,null,null,null,null,null,null,null,null,0,{"$f":"IF(Input!$G$14=0,0,SUM(M133:P133))","v":0},{"$f":"IF(Input!$H$14=0,0,SUM(Q133:T133))","v":0},{"$f":"IF(Input!$I$14=0,0,SUM(U133:X133))","v":0},{"$f":"IF(Input!$J$14=0,0,SUM(Y133:AB133))","v":0}]
[]
[null,"TRAFFIC CONTROL DEVICES",null,null,null,null,null,null,null,{"$f":"IF(COUNTBLANK(Input!F14:J14)=5,\"\",CONCATENATE(\"Phase \",Input!$F$14))","v":""},null,null,null,{"$f":"CONCATENATE(\"Phase \",Input!$G$14)","v":"Phase "},null,null,null,{"$f":"CONCATENATE(\"Phase \",Input!$H$14)","v":"Phase "},null,null,null,{"$f":"CONCATENATE(\"Phase \",Input!$I$14)","v":"Phase "},null,null,null,{"$f":"CONCATENATE(\"Phase \",Input!$J$14)","v":"Phase "},null,null,{"$f":"IF(COUNTBLANK(Input!F14:J14)=5,\"\",IF(COUNTBLANK(Input!G14:J14)=4,\"Total\",\"Total Amount Required\"))","v":""}]
[null,"SPEC","CODE","DESCRIPTION",null,null,null,null,null,{"$f":"J6","v":"Sheet1"},{"$f":"K6","v":"Sheet2"},{"$f":"L6","v":0},null,{"$f":"N6","v":"Sheet 3"},{"$f":"O6","v":"Sheet 4"},null,null,{"$f":"R6","v":"Sheet 5"},{"$f":"S6","v":"Sheet 6"},null,null,{"$f":"V6","v":"Sheet 7"},{"$f":"W6","v":"Sheet 8"},null,null,{"$f":"Z6","v":"Sheet 9"},{"$f":"AA6","v":"Sheet 10"},null,{"$f":"IF(COUNTBLANK(Input!F14:J14)=5,\"Total\",CONCATENATE(\"Phase\n\",Input!$F$14))","v":"Total"},{"$f":"CONCATENATE(\"Phase\n\",Input!$G$14)","v":"Phase\n"},{"$f":"CONCATENATE(\"Phase\n\",Input!$H$14)","v":"Phase\n"},{"$f":"CONCATENATE(\"Phase\n\",Input!$I$14)","v":"Phase\n"},{"$f":"CONCATENATE(\"Phase\n\",Input!$J$14)","v":"Phase\n"}]
[null,{"$f":"'D-704 Standards'!B137","v":704},{"$f":"'D-704 Standards'!C137","v":100},{"$f":"'D-704 Standards'!D137","v":"FLAGGING"},null,null,null,null,null,null,null,null,null,null,null,null,null,null,null,null,null,null,null,null,null,null,null,null,{"$f":"SUM(I137:L137)","v":0},{"$f":"IF(Input!$G$14=0,0,SUM(M137:P137))","v":0},{"$f":"IF(Input!$H$14=0,0,SUM(Q137:T137))","v":0},{"$f":"IF(Input!$I$14=0,0,SUM(U137:X137))","v":0},{"$f":"IF(Input!$J$14=0,0,SUM(Y137:AB137))","v":0}]
[null,{"$f":"'D-704 Standards'!B138","v":704},{"$f":"'D-704 Standards'!C138","v":1048},{"$f":"'D-704 Standards'!D138","v":"PORTABLE RUMBLE STRIPS"},null,null,null,null,null,null,null,null,null,null,null,null,null,null,null,null,null,null,null,null,null,null,null,null,{"$f":"SUM(I138:L138)","v":0},{"$f":"IF(Input!$G$14=0,0,SUM(M138:P138))","v":0},{"$f":"IF(Input!$H$14=0,0,SUM(Q138:T138))","v":0},{"$f":"IF(Input!$I$14=0,0,SUM(U138:X138))","v":0},{"$f":"IF(Input!$J$14=0,0,SUM(Y138:AB138))","v":0}]
[null,{"$f":"'D-704 Standards'!B139","v":704},{"$f":"'D-704 Standards'!C139","v":1050},{"$f":"'D-704 Standards'!D139","v":"TYPE I BARRICADES"},null,null,null,null,null,null,null,null,null,null,null,null,null,null,null,null,null,null,null,null,null,null,null,null,0,{"$f":"IF(Input!$G$14=0,0,SUM(M139:P139))","v":0},{"$f":"IF(Input!$H$14=0,0,SUM(Q139:T139))","v":0},{"$f":"IF(Input!$I$14=0,0,SUM(U139:X139))","v":0},{"$f":"IF(Input!$J$14=0,0,SUM(Y139:AB139))","v":0}]
[null,{"$f":"'D-704 Standards'!B140","v":704},{"$f":"'D-704 Standards'!C140","v":1052},{"$f":"'D-704 Standards'!D140","v":"TYPE III BARRICADES"},null,null,null,null,null,null,null,null,null,null,null,null,null,null,null,null,null,null,null,null,null,null,null,null,0,{"$f":"IF(Input!$G$14=0,0,SUM(M140:P140))","v":0},{"$f":"IF(Input!$H$14=0,0,SUM(Q140:T140))","v":0},{"$f":"IF(Input!$I$14=0,0,SUM(U140:X140))","v":0},{"$f":"IF(Input!$J$14=0,0,SUM(Y140:AB140))","v":0}]
[null,{"$f":"'D-704 Standards'!B141","v":704},{"$f":"'D-704 Standards'!C141","v":1060},{"$f":"'D-704 Standards'!D141","v":"DELINEATOR DRUMS"},null,null,null,null,null,null,null,null,null,null,null,null,null,null,null,null,null,null,null,null,null,null,null,null,0,{"$f":"IF(Input!$G$14=0,0,SUM(M141:P141))","v":0},{"$f":"IF(Input!$H$14=0,0,SUM(Q141:T141))","v":0},{"$f":"IF(Input!$I$14=0,0,SUM(U141:X141))","v":0},{"$f":"IF(Input!$J$14=0,0,SUM(Y141:AB141))","v":0}]
[null,{"$f":"'D-704 Standards'!B142","v":704},{"$f":"'D-704 Standards'!C142","v":1065},{"$f":"'D-704 Standards'!D142","v":"TRAFFIC CONES"},null,null,null,null,null,null,null,null,null,null,null,null,null,null,null,null,null,null,null,null,null,null,null,null,0,{"$f":"IF(Input!$G$14=0,0,SUM(M142:P142))","v":0},{"$f":"IF(Input!$H$14=0,0,SUM(Q142:T142))","v":0},{"$f":"IF(Input!$I$14=0,0,SUM(U142:X142))","v":0},{"$f":"IF(Input!$J$14=0,0,SUM(Y142:AB142))","v":0}]
[{"$f":"COUNTIF(I3:Y3,\"=0\")","v":0},{"$f":"'D-704 Standards'!B143","v":704},{"$f":"'D-704 Standards'!C143","v":1067},{"$f":"'D-704 Standards'!D143","v":"TUBULAR MARKERS"},null,null,null,null,null,null,null,null,null,null,null,null,null,null,null,null,null,null,null,null,null,null,null,null,0,{"$f":"IF(Input!$G$14=0,0,SUM(M143:P143))","v":0},{"$f":"IF(Input!$H$14=0,0,SUM(Q143:T143))","v":0},{"$f":"IF(Input!$I$14=0,0,SUM(U143:X143))","v":0},{"$f":"IF(Input!$J$14=0,0,SUM(Y143:AB143))","v":0}]
[null,{"$f":"'D-704 Standards'!B144","v":704},{"$f":"'D-704 Standards'!C144","v":1070},{"$f":"'D-704 Standards'!D144","v":"DELINEATOR"},null,null,null,null,null,null,null,null,null,null,null,null,null,null,null,null,null,null,null,null,null,null,null,null,0,{"$f":"IF(Input!$G$14=0,0,SUM(M144:P144))","v":0},{"$f":"IF(Input!$H$14=0,0,SUM(Q144:T144))","v":0},{"$f":"IF(Input!$I$14=0,0,SUM(U144:X144))","v":0},{"$f":"IF(Input!$J$14=0,0,SUM(Y144:AB144))","v":0}]
[null,{"$f":"'D-704 Standards'!B145","v":704},{"$f":"'D-704 Standards'!C145","v":1072},{"$f":"'D-704 Standards'!D145","v":"FLEXIBLE DELINEATORS"},null,null,null,null,null,null,null,null,null,null,null,null,null,null,null,null,null,null,null,null,null,null,null,null,0,{"$f":"IF(Input!$G$14=0,0,SUM(M145:P145))","v":0},{"$f":"IF(Input!$H$14=0,0,SUM(Q145:T145))","v":0},{"$f":"IF(Input!$I$14=0,0,SUM(U145:X145))","v":0},{"$f":"IF(Input!$J$14=0,0,SUM(Y145:AB145))","v":0}]
[null,{"$f":"'D-704 Standards'!B146","v":704},{"$f":"'D-704 Standards'!C146","v":1080},{"$f":"'D-704 Standards'!D146","v":"STACKABLE VERTICAL PANELS"},null,null,null,null,null,null,null,null,null,null,null,null,null,null,null,null,null,null,null,null,null,null,null,null,0,{"$f":"IF(Input!$G$14=0,0,SUM(M146:P146))","v":0},{"$f":"IF(Input!$H$14=0,0,SUM(Q146:T146))","v":0},{"$f":"IF(Input!$I$14=0,0,SUM(U146:X146))","v":0},{"$f":"IF(Input!$J$14=0,0,SUM(Y146:AB146))","v":0}]
[null,{"$f":"'D-704 Standards'!B147","v":704},{"$f":"'D-704 Standards'!C147","v":1081},{"$f":"'D-704 Standards'!D147","v":"VERTICAL PANELS - BACK TO BACK"},null,null,null,null,null,null,null,null,null,null,null,null,null,null,null,null,null,null,null,null,null,null,null,null,0,{"$f":"IF(Input!$G$14=0,0,SUM(M147:P147))","v":0},{"$f":"IF(Input!$H$14=0,0,SUM(Q147:T147))","v":0},{"$f":"IF(Input!$I$14=0,0,SUM(U147:X147))","v":0},{"$f":"IF(Input!$J$14=0,0,SUM(Y147:AB147))","v":0}]
[null,{"$f":"'D-704 Standards'!B148","v":704},{"$f":"'D-704 Standards'!C148","v":1085},{"$f":"'D-704 Standards'!D148","v":"SEQUENCING ARROW PANEL - TYPE A"},null,null,null,null,null,null,null,null,null,null,null,null,null,null,null,null,null,null,null,null,null,null,null,null,0,{"$f":"IF(Input!$G$14=0,0,SUM(M148:P148))","v":0},{"$f":"IF(Input!$H$14=0,0,SUM(Q148:T148))","v":0},{"$f":"IF(Input!$I$14=0,0,SUM(U148:X148))","v":0},{"$f":"IF(Input!$J$14=0,0,SUM(Y148:AB148))","v":0}]
[null,{"$f":"'D-704 Standards'!B149","v":704},{"$f":"'D-704 Standards'!C149","v":1086},{"$f":"'D-704 Standards'!D149","v":"SEQUENCING ARROW PANEL - TYPE B"},null,null,null,null,null,null,null,null,null,null,null,null,null,null,null,null,null,null,null,null,null,null,null,null,0,{"$f":"IF(Input!$G$14=0,0,SUM(M149:P149))","v":0},{"$f":"IF(Input!$H$14=0,0,SUM(Q149:T149))","v":0},{"$f":"IF(Input!$I$14=0,0,SUM(U149:X149))","v":0},{"$f":"IF(Input!$J$14=0,0,SUM(Y149:AB149))","v":0}]
[null,{"$f":"'D-704 Standards'!B150","v":704},{"$f":"'D-704 Standards'!C150","v":1087},{"$f":"'D-704 Standards'!D150","v":"SEQUENCING ARROW PANEL - TYPE C"},null,null,null,null,null,null,null,null,null,null,null,null,null,null,null,null,null,null,null,null,null,null,null,null,0,{"$f":"IF(Input!$G$14=0,0,SUM(M150:P150))","v":0},{"$f":"IF(Input!$H$14=0,0,SUM(Q150:T150))","v":0},{"$f":"IF(Input!$I$14=0,0,SUM(U150:X150))","v":0},{"$f":"IF(Input!$J$14=0,0,SUM(Y150:AB150))","v":0}]
[null,{"$f":"'D-704 Standards'!B151","v":704},{"$f":"'D-704 Standards'!C151","v":3501},{"$f":"'D-704 Standards'!D151","v":"PORTABLE PRECAST CONCRETE MED BARRIER"},null,null,null,null,null,null,null,null,null,null,null,null,null,null,null,null,null,null,null,null,null,null,null,null,0,{"$f":"IF(Input!$G$14=0,0,SUM(M151:P151))","v":0},{"$f":"IF(Input!$H$14=0,0,SUM(Q151:T151))","v":0},{"$f":"IF(Input!$I$14=0,0,SUM(U151:X151))","v":0},{"$f":"IF(Input!$J$14=0,0,SUM(Y151:AB151))","v":0}]
[null,{"$f":"'D-704 Standards'!B152","v":704},{"$f":"'D-704 Standards'!C152","v":3510},{"$f":"'D-704 Standards'!D152","v":"PRECAST CONCRETE MED BARRIER - STATE FURNISHED"},null,null,null,null,null,null,null,null,null,null,null,null,null,null,null,null,null,null,null,null,null,null,null,null,0,{"$f":"IF(Input!$G$14=0,0,SUM(M152:P152))","v":0},{"$f":"IF(Input!$H$14=0,0,SUM(Q152:T152))","v":0},{"$f":"IF(Input!$I$14=0,0,SUM(U152:X152))","v":0},{"$f":"IF(Input!$J$14=0,0,SUM(Y152:AB152))","v":0}]
[null,{"$f":"'D-704 Standards'!B153","v":762},{"$f":"'D-704 Standards'!C153","v":200},{"$f":"'D-704 Standards'!D153","v":"RAISED PAVEMENT MARKERS"},null,null,null,null,null,null,null,null,null,null,null,null,null,null,null,null,null,null,null,null,null,null,null,null,0,{"$f":"IF(Input!$G$14=0,0,SUM(M153:P153))","v":0},{"$f":"IF(Input!$H$14=0,0,SUM(Q153:T153))","v":0},{"$f":"IF(Input!$I$14=0,0,SUM(U153:X153))","v":0},{"$f":"IF(Input!$J$14=0,0,SUM(Y153:AB153))","v":0}]
[null,{"$f":"'D-704 Standards'!B154","v":762},{"$f":"'D-704 Standards'!C154","v":420},{"$f":"'D-704 Standards'!D154","v":"SHORT TERM 4IN LINE - TYPE R"},null,null,null,null,null,null,null,null,null,null,null,null,null,null,null,null,null,null,null,null,null,null,null,null,0,{"$f":"IF(Input!$G$14=0,0,SUM(M154:P154))","v":0},{"$f":"IF(Input!$H$14=0,0,SUM(Q154:T154))","v":0},{"$f":"IF(Input!$I$14=0,0,SUM(U154:X154))","v":0},{"$f":"IF(Input!$J$14=0,0,SUM(Y154:AB154))","v":0}]
[null,{"$f":"'D-704 Standards'!B155","v":762},{"$f":"'D-704 Standards'!C155","v":430},{"$f":"'D-704 Standards'!D155","v":"SHORT TERM 4IN LINE - TYPE NR"},null,null,null,null,null,null,null,null,null,null,null,null,null,null,null,null,null,null,null,null,null,null,null,null,0,{"$f":"IF(Input!$G$14=0,0,SUM(M155:P155))","v":0},{"$f":"IF(Input!$H$14=0,0,SUM(Q155:T155))","v":0},{"$f":"IF(Input!$I$14=0,0,SUM(U155:X155))","v":0},{"$f":"IF(Input!$J$14=0,0,SUM(Y155:AB155))","v":0}]
[null,{"$f":"'D-704 Standards'!B156","v":704},{"$f":"'D-704 Standards'!C156","v":1500},{"$f":"'D-704 Standards'!D156","v":"OBLITERATION OF PVMT MK"},null,null,null,null,null,null,null,null,null,null,null,null,null,null,null,null,null,null,null,null,null,null,null,null,0,{"$f":"IF(Input!$G$14=0,0,SUM(M156:P156))","v":0},{"$f":"IF(Input!$H$14=0,0,SUM(Q156:T156))","v":0},{"$f":"IF(Input!$I$14=0,0,SUM(U156:X156))","v":0},{"$f":"IF(Input!$J$14=0,0,SUM(Y156:AB156))","v":0}]
[null,{"$f":"ROUNDDOWN((Input!L35/10000),0)","v":0},{"$f":"((Input!L35/10000)-'Sheet Summary'!B157)*10000","v":0},{"$f":"Input!M35","v":0},null,null,null,null,null,null,null,null,null,null,null,null,null,null,null,null,null,null,null,null,null,null,null,null,0,{"$f":"IF(Input!$G$14=0,0,SUM(M157:P157))","v":0},{"$f":"IF(Input!$H$14=0,0,SUM(Q157:T157))","v":0},{"$f":"IF(Input!$I$14=0,0,SUM(U157:X157))","v":0},{"$f":"IF(Input!$J$14=0,0,SUM(Y157:AB157))","v":0}]
[null,{"$f":"ROUNDDOWN((Input!L36/10000),0)","v":0},{"$f":"((Input!L36/10000)-'Sheet Summary'!B158)*10000","v":0},{"$f":"Input!M36","v":0},null,null,null,null,null,null,null,null,null,null,null,null,null,null,null,null,null,null,null,null,null,null,null,null,0,{"$f":"IF(Input!$G$14=0,0,SUM(M158:P158))","v":0},{"$f":"IF(Input!$H$14=0,0,SUM(Q158:T158))","v":0},{"$f":"IF(Input!$I$14=0,0,SUM(U158:X158))","v":0},{"$f":"IF(Input!$J$14=0,0,SUM(Y158:AB158))","v":0}]
[null,{"$f":"ROUNDDOWN((Input!L37/10000),0)","v":0},{"$f":"((Input!L37/10000)-'Sheet Summary'!B159)*10000","v":0},{"$f":"Input!M37","v":0},null,null,null,null,null,null,null,null,null,null,null,null,null,null,null,null,null,null,null,null,null,null,null,null,0,{"$f":"IF(Input!$G$14=0,0,SUM(M159:P159))","v":0},{"$f":"IF(Input!$H$14=0,0,SUM(Q159:T159))","v":0},{"$f":"IF(Input!$I$14=0,0,SUM(U159:X159))","v":0},{"$f":"IF(Input!$J$14=0,0,SUM(Y159:AB159))","v":0}]
[null,{"$f":"ROUNDDOWN((Input!L38/10000),0)","v":0},{"$f":"((Input!L38/10000)-'Sheet Summary'!B160)*10000","v":0},{"$f":"Input!M38","v":0},null,null,null,null,null,null,null,null,null,null,null,null,null,null,null,null,null,null,null,null,null,null,null,null,0,{"$f":"IF(Input!$G$14=0,0,SUM(M160:P160))","v":0},{"$f":"IF(Input!$H$14=0,0,SUM(Q160:T160))","v":0},{"$f":"IF(Input!$I$14=0,0,SUM(U160:X160))","v":0},{"$f":"IF(Input!$J$14=0,0,SUM(Y160:AB160))","v":0}]
[null,{"$f":"ROUNDDOWN((Input!L39/10000),0)","v":0},{"$f":"((Input!L39/10000)-'Sheet Summary'!B161)*10000","v":0},{"$f":"Input!M39","v":0},null,null,null,null,null,null,null,null,null,null,null,null,null,null,null,null,null,null,null,null,null,null,null,null,0,{"$f":"IF(Input!$G$14=0,0,SUM(M161:P161))","v":0},{"$f":"IF(Input!$H$14=0,0,SUM(Q161:T161))","v":0},{"$f":"IF(Input!$I$14=0,0,SUM(U161:X161))","v":0},{"$f":"IF(Input!$J$14=0,0,SUM(Y161:AB161))","v":0}]
[null,{"$f":"ROUNDDOWN((Input!L40/10000),0)","v":0},{"$f":"((Input!L40/10000)-'Sheet Summary'!B162)*10000","v":0},{"$f":"Input!M40","v":0},null,null,null,null,null,null,null,null,null,null,null,null,null,null,null,null,null,null,null,null,null,null,null,null,0,{"$f":"IF(Input!$G$14=0,0,SUM(M162:P162))","v":0},{"$f":"IF(Input!$H$14=0,0,SUM(Q162:T162))","v":0},{"$f":"IF(Input!$I$14=0,0,SUM(U162:X162))","v":0},{"$f":"IF(Input!$J$14=0,0,SUM(Y162:AB162))","v":0}]
[null,{"$f":"ROUNDDOWN((Input!L41/10000),0)","v":0},{"$f":"((Input!L41/10000)-'Sheet Summary'!B163)*10000","v":0},{"$f":"Input!M41","v":0},null,null,null,null,null,null,null,null,null,null,null,null,null,null,null,null,null,null,null,null,null,null,null,null,0,{"$f":"IF(Input!$G$14=0,0,SUM(M163:P163))","v":0},{"$f":"IF(Input!$H$14=0,0,SUM(Q163:T163))","v":0},{"$f":"IF(Input!$I$14=0,0,SUM(U163:X163))","v":0},{"$f":"IF(Input!$J$14=0,0,SUM(Y163:AB163))","v":0}]
[null,{"$f":"ROUNDDOWN((Input!L42/10000),0)","v":0},{"$f":"((Input!L42/10000)-'Sheet Summary'!B164)*10000","v":0},{"$f":"Input!M42","v":0},null,null,null,null,null,null,null,null,null,null,null,null,null,null,null,null,null,null,null,null,null,null,null,null,0,{"$f":"IF(Input!$G$14=0,0,SUM(M164:P164))","v":0},{"$f":"IF(Input!$H$14=0,0,SUM(Q164:T164))","v":0},{"$f":"IF(Input!$I$14=0,0,SUM(U164:X164))","v":0},{"$f":"IF(Input!$J$14=0,0,SUM(Y164:AB164))","v":0}]
[null,{"$f":"ROUNDDOWN((Input!L43/10000),0)","v":0},{"$f":"((Input!L43/10000)-'Sheet Summary'!B165)*10000","v":0},{"$f":"Input!M43","v":0},null,null,null,null,null,null,null,null,null,null,null,null,null,null,null,null,null,null,null,null,null,null,null,null,0,{"$f":"IF(Input!$G$14=0,0,SUM(M165:P165))","v":0},{"$f":"IF(Input!$H$14=0,0,SUM(Q165:T165))","v":0},{"$f":"IF(Input!$I$14=0,0,SUM(U165:X165))","v":0},{"$f":"IF(Input!$J$14=0,0,SUM(Y165:AB165))","v":0}]
[null,{"$f":"ROUNDDOWN((Input!L44/10000),0)","v":0},{"$f":"((Input!L44/10000)-'Sheet Summary'!B166)*10000","v":0},{"$f":"Input!M44","v":0},null,null,null,null,null,null,null,null,null,null,null,null,null,null,null,null,null,null,null,null,null,null,null,null,0,{"$f":"IF(Input!$G$14=0,0,SUM(M166:P166))","v":0},{"$f":"IF(Input!$H$14=0,0,SUM(Q166:T166))","v":0},{"$f":"IF(Input!$I$14=0,0,SUM(U166:X166))","v":0},{"$f":"IF(Input!$J$14=0,0,SUM(Y166:AB166))","v":0}]

{"sheet":"Plan Sheet","index":2,"n_rows":90,"n_cols":39,"rows_kept":90,"cut":false,"hidden":false,"merged":[[61,14,61,15],[68,16,68,17],[85,25,85,27],[83,14,83,15],[84,14,84,15],[62,16,62,17],[63,16,63,17],[62,28,62,30],[48,14,48,15],[49,14,49,15],[62,23,62,24],[63,23,63,24],[64,23,64,24],[61,23,61,24],[77,25,77,27],[80,14,80,15],[81,14,81,15],[72,14,72,15],[73,14,73,15],[74,14,74,15],[64,14,64,15],[65,14,65,15],[66,14,66,15],[66,16,66,17],[85,14,85,15],[82,21,82,22],[64,16,64,17],[65,16,65,17],[85,16,85,17],[76,16,76,17],[77,16,77,17],[78,16,78,17],[79,16,79,17],[80,16,80,17],[81,16,81,17],[82,16,82,17],[76,14,76,15],[77,14,77,15],[78,14,78,15],[79,14,79,15],[69,16,69,17],[70,16,70,17],[82,14,82,15],[67,14,67,15],[67,16,67,17],[73,16,73,17],[74,16,74,17],[75,16,75,17],[53,14,53,16],[39,27,39,28],[40,27,40,28],[58,19,58,24],[60,23,60,24],[57,16,59,17],[60,16,60,17],[57,18,59,18],[60,14,60,15],[59,25,59,27],[60,25,60,27],[42,14,42,15],[54,14,54,16],[57,14,59,15],[42,24,42,25],[44,27,44,28],[41,14,41,15],[58,25,58,27],[41,24,41,25],[42,27,42,28],[40,14,40,15],[39,24,39,25],[40,24,40,25],[51,14,51,15],[89,21,89,22],[86,21,86,22],[83,21,83,22],[87,21,87,22],[88,21,88,22],[84,21,84,22],[85,21,85,22],[79,21,79,22],[80,21,80,22],[81,21,81,22],[89,25,89,27],[78,25,78,27],[79,25,79,27],[80,25,80,27],[81,25,81,27],[82,25,82,27],[84,25,84,27],[89,23,89,24],[88,23,88,24],[86,25,86,27],[87,25,87,27],[83,25,83,27],[88,25,88,27],[77,21,77,22],[71,16,71,17],[83,16,83,17],[84,16,84,17],[67,21,67,22],[68,21,68,22],[69,21,69,22],[74,21,74,22],[75,21,75,22],[70,21,70,22],[76,21,76,22],[78,21,78,22],[71,21,71,22],[72,21,72,22],[73,21,73,22],[63,14,63,15],[62,14,62,15],[62,21,62,22],[61,21,61,22],[61,16,61,17],[66,23,66,24],[78,23,78,24],[79,23,79,24],[87,23,87,24],[69,23,69,24],[70,23,70,24],[71,23,71,24],[72,23,72,24],[74,23,74,24],[80,23,80,24],[68,23,68,24],[83,23,83,24],[84,23,84,24],[85,23,85,24],[86,23,86,24],[77,23,77,24],[81,23,81,24],[82,23,82,24],[67,23,67,24],[68,14,68,15],[69,14,69,15],[70,14,70,15],[71,14,71,15],[75,14,75,15],[72,16,72,17],[64,21,64,22],[57,19,57,27],[76,23,76,24],[74,25,74,27],[75,25,75,27],[76,25,76,27],[75,23,75,24],[73,23,73,24],[59,23,59,24],[60,21,60,22],[59,21,59,22],[65,21,65,22],[66,21,66,22],[68,25,68,27],[65,25,65,27],[73,25,73,27],[72,25,72,27],[69,25,69,27],[91,1,91,3],[91,4,91,16],[87,14,87,15],[88,14,88,15],[89,14,89,15],[87,16,87,17],[88,16,88,17],[89,16,89,17],[86,14,86,15],[86,16,86,17],[63,21,63,22],[63,28,63,30],[71,25,71,27],[65,23,65,24],[67,28,67,30],[69,28,69,30],[70,28,70,30],[45,29,45,31],[43,29,43,31],[44,29,44,31],[66,25,66,27],[67,25,67,27],[70,25,70,27],[64,25,64,27],[51,24,51,25],[61,25,61,27],[62,25,62,27],[63,25,63,27],[57,28,59,30],[60,28,60,30],[61,28,61,30],[53,29,53,33],[48,32,48,33],[49,32,49,33],[44,14,44,15],[45,14,45,15],[46,14,46,15],[47,14,47,15],[50,14,50,15],[43,24,43,25],[44,24,44,25],[49,24,49,25],[45,24,45,25],[46,24,46,25],[47,24,47,25],[48,24,48,25],[50,24,50,25],[43,14,43,15],[5,2,7,2],[5,3,7,3],[5,4,7,4],[5,5,5,9],[6,5,6,9],[24,14,24,15],[5,10,7,10],[10,14,10,15],[11,14,11,15],[12,14,12,15],[13,14,13,15],[23,14,23,15],[17,14,17,15],[18,14,18,15],[19,14,19,15],[20,14,20,15],[21,14,21,15],[22,14,22,15],[9,14,9,15],[14,14,14,15],[27,14,27,15],[32,14,32,15],[39,14,39,15],[5,11,7,11],[5,12,7,12],[5,14,7,14],[38,14,38,15],[28,14,28,15],[33,14,33,15],[15,14,15,15],[16,14,16,15],[37,14,37,15],[34,14,34,15],[17,32,17,33],[11,32,11,33],[12,32,12,33],[13,32,13,33],[19,29,19,31],[20,29,20,31],[13,29,13,31],[28,32,28,33],[26,32,26,33],[27,32,27,33],[31,27,31,28],[11,27,11,28],[20,27,20,28],[29,14,29,15],[25,14,25,15],[26,14,26,15],[5,16,7,16],[8,14,8,15],[14,29,14,31],[15,29,15,31],[18,29,18,31],[5,17,7,17],[30,27,30,28],[28,27,28,28],[29,27,29,28],[15,24,15,25],[16,24,16,25],[21,24,21,25],[20,24,20,25],[12,24,12,25],[11,24,11,25],[23,29,23,31],[30,14,30,15],[31,14,31,15],[6,22,6,28],[13,27,13,28],[15,27,15,28],[8,24,8,25],[7,27,7,28],[14,24,14,25],[8,29,8,31],[34,29,34,31],[28,24,28,25],[33,24,33,25],[9,29,9,31],[10,29,10,31],[32,24,32,25],[29,24,29,25],[27,24,27,25],[30,24,30,25],[25,24,25,25],[26,24,26,25],[28,29,28,31],[29,29,29,31],[26,29,26,31],[27,29,27,31],[33,29,33,31],[30,29,30,31],[10,35,11,38],[8,32,8,33],[3,30,3,36],[11,29,11,31],[5,32,7,33],[5,22,5,28],[24,24,24,25],[22,27,22,28],[14,32,14,33],[21,27,21,28],[15,32,15,33],[17,27,17,28],[7,24,7,25],[17,24,17,25],[18,24,18,25],[19,24,19,25],[10,32,10,33],[22,29,22,31],[23,27,23,28],[24,29,24,31],[22,24,22,25],[21,29,21,31],[5,29,7,31],[24,27,24,28],[49,36,57,37],[43,32,43,33],[34,32,34,33],[37,32,37,33],[54,29,54,34],[49,29,49,31],[12,35,13,38],[14,35,15,38],[1,28,2,29],[3,28,3,29],[18,27,18,28],[10,27,10,28],[12,29,12,31],[32,29,32,31],[25,29,25,31],[1,30,2,36],[32,32,32,33],[20,32,20,33],[21,32,21,33],[22,32,22,33],[23,32,23,33],[24,32,24,33],[25,32,25,33],[18,32,18,33],[51,32,51,33],[38,32,38,33],[37,27,37,28],[34,27,34,28],[41,29,41,31],[30,32,30,33],[33,27,33,28],[33,32,33,33],[42,32,42,33],[42,29,42,31],[41,32,41,33],[44,32,44,33],[39,32,39,33],[40,32,40,33],[31,29,31,31],[50,32,50,33],[43,27,43,28],[49,27,49,28],[50,27,50,28],[51,27,51,28],[51,29,51,31],[45,32,45,33],[46,32,46,33],[47,32,47,33],[25,27,25,28],[26,27,26,28],[27,27,27,28],[19,27,19,28],[32,27,32,28],[8,27,8,28],[16,32,16,33],[38,24,38,25],[38,27,38,28],[34,24,34,25],[37,24,37,25],[9,32,9,33],[9,24,9,25],[10,24,10,25],[13,24,13,25],[23,24,23,25],[9,27,9,28],[12,27,12,28],[14,27,14,28],[17,29,17,31],[16,29,16,31],[16,27,16,28],[29,32,29,33],[31,24,31,25],[46,29,46,31],[48,29,48,31],[50,29,50,31],[64,36,79,38],[85,33,86,38],[78,28,78,30],[79,28,79,30],[71,28,71,30],[72,28,72,30],[73,28,73,30],[80,28,80,30],[65,28,65,30],[64,28,64,30],[66,28,66,30],[68,28,68,30],[77,28,77,30],[83,33,84,38],[83,28,83,30],[84,28,84,30],[81,33,82,38],[76,28,76,30],[74,28,74,30],[75,28,75,30],[81,28,81,30],[89,33,90,38],[5,34,7,34],[19,32,19,33],[5,35,5,38],[6,35,7,38],[8,35,9,38],[89,28,89,30],[37,29,37,31],[38,29,38,31],[47,29,47,31],[45,27,45,28],[46,27,46,28],[48,27,48,28],[39,29,39,31],[40,29,40,31],[41,27,41,28],[47,27,47,28],[31,32,31,33],[86,28,86,30],[87,28,87,30],[88,28,88,30],[82,28,82,30],[85,28,85,30],[87,33,88,38]]}
[]
[null,null,null,null,null,null,null,null,null,null,null,null,null,null,null,null,null,null,null,null,null,null,null,null,null,null,null,null,"STATE",null,"PROJECT NO.",null,null,null,null,null,null,"SECTION","SHEET"]
[null,null,null,null,null,null,null,null,null,null,null,null,null,null,null,null,null,null,null,null,null,null,null,null,null,null,null,null,null,null,null,null,null,null,null,null,null,"NO.","NO."]
[null,null,null,null,null,null,{"$f":"E4*F4","v":0},null,null,null,null,null,null,null,null,null,null,null,null,null,null,null,null,null,null,null,null,null,"ND",null,{"$f":"Input!C2","v":0},null,null,null,null,null,null,100,{"$f":"Input!C4","v":0}]
[]
[null,null,"SIGN NUMBER","SIGN SIZE","DESCRIPTION",{"$f":"IF(COUNTBLANK(Input!F14:J14)=5,\"\",\"AMOUNT REQUIRED\")","v":""},null,null,null,null,{"$f":"IF(COUNTBLANK(Input!F14:J14)=5,\"AMOUNT REQUIRED\",\"TOTAL AMOUNT REQUIRED\")","v":"AMOUNT REQUIRED"},"UNITS PER AMOUNT","UNITS SUB TOTAL",null,"SIGN NUMBER",null,"SIGN SIZE","DESCRIPTION",null,null,null,null,{"$f":"IF(COUNTBLANK(Input!F14:J14)=5,\"\",\"AMOUNT REQUIRED\")","v":""},null,null,null,null,null,null,{"$f":"IF(COUNTBLANK(Input!F14:J14)=5,\"AMOUNT REQUIRED\",\"TOTAL AMOUNT REQUIRED\")","v":"AMOUNT REQUIRED"},null,null,"UNITS PER AMOUNT",null,"UNITS SUB TOTAL",{"$f":"IF(OR(AJ7>0,AJ9>0,AJ11>0,AJ13>0,AJ15>0),\"PROJECT NO.\",\"\")","v":""}]
[null,null,null,null,null,{"$f":"IF(COUNTBLANK(Input!F14:J14)=5,\"\",\"BY PHASE NO.\")","v":""},null,null,null,null,null,null,null,null,null,null,null,null,null,null,null,null,{"$f":"IF(COUNTBLANK(Input!F14:J14)=5,\"\",\"BY PHASE NO.\")","v":""}]
[null,null,null,null,null,{"$f":"Input!F14","v":0},{"$f":"Input!G14","v":0},{"$f":"Input!H14","v":0},{"$f":"Input!I14","v":0},{"$f":"Input!J14","v":0},null,null,null,null,null,null,null,null,null,null,null,null,{"$f":"Input!F14","v":0},{"$f":"Input!G14","v":0},{"$f":"Input!H14","v":0},null,{"$f":"Input!I14","v":0},{"$f":"Input!J14","v":0}]
[null,null,{"$f":"Calculations!B4","v":"E5-1-48"},{"$f":"Calculations!I4","v":"48\"x48\""},{"$f":"Calculations!J4","v":"EXIT GORE"},{"$f":"IF(Input!F$14=0,0,Calculations!L4)","v":0},{"$f":"IF(Input!G$14=0,0,Calculations!M4)","v":0},{"$f":"IF(Input!H$14=0,0,Calculations!N4)","v":0},{"$f":"IF(Input!I$14=0,0,Calculations!O4)","v":0},{"$f":"IF(Input!J$14=0,0,Calculations!P4)","v":0},{"$f":"MAX(Calculations!L4:P4)","v":0},{"$f":"Calculations!K4","v":35},{"$f":"IF(AND(K9>0,K9*L9=0),\"NO UNITS\",K9*L9)","v":0},null,{"$f":"Calculations!B86","v":"W21-6-48"},null,{"$f":"Calculations!I86","v":"48\"x48\""},{"$f":"Calculations!J86","v":"SURVEY CREW"},null,null,null,null,{"$f":"IF(Input!F$14=0,0,Calculations!L86)","v":0},{"$f":"IF(Input!G$14=0,0,Calculations!M86)","v":0},{"$f":"IF(Input!H$14=0,0,Calculations!N86)","v":0},null,{"$f":"IF(Input!I$14=0,0,Calculations!O86)","v":0},{"$f":"IF(Input!J$14=0,0,Calculations!P86)","v":0},null,{"$f":"MAX(Calculations!L86:P86)","v":0},null,null,{"$f":"Calculations!K86","v":35},null,{"$f":"IF(AND(AD9>0,AD9*AG9=0),\"NO UNITS\",AD9*AG9)","v":0}]
[null,null,{"$f":"Calculations!B5","v":"G20-1-60"},{"$f":"Calculations!I5","v":"60\"x24\""},{"$f":"Calculations!J5","v":"ROAD WORK NEXT __ MILES"},{"$f":"IF(Input!F$14=0,0,Calculations!L5)","v":0},{"$f":"IF(Input!G$14=0,0,Calculations!M5)","v":0},{"$f":"IF(Input!H$14=0,0,Calculations!N5)","v":0},{"$f":"IF(Input!I$14=0,0,Calculations!O5)","v":0},{"$f":"IF(Input!J$14=0,0,Calculations!P5)","v":0},{"$f":"MAX(Calculations!L5:P5)","v":0},{"$f":"Calculations!K5","v":28},{"$f":"IF(AND(K10>0,K10*L10=0),\"NO UNITS\",K10*L10)","v":0},null,{"$f":"Calculations!B87","v":"W21-50-48"},null,{"$f":"Calculations!I87","v":"48\"x48\""},{"$f":"Calculations!J87","v":"BRIDGE PAINTING AHEAD or __ FT"},null,null,null,null,{"$f":"IF(Input!F$14=0,0,Calculations!L87)","v":0},{"$f":"IF(Input!G$14=0,0,Calculations!M87)","v":0},{"$f":"IF(Input!H$14=0,0,Calculations!N87)","v":0},null,{"$f":"IF(Input!I$14=0,0,Calculations!O87)","v":0},{"$f":"IF(Input!J$14=0,0,Calculations!P87)","v":0},null,{"$f":"MAX(Calculations!L87:P87)","v":0},null,null,{"$f":"Calculations!K87","v":35},null,{"$f":"IF(AND(AD10>0,AD10*AG10=0),\"NO UNITS\",AD10*AG10)","v":0}]
[null,null,{"$f":"Calculations!B6","v":"G20-1b-60"},{"$f":"Calculations!I6","v":"60\"x24\""},{"$f":"Calculations!J6","v":"NO WORK IN PROGRESS (Sign and installation only)"},{"$f":"IF(Input!F$14=0,0,Calculations!L6)","v":0},{"$f":"IF(Input!G$14=0,0,Calculations!M6)","v":0},{"$f":"IF(Input!H$14=0,0,Calculations!N6)","v":0},{"$f":"IF(Input!I$14=0,0,Calculations!O6)","v":0},{"$f":"IF(Input!J$14=0,0,Calculations!P6)","v":0},{"$f":"MAX(Calculations!L6:P6)","v":0},{"$f":"Calculations!K6","v":18},0,null,{"$f":"Calculations!B88","v":"W21-51-48"},null,{"$f":"Calculations!I88","v":"48\"x48\""},{"$f":"Calculations!J88","v":"MATERIAL ON ROADWAY"},null,null,null,null,{"$f":"IF(Input!F$14=0,0,Calculations!L88)","v":0},{"$f":"IF(Input!G$14=0,0,Calculations!M88)","v":0},{"$f":"IF(Input!H$14=0,0,Calculations!N88)","v":0},null,{"$f":"IF(Input!I$14=0,0,Calculations!O88)","v":0},{"$f":"IF(Input!J$14=0,0,Calculations!P88)","v":0},null,{"$f":"MAX(Calculations!L88:P88)","v":0},null,null,{"$f":"Calculations!K88","v":35},null,0]
[null,null,{"$f":"Calculations!B7","v":"G20-2-48"},{"$f":"Calculations!I7","v":"48\"x24\""},{"$f":"Calculations!J7","v":"END ROAD WORK"},{"$f":"IF(Input!F$14=0,0,Calculations!L7)","v":0},{"$f":"IF(Input!G$14=0,0,Calculations!M7)","v":0},{"$f":"IF(Input!H$14=0,0,Calculations!N7)","v":0},{"$f":"IF(Input!I$14=0,0,Calculations!O7)","v":0},{"$f":"IF(Input!J$14=0,0,Calculations!P7)","v":0},{"$f":"MAX(Calculations!L7:P7)","v":0},{"$f":"Calculations!K7","v":26},0,null,{"$f":"Calculations!B89","v":"W21-52-48"},null,{"$f":"Calculations!I89","v":"48\"x48\""},{"$f":"Calculations!J89","v":"PAVEMENT BREAKS"},null,null,null,null,{"$f":"IF(Input!F$14=0,0,Calculations!L89)","v":0},{"$f":"IF(Input!G$14=0,0,Calculations!M89)","v":0},{"$f":"IF(Input!H$14=0,0,Calculations!N89)","v":0},null,{"$f":"IF(Input!I$14=0,0,Calculations!O89)","v":0},{"$f":"IF(Input!J$14=0,0,Calculations!P89)","v":0},null,{"$f":"MAX(Calculations!L89:P89)","v":0},null,null,{"$f":"Calculations!K89","v":35},null,0]
[null,null,{"$f":"Calculations!B8","v":"G20-4-36"},{"$f":"Calculations!I8","v":"36\"x18\""},{"$f":"Calculations!J8","v":"PILOT CAR FOLLOW ME (Mounted to back of pilot car)"},{"$f":"IF(Input!F$14=0,0,Calculations!L8)","v":0},{"$f":"IF(Input!G$14=0,0,Calculations!M8)","v":0},{"$f":"IF(Input!H$14=0,0,Calculations!N8)","v":0},{"$f":"IF(Input!I$14=0,0,Calculations!O8)","v":0},{"$f":"IF(Input!J$14=0,0,Calculations!P8)","v":0},{"$f":"MAX(Calculations!L8:P8)","v":0},{"$f":"Calculations!K8","v":18},0,null,{"$f":"Calculations!B90","v":"W21-53-48"},null,{"$f":"Calculations!I90","v":"48\"x48\""},{"$f":"Calculations!J90","v":"RUMBLE STRIPS AHEAD"},null,null,null,null,{"$f":"IF(Input!F$14=0,0,Calculations!L90)","v":0},{"$f":"IF(Input!G$14=0,0,Calculations!M90)","v":0},{"$f":"IF(Input!H$14=0,0,Calculations!N90)","v":0},null,{"$f":"IF(Input!I$14=0,0,Calculations!O90)","v":0},{"$f":"IF(Input!J$14=0,0,Calculations!P90)","v":0},null,{"$f":"MAX(Calculations!L90:P90)","v":0},null,null,{"$f":"Calculations!K90","v":35},null,0]
[null,null,{"$f":"Calculations!B9","v":"G20-4b-36"},{"$f":"Calculations!I9","v":"36\"x30\""},{"$f":"Calculations!J9","v":"WAIT FOR PILOT CAR"},{"$f":"IF(Input!F$14=0,0,Calculations!L9)","v":0},{"$f":"IF(Input!G$14=0,0,Calculations!M9)","v":0},{"$f":"IF(Input!H$14=0,0,Calculations!N9)","v":0},{"$f":"IF(Input!I$14=0,0,Calculations!O9)","v":0},{"$f":"IF(Input!J$14=0,0,Calculations!P9)","v":0},{"$f":"MAX(Calculations!L9:P9)","v":0},{"$f":"Calculations!K9","v":18},0,null,{"$f":"Calculations!B91","v":"W22-8-48"},null,{"$f":"Calculations!I91","v":"48\"x48\""},{"$f":"Calculations!J91","v":"FRESH OIL LOOSE ROCK"},null,null,null,null,{"$f":"IF(Input!F$14=0,0,Calculations!L91)","v":0},{"$f":"IF(Input!G$14=0,0,Calculations!M91)","v":0},{"$f":"IF(Input!H$14=0,0,Calculations!N91)","v":0},null,{"$f":"IF(Input!I$14=0,0,Calculations!O91)","v":0},{"$f":"IF(Input!J$14=0,0,Calculations!P91)","v":0},null,{"$f":"MAX(Calculations!L91:P91)","v":0},null,null,{"$f":"Calculations!K91","v":35},null,0]
[null,null,{"$f":"Calculations!B10","v":"G20-50a-72"},{"$f":"Calculations!I10","v":"72\"x36\""},{"$f":"Calculations!J10","v":"ROAD WORK NEXT __ MILES RT & LT ARROWS"},{"$f":"IF(Input!F$14=0,0,Calculations!L10)","v":0},{"$f":"IF(Input!G$14=0,0,Calculations!M10)","v":0},{"$f":"IF(Input!H$14=0,0,Calculations!N10)","v":0},{"$f":"IF(Input!I$14=0,0,Calculations!O10)","v":0},{"$f":"IF(Input!J$14=0,0,Calculations!P10)","v":0},{"$f":"MAX(Calculations!L10:P10)","v":0},{"$f":"Calculations!K10","v":43},0,null,{"$f":"Calculations!B92","v":"W24-1-48"},null,{"$f":"Calculations!I92","v":"48\"x48\""},{"$f":"Calculations!J92","v":"DOUBLE REVERSE CURVE"},null,null,null,null,{"$f":"IF(Input!F$14=0,0,Calculations!L92)","v":0},{"$f":"IF(Input!G$14=0,0,Calculations!M92)","v":0},{"$f":"IF(Input!H$14=0,0,Calculations!N92)","v":0},null,{"$f":"IF(Input!I$14=0,0,Calculations!O92)","v":0},{"$f":"IF(Input!J$14=0,0,Calculations!P92)","v":0},null,{"$f":"MAX(Calculations!L92:P92)","v":0},null,null,{"$f":"Calculations!K92","v":35},null,0]
[null,null,{"$f":"Calculations!B11","v":"G20-52a-72"},{"$f":"Calculations!I11","v":"72\"x24\""},{"$f":"Calculations!J11","v":"ROAD WORK NEXT __ MILES RT or LT ARROW"},{"$f":"IF(Input!F$14=0,0,Calculations!L11)","v":0},{"$f":"IF(Input!G$14=0,0,Calculations!M11)","v":0},{"$f":"IF(Input!H$14=0,0,Calculations!N11)","v":0},{"$f":"IF(Input!I$14=0,0,Calculations!O11)","v":0},{"$f":"IF(Input!J$14=0,0,Calculations!P11)","v":0},{"$f":"MAX(Calculations!L11:P11)","v":0},{"$f":"Calculations!K11","v":36},0,null,{"$f":"Calculations!B93","v":0},null,{"$f":"Calculations!I93","v":0},{"$f":"Calculations!J93","v":0},null,null,null,null,{"$f":"IF(Input!F$14=0,0,Calculations!L93)","v":0},{"$f":"IF(Input!G$14=0,0,Calculations!M93)","v":0},{"$f":"IF(Input!H$14=0,0,Calculations!N93)","v":0},null,{"$f":"IF(Input!I$14=0,0,Calculations!O93)","v":0},{"$f":"IF(Input!J$14=0,0,Calculations!P93)","v":0},null,{"$f":"MAX(Calculations!L93:P93)","v":0},null,null,{"$f":"Calculations!K93","v":0},null,0]
[null,null,{"$f":"Calculations!B12","v":"G20-55-96"},{"$f":"Calculations!I12","v":"96\"x48\""},{"$f":"Calculations!J12","v":"SPEED LIMIT ENFORCED - MINIMUM FEE $150 WHEN WORKERS PRESENT"},{"$f":"IF(Input!F$14=0,0,Calculations!L12)","v":0},{"$f":"IF(Input!G$14=0,0,Calculations!M12)","v":0},{"$f":"IF(Input!H$14=0,0,Calculations!N12)","v":0},{"$f":"IF(Input!I$14=0,0,Calculations!O12)","v":0},{"$f":"IF(Input!J$14=0,0,Calculations!P12)","v":0},{"$f":"MAX(Calculations!L12:P12)","v":0},{"$f":"Calculations!K12","v":59},0,null,{"$f":"Calculations!B94","v":0},null,{"$f":"Calculations!I94","v":0},{"$f":"Calculations!J94","v":0},null,null,null,null,{"$f":"IF(Input!F$14=0,0,Calculations!L94)","v":0},{"$f":"IF(Input!G$14=0,0,Calculations!M94)","v":0},{"$f":"IF(Input!H$14=0,0,Calculations!N94)","v":0},null,{"$f":"IF(Input!I$14=0,0,Calculations!O94)","v":0},{"$f":"IF(Input!J$14=0,0,Calculations!P94)","v":0},null,{"$f":"MAX(Calculations!L94:P94)","v":0},null,null,{"$f":"Calculations!K94","v":0},null,0]
[null,null,{"$f":"Calculations!B13","v":"M1-1-36"},{"$f":"Calculations!I13","v":"36\"x36\""},{"$f":"Calculations!J13","v":"INTERSTATE ROUTE MARKER (Post and installation only)"},{"$f":"IF(Input!F$14=0,0,Calculations!L13)","v":0},{"$f":"IF(Input!G$14=0,0,Calculations!M13)","v":0},{"$f":"IF(Input!H$14=0,0,Calculations!N13)","v":0},{"$f":"IF(Input!I$14=0,0,Calculations!O13)","v":0},{"$f":"IF(Input!J$14=0,0,Calculations!P13)","v":0},{"$f":"MAX(Calculations!L13:P13)","v":0},{"$f":"Calculations!K13","v":11},0,null,{"$f":"Calculations!B95","v":0},null,{"$f":"Calculations!I95","v":0},{"$f":"Calculations!J95","v":0},null,null,null,null,{"$f":"IF(Input!F$14=0,0,Calculations!L95)","v":0},{"$f":"IF(Input!G$14=0,0,Calculations!M95)","v":0},{"$f":"IF(Input!H$14=0,0,Calculations!N95)","v":0},null,{"$f":"IF(Input!I$14=0,0,Calculations!O95)","v":0},{"$f":"IF(Input!J$14=0,0,Calculations!P95)","v":0},null,{"$f":"MAX(Calculations!L95:P95)","v":0},null,null,{"$f":"Calculations!K95","v":0},null,0]
[null,null,{"$f":"Calculations!B14","v":"M1-4-24"},{"$f":"Calculations!I14","v":"24\"x24\""},{"$f":"Calculations!J14","v":"U.S. ROUTE MARKER (Post and installation only)"},{"$f":"IF(Input!F$14=0,0,Calculations!L14)","v":0},{"$f":"IF(Input!G$14=0,0,Calculations!M14)","v":0},{"$f":"IF(Input!H$14=0,0,Calculations!N14)","v":0},{"$f":"IF(Input!I$14=0,0,Calculations!O14)","v":0},{"$f":"IF(Input!J$14=0,0,Calculations!P14)","v":0},{"$f":"MAX(Calculations!L14:P14)","v":0},{"$f":"Calculations!K14","v":10},0,null,{"$f":"Calculations!B96","v":0},null,{"$f":"Calculations!I96","v":0},{"$f":"Calculations!J96","v":0},null,null,null,null,{"$f":"IF(Input!F$14=0,0,Calculations!L96)","v":0},{"$f":"IF(Input!G$14=0,0,Calculations!M96)","v":0},{"$f":"IF(Input!H$14=0,0,Calculations!N96)","v":0},null,{"$f":"IF(Input!I$14=0,0,Calculations!O96)","v":0},{"$f":"IF(Input!J$14=0,0,Calculations!P96)","v":0},null,{"$f":"MAX(Calculations!L96:P96)","v":0},null,null,{"$f":"Calculations!K96","v":0},null,0]
[null,null,{"$f":"Calculations!B15","v":"M1-5-24"},{"$f":"Calculations!I15","v":"24\"x24\""},{"$f":"Calculations!J15","v":"STATE ROUTE MARKER (Post and installation only)"},{"$f":"IF(Input!F$14=0,0,Calculations!L15)","v":0},{"$f":"IF(Input!G$14=0,0,Calculations!M15)","v":0},{"$f":"IF(Input!H$14=0,0,Calculations!N15)","v":0},{"$f":"IF(Input!I$14=0,0,Calculations!O15)","v":0},{"$f":"IF(Input!J$14=0,0,Calculations!P15)","v":0},{"$f":"MAX(Calculations!L15:P15)","v":0},{"$f":"Calculations!K15","v":10},0,null,{"$f":"Calculations!B97","v":0},null,{"$f":"Calculations!I97","v":0},{"$f":"Calculations!J97","v":0},null,null,null,null,{"$f":"IF(Input!F$14=0,0,Calculations!L97)","v":0},{"$f":"IF(Input!G$14=0,0,Calculations!M97)","v":0},{"$f":"IF(Input!H$14=0,0,Calculations!N97)","v":0},null,{"$f":"IF(Input!I$14=0,0,Calculations!O97)","v":0},{"$f":"IF(Input!J$14=0,0,Calculations!P97)","v":0},null,{"$f":"MAX(Calculations!L97:P97)","v":0},null,null,{"$f":"Calculations!K97","v":0},null,0]
[null,null,{"$f":"Calculations!B16","v":"M3-1-24"},{"$f":"Calculations!I16","v":"24\"x12\""},{"$f":"Calculations!J16","v":"NORTH (Mounted on route marker post)"},{"$f":"IF(Input!F$14=0,0,Calculations!L16)","v":0},{"$f":"IF(Input!G$14=0,0,Calculations!M16)","v":0},{"$f":"IF(Input!H$14=0,0,Calculations!N16)","v":0},{"$f":"IF(Input!I$14=0,0,Calculations!O16)","v":0},{"$f":"IF(Input!J$14=0,0,Calculations!P16)","v":0},{"$f":"MAX(Calculations!L16:P16)","v":0},{"$f":"Calculations!K16","v":7},0,null,{"$f":"Calculations!B98","v":0},null,{"$f":"Calculations!I98","v":0},{"$f":"Calculations!J98","v":0},null,null,null,null,{"$f":"IF(Input!F$14=0,0,Calculations!L98)","v":0},{"$f":"IF(Input!G$14=0,0,Calculations!M98)","v":0},{"$f":"IF(Input!H$14=0,0,Calculations!N98)","v":0},null,{"$f":"IF(Input!I$14=0,0,Calculations!O98)","v":0},{"$f":"IF(Input!J$14=0,0,Calculations!P98)","v":0},null,{"$f":"MAX(Calculations!L98:P98)","v":0},null,null,{"$f":"Calculations!K98","v":0},null,0]
[null,null,{"$f":"Calculations!B17","v":"M3-2-24"},{"$f":"Calculations!I17","v":"24\"x12\""},{"$f":"Calculations!J17","v":"EAST (Mounted on route marker post)"},{"$f":"IF(Input!F$14=0,0,Calculations!L17)","v":0},{"$f":"IF(Input!G$14=0,0,Calculations!M17)","v":0},{"$f":"IF(Input!H$14=0,0,Calculations!N17)","v":0},{"$f":"IF(Input!I$14=0,0,Calculations!O17)","v":0},{"$f":"IF(Input!J$14=0,0,Calculations!P17)","v":0},{"$f":"MAX(Calculations!L17:P17)","v":0},{"$f":"Calculations!K17","v":7},0,null,{"$f":"Calculations!B99","v":0},null,{"$f":"Calculations!I99","v":0},{"$f":"Calculations!J99","v":0},null,null,null,null,{"$f":"IF(Input!F$14=0,0,Calculations!L99)","v":0},{"$f":"IF(Input!G$14=0,0,Calculations!M99)","v":0},{"$f":"IF(Input!H$14=0,0,Calculations!N99)","v":0},null,{"$f":"IF(Input!I$14=0,0,Calculations!O99)","v":0},{"$f":"IF(Input!J$14=0,0,Calculations!P99)","v":0},null,{"$f":"MAX(Calculations!L99:P99)","v":0},null,null,{"$f":"Calculations!K99","v":0},null,0]
[null,null,{"$f":"Calculations!B18","v":"M3-3-24"},{"$f":"Calculations!I18","v":"24\"x12\""},{"$f":"Calculations!J18","v":"SOUTH (Mounted on route marker post)"},{"$f":"IF(Input!F$14=0,0,Calculations!L18)","v":0},{"$f":"IF(Input!G$14=0,0,Calculations!M18)","v":0},{"$f":"IF(Input!H$14=0,0,Calculations!N18)","v":0},{"$f":"IF(Input!I$14=0,0,Calculations!O18)","v":0},{"$f":"IF(Input!J$14=0,0,Calculations!P18)","v":0},{"$f":"MAX(Calculations!L18:P18)","v":0},{"$f":"Calculations!K18","v":7},0,null,{"$f":"Calculations!B100","v":0},null,{"$f":"Calculations!I100","v":0},{"$f":"Calculations!J100","v":0},null,null,null,null,{"$f":"IF(Input!F$14=0,0,Calculations!L100)","v":0},{"$f":"IF(Input!G$14=0,0,Calculations!M100)","v":0},{"$f":"IF(Input!H$14=0,0,Calculations!N100)","v":0},null,{"$f":"IF(Input!I$14=0,0,Calculations!O100)","v":0},{"$f":"IF(Input!J$14=0,0,Calculations!P100)","v":0},null,{"$f":"MAX(Calculations!L100:P100)","v":0},null,null,{"$f":"Calculations!K100","v":0},null,0]
[null,null,{"$f":"Calculations!B19","v":"M3-4-24"},{"$f":"Calculations!I19","v":"24\"x12\""},{"$f":"Calculations!J19","v":"WEST (Mounted on route marker post)"},{"$f":"IF(Input!F$14=0,0,Calculations!L19)","v":0},{"$f":"IF(Input!G$14=0,0,Calculations!M19)","v":0},{"$f":"IF(Input!H$14=0,0,Calculations!N19)","v":0},{"$f":"IF(Input!I$14=0,0,Calculations!O19)","v":0},{"$f":"IF(Input!J$14=0,0,Calculations!P19)","v":0},{"$f":"MAX(Calculations!L19:P19)","v":0},{"$f":"Calculations!K19","v":7},0,null,{"$f":"Calculations!B101","v":0},null,{"$f":"Calculations!I101","v":0},{"$f":"Calculations!J101","v":0},null,null,null,null,{"$f":"IF(Input!F$14=0,0,Calculations!L101)","v":0},{"$f":"IF(Input!G$14=0,0,Calculations!M101)","v":0},{"$f":"IF(Input!H$14=0,0,Calculations!N101)","v":0},null,{"$f":"IF(Input!I$14=0,0,Calculations!O101)","v":0},{"$f":"IF(Input!J$14=0,0,Calculations!P101)","v":0},null,{"$f":"MAX(Calculations!L101:P101)","v":0},null,null,{"$f":"Calculations!K101","v":0},null,0]
[null,null,{"$f":"Calculations!B20","v":"M4-8-24"},{"$f":"Calculations!I20","v":"24\"x12\""},{"$f":"Calculations!J20","v":"DETOUR (Mounted on route marker post)"},{"$f":"IF(Input!F$14=0,0,Calculations!L20)","v":0},{"$f":"IF(Input!G$14=0,0,Calculations!M20)","v":0},{"$f":"IF(Input!H$14=0,0,Calculations!N20)","v":0},{"$f":"IF(Input!I$14=0,0,Calculations!O20)","v":0},{"$f":"IF(Input!J$14=0,0,Calculations!P20)","v":0},{"$f":"MAX(Calculations!L20:P20)","v":0},{"$f":"Calculations!K20","v":7},0,null,{"$f":"Calculations!B102","v":0},null,{"$f":"Calculations!I102","v":0},{"$f":"Calculations!J102","v":0},null,null,null,null,{"$f":"IF(Input!F$14=0,0,Calculations!L102)","v":0},{"$f":"IF(Input!G$14=0,0,Calculations!M102)","v":0},{"$f":"IF(Input!H$14=0,0,Calculations!N102)","v":0},null,{"$f":"IF(Input!I$14=0,0,Calculations!O102)","v":0},{"$f":"IF(Input!J$14=0,0,Calculations!P102)","v":0},null,{"$f":"MAX(Calculations!L102:P102)","v":0},null,null,{"$f":"Calculations!K102","v":0},null,0]
[null,null,{"$f":"Calculations!B21","v":"M4-9-30"},{"$f":"Calculations!I21","v":"30\"x24\""},{"$f":"Calculations!J21","v":"DETOUR ARROW RIGHT or LEFT/AHD AND RT or LT"},{"$f":"IF(Input!F$14=0,0,Calculations!L21)","v":0},{"$f":"IF(Input!G$14=0,0,Calculations!M21)","v":0},{"$f":"IF(Input!H$14=0,0,Calculations!N21)","v":0},{"$f":"IF(Input!I$14=0,0,Calculations!O21)","v":0},{"$f":"IF(Input!J$14=0,0,Calculations!P21)","v":0},{"$f":"MAX(Calculations!L21:P21)","v":0},{"$f":"Calculations!K21","v":15},0,null,{"$f":"Calculations!B103","v":0},null,{"$f":"Calculations!I103","v":0},{"$f":"Calculations!J103","v":0},null,null,null,null,{"$f":"IF(Input!F$14=0,0,Calculations!L103)","v":0},{"$f":"IF(Input!G$14=0,0,Calculations!M103)","v":0},{"$f":"IF(Input!H$14=0,0,Calculations!N103)","v":0},null,{"$f":"IF(Input!I$14=0,0,Calculations!O103)","v":0},{"$f":"IF(Input!J$14=0,0,Calculations!P103)","v":0},null,{"$f":"MAX(Calculations!L103:P103)","v":0},null,null,{"$f":"Calculations!K103","v":0},null,0]
[null,null,{"$f":"Calculations!B22","v":"M4-10-48"},{"$f":"Calculations!I22","v":"48\"x18\""},{"$f":"Calculations!J22","v":"DETOUR (INSIDE ARROW) RIGHT or LEFT (Mounted on barricade)"},{"$f":"IF(Input!F$14=0,0,Calculations!L22)","v":0},{"$f":"IF(Input!G$14=0,0,Calculations!M22)","v":0},{"$f":"IF(Input!H$14=0,0,Calculations!N22)","v":0},{"$f":"IF(Input!I$14=0,0,Calculations!O22)","v":0},{"$f":"IF(Input!J$14=0,0,Calculations!P22)","v":0},{"$f":"MAX(Calculations!L22:P22)","v":0},{"$f":"Calculations!K22","v":7},0,null,{"$f":"Calculations!B104","v":0},null,{"$f":"Calculations!I104","v":0},{"$f":"Calculations!J104","v":0},null,null,null,null,{"$f":"IF(Input!F$14=0,0,Calculations!L104)","v":0},{"$f":"IF(Input!G$14=0,0,Calculations!M104)","v":0},{"$f":"IF(Input!H$14=0,0,Calculations!N104)","v":0},null,{"$f":"IF(Input!I$14=0,0,Calculations!O104)","v":0},{"$f":"IF(Input!J$14=0,0,Calculations!P104)","v":0},null,{"$f":"MAX(Calculations!L104:P104)","v":0},null,null,{"$f":"Calculations!K104","v":0},null,0]
[null,null,{"$f":"Calculations!B23","v":"M5-1-21"},{"$f":"Calculations!I23","v":"21\"x15\""},{"$f":"Calculations!J23","v":"ADVANCE TURN ARROW RT or LT(Mounted on route marker post)"},{"$f":"IF(Input!F$14=0,0,Calculations!L23)","v":0},{"$f":"IF(Input!G$14=0,0,Calculations!M23)","v":0},{"$f":"IF(Input!H$14=0,0,Calculations!N23)","v":0},{"$f":"IF(Input!I$14=0,0,Calculations!O23)","v":0},{"$f":"IF(Input!J$14=0,0,Calculations!P23)","v":0},{"$f":"MAX(Calculations!L23:P23)","v":0},{"$f":"Calculations!K23","v":7},0,null,{"$f":"Calculations!B105","v":0},null,{"$f":"Calculations!I105","v":0},{"$f":"Calculations!J105","v":0},null,null,null,null,{"$f":"IF(Input!F$14=0,0,Calculations!L105)","v":0},{"$f":"IF(Input!G$14=0,0,Calculations!M105)","v":0},{"$f":"IF(Input!H$14=0,0,Calculations!N105)","v":0},null,{"$f":"IF(Input!I$14=0,0,Calculations!O105)","v":0},{"$f":"IF(Input!J$14=0,0,Calculations!P105)","v":0},null,{"$f":"MAX(Calculations!L105:P105)","v":0},null,null,{"$f":"Calculations!K105","v":0},null,0]
[null,null,{"$f":"Calculations!B24","v":"M5-1-30"},{"$f":"Calculations!I24","v":"30\"x21\""},{"$f":"Calculations!J24","v":"ADVANCE TURN ARROW RT or LT(Mounted on route marker post)"},{"$f":"IF(Input!F$14=0,0,Calculations!L24)","v":0},{"$f":"IF(Input!G$14=0,0,Calculations!M24)","v":0},{"$f":"IF(Input!H$14=0,0,Calculations!N24)","v":0},{"$f":"IF(Input!I$14=0,0,Calculations!O24)","v":0},{"$f":"IF(Input!J$14=0,0,Calculations!P24)","v":0},{"$f":"MAX(Calculations!L24:P24)","v":0},{"$f":"Calculations!K24","v":9},0,null,{"$f":"Calculations!B106","v":0},null,{"$f":"Calculations!I106","v":0},{"$f":"Calculations!J106","v":0},null,null,null,null,{"$f":"IF(Input!F$14=0,0,Calculations!L106)","v":0},{"$f":"IF(Input!G$14=0,0,Calculations!M106)","v":0},{"$f":"IF(Input!H$14=0,0,Calculations!N106)","v":0},null,{"$f":"IF(Input!I$14=0,0,Calculations!O106)","v":0},{"$f":"IF(Input!J$14=0,0,Calculations!P106)","v":0},null,{"$f":"MAX(Calculations!L106:P106)","v":0},null,null,{"$f":"Calculations!K106","v":0},null,0]
[null,null,{"$f":"Calculations!B25","v":"M6-1-21"},{"$f":"Calculations!I25","v":"21\"x15\""},{"$f":"Calculations!J25","v":"DIRECTIONAL ARROW RT or LT (Mounted on route marker post)"},{"$f":"IF(Input!F$14=0,0,Calculations!L25)","v":0},{"$f":"IF(Input!G$14=0,0,Calculations!M25)","v":0},{"$f":"IF(Input!H$14=0,0,Calculations!N25)","v":0},{"$f":"IF(Input!I$14=0,0,Calculations!O25)","v":0},{"$f":"IF(Input!J$14=0,0,Calculations!P25)","v":0},{"$f":"MAX(Calculations!L25:P25)","v":0},{"$f":"Calculations!K25","v":7},0,null,{"$f":"Calculations!B107","v":0},null,{"$f":"Calculations!I107","v":0},{"$f":"Calculations!J107","v":0},null,null,null,null,{"$f":"IF(Input!F$14=0,0,Calculations!L107)","v":0},{"$f":"IF(Input!G$14=0,0,Calculations!M107)","v":0},{"$f":"IF(Input!H$14=0,0,Calculations!N107)","v":0},null,{"$f":"IF(Input!I$14=0,0,Calculations!O107)","v":0},{"$f":"IF(Input!J$14=0,0,Calculations!P107)","v":0},null,{"$f":"MAX(Calculations!L107:P107)","v":0},null,null,{"$f":"Calculations!K107","v":0},null,0]
[null,null,{"$f":"Calculations!B26","v":"M6-1-30"},{"$f":"Calculations!I26","v":"30\"x21\""},{"$f":"Calculations!J26","v":"DIRECTIONAL ARROW RT or LT (Mounted on route marker post)"},{"$f":"IF(Input!F$14=0,0,Calculations!L26)","v":0},{"$f":"IF(Input!G$14=0,0,Calculations!M26)","v":0},{"$f":"IF(Input!H$14=0,0,Calculations!N26)","v":0},{"$f":"IF(Input!I$14=0,0,Calculations!O26)","v":0},{"$f":"IF(Input!J$14=0,0,Calculations!P26)","v":0},{"$f":"MAX(Calculations!L26:P26)","v":0},{"$f":"Calculations!K26","v":9},0,null,{"$f":"Calculations!B108","v":0},null,{"$f":"Calculations!I108","v":0},{"$f":"Calculations!J108","v":0},null,null,null,null,{"$f":"IF(Input!F$14=0,0,Calculations!L108)","v":0},{"$f":"IF(Input!G$14=0,0,Calculations!M108)","v":0},{"$f":"IF(Input!H$14=0,0,Calculations!N108)","v":0},null,{"$f":"IF(Input!I$14=0,0,Calculations!O108)","v":0},{"$f":"IF(Input!J$14=0,0,Calculations!P108)","v":0},null,{"$f":"MAX(Calculations!L108:P108)","v":0},null,null,{"$f":"Calculations!K108","v":0},null,0]
[null,null,{"$f":"Calculations!B27","v":"M6-3-21"},{"$f":"Calculations!I27","v":"21\"x15\""},{"$f":"Calculations!J27","v":"DIRECTIONAL ARROW UP (Mounted on route marker post)"},{"$f":"IF(Input!F$14=0,0,Calculations!L27)","v":0},{"$f":"IF(Input!G$14=0,0,Calculations!M27)","v":0},{"$f":"IF(Input!H$14=0,0,Calculations!N27)","v":0},{"$f":"IF(Input!I$14=0,0,Calculations!O27)","v":0},{"$f":"IF(Input!J$14=0,0,Calculations!P27)","v":0},{"$f":"MAX(Calculations!L27:P27)","v":0},{"$f":"Calculations!K27","v":7},0,null,{"$f":"Calculations!B109","v":0},null,{"$f":"Calculations!I109","v":0},{"$f":"Calculations!J109","v":0},null,null,null,null,{"$f":"IF(Input!F$14=0,0,Calculations!L109)","v":0},{"$f":"IF(Input!G$14=0,0,Calculations!M109)","v":0},{"$f":"IF(Input!H$14=0,0,Calculations!N109)","v":0},null,{"$f":"IF(Input!I$14=0,0,Calculations!O109)","v":0},{"$f":"IF(Input!J$14=0,0,Calculations!P109)","v":0},null,{"$f":"MAX(Calculations!L109:P109)","v":0},null,null,{"$f":"Calculations!K109","v":0},null,0]
[null,null,{"$f":"Calculations!B28","v":"R1-1-48"},{"$f":"Calculations!I28","v":"48\"x48\""},{"$f":"Calculations!J28","v":"STOP"},{"$f":"IF(Input!F$14=0,0,Calculations!L28)","v":0},{"$f":"IF(Input!G$14=0,0,Calculations!M28)","v":0},{"$f":"IF(Input!H$14=0,0,Calculations!N28)","v":0},{"$f":"IF(Input!I$14=0,0,Calculations!O28)","v":0},{"$f":"IF(Input!J$14=0,0,Calculations!P28)","v":0},{"$f":"MAX(Calculations!L28:P28)","v":0},{"$f":"Calculations!K28","v":32},0,null,{"$f":"Calculations!B110","v":0},null,{"$f":"Calculations!I110","v":0},{"$f":"Calculations!J110","v":0},null,null,null,null,{"$f":"IF(Input!F$14=0,0,Calculations!L110)","v":0},{"$f":"IF(Input!G$14=0,0,Calculations!M110)","v":0},{"$f":"IF(Input!H$14=0,0,Calculations!N110)","v":0},null,{"$f":"IF(Input!I$14=0,0,Calculations!O110)","v":0},{"$f":"IF(Input!J$14=0,0,Calculations!P110)","v":0},null,{"$f":"MAX(Calculations!L110:P110)","v":0},null,null,{"$f":"Calculations!K110","v":0},null,0]
[null,null,{"$f":"Calculations!B29","v":"R1-2-60"},{"$f":"Calculations!I29","v":"60\"x60\" "},{"$f":"Calculations!J29","v":"YIELD "},{"$f":"IF(Input!F$14=0,0,Calculations!L29)","v":0},{"$f":"IF(Input!G$14=0,0,Calculations!M29)","v":0},{"$f":"IF(Input!H$14=0,0,Calculations!N29)","v":0},{"$f":"IF(Input!I$14=0,0,Calculations!O29)","v":0},{"$f":"IF(Input!J$14=0,0,Calculations!P29)","v":0},{"$f":"MAX(Calculations!L29:P29)","v":0},{"$f":"Calculations!K29","v":29},0,null,{"$f":"Calculations!B111","v":0},null,{"$f":"Calculations!I111","v":0},{"$f":"Calculations!J111","v":0},null,null,null,null,{"$f":"IF(Input!F$14=0,0,Calculations!L111)","v":0},{"$f":"IF(Input!G$14=0,0,Calculations!M111)","v":0},{"$f":"IF(Input!H$14=0,0,Calculations!N111)","v":0},null,{"$f":"IF(Input!I$14=0,0,Calculations!O111)","v":0},{"$f":"IF(Input!J$14=0,0,Calculations!P111)","v":0},null,{"$f":"MAX(Calculations!L111:P111)","v":0},null,null,{"$f":"Calculations!K111","v":0},null,0]
[null,null,{"$f":"Calculations!B30","v":"R2-1-36"},{"$f":"Calculations!I30","v":"36\"x48\""},{"$f":"Calculations!J30","v":"SPEED LIMIT __ (Portable only)"},{"$f":"IF(Input!F$14=0,0,Calculations!L30)","v":0},{"$f":"IF(Input!G$14=0,0,Calculations!M30)","v":0},{"$f":"IF(Input!H$14=0,0,Calculations!N30)","v":0},{"$f":"IF(Input!I$14=0,0,Calculations!O30)","v":0},{"$f":"IF(Input!J$14=0,0,Calculations!P30)","v":0},{"$f":"MAX(Calculations!L30:P30)","v":0},{"$f":"Calculations!K30","v":30},0,null,{"$f":"Calculations!B112","v":0},null,{"$f":"Calculations!I112","v":0},{"$f":"Calculations!J112","v":0},null,null,null,null,{"$f":"IF(Input!F$14=0,0,Calculations!L112)","v":0},{"$f":"IF(Input!G$14=0,0,Calculations!M112)","v":0},{"$f":"IF(Input!H$14=0,0,Calculations!N112)","v":0},null,{"$f":"IF(Input!I$14=0,0,Calculations!O112)","v":0},{"$f":"IF(Input!J$14=0,0,Calculations!P112)","v":0},null,{"$f":"MAX(Calculations!L112:P112)","v":0},null,null,{"$f":"Calculations!K112","v":0},null,0]
[null,null,{"$f":"Calculations!B31","v":"R2-1-48"},{"$f":"Calculations!I31","v":"48\"x60\""},{"$f":"Calculations!J31","v":"SPEED LIMIT __"},{"$f":"IF(Input!F$14=0,0,Calculations!L31)","v":0},{"$f":"IF(Input!G$14=0,0,Calculations!M31)","v":0},{"$f":"IF(Input!H$14=0,0,Calculations!N31)","v":0},{"$f":"IF(Input!I$14=0,0,Calculations!O31)","v":0},{"$f":"IF(Input!J$14=0,0,Calculations!P31)","v":0},{"$f":"MAX(Calculations!L31:P31)","v":0},{"$f":"Calculations!K31","v":39},0]
[null,null,{"$f":"Calculations!B32","v":"R2-1aP-24"},{"$f":"Calculations!I32","v":"24\"x18\""},{"$f":"Calculations!J32","v":"MINIMUM FEE $150 (Mounted on Speed Limit post)"},{"$f":"IF(Input!F$14=0,0,Calculations!L32)","v":0},{"$f":"IF(Input!G$14=0,0,Calculations!M32)","v":0},{"$f":"IF(Input!H$14=0,0,Calculations!N32)","v":0},{"$f":"IF(Input!I$14=0,0,Calculations!O32)","v":0},{"$f":"IF(Input!J$14=0,0,Calculations!P32)","v":0},{"$f":"MAX(Calculations!L32:P32)","v":0},{"$f":"Calculations!K32","v":10},0,null,"SPECIAL SIGNS"]
[null,null,{"$f":"Calculations!B33","v":"R3-2-48"},{"$f":"Calculations!I33","v":"48\"x48\""},{"$f":"Calculations!J33","v":"NO LEFT TURN"},{"$f":"IF(Input!F$14=0,0,Calculations!L33)","v":0},{"$f":"IF(Input!G$14=0,0,Calculations!M33)","v":0},{"$f":"IF(Input!H$14=0,0,Calculations!N33)","v":0},{"$f":"IF(Input!I$14=0,0,Calculations!O33)","v":0},{"$f":"IF(Input!J$14=0,0,Calculations!P33)","v":0},{"$f":"MAX(Calculations!L33:P33)","v":0},{"$f":"Calculations!K33","v":35},0,null,{"$f":"Input!B129","v":0},null,{"$f":"Input!C129","v":0},{"$f":"Input!D129","v":0},null,null,null,null,{"$f":"IF(Input!F$14=0,0,Input!F129)","v":0},{"$f":"IF(Input!G$14=0,0,Input!G129)","v":0},{"$f":"IF(Input!H$14=0,0,Input!H129)","v":0},{"$f":"IF(COUNTBLANK(Input!$F$14:$J$14)=5,MAX(Input!F129:J129),IF(Input!$H$14=0,0,Input!H129))","v":0},{"$f":"IF(Input!I$14=0,0,Input!I129)","v":0},{"$f":"IF(Input!J$14=0,0,Input!J129)","v":0},{"$f":"IF(Input!J$14=0,0,Input!J129)","v":0},{"$f":"MAX(IF(Input!$F$14>0,Input!F129,0),IF(Input!$G$14>0,Input!G129,0),IF(Input!$H$14>0,Input!H129,0),IF(Input!$I$14>0,Input!I129,0),IF(Input!$J$14>0,Input!J129,0),IF(COUNTBLANK(Input!$F$14:$J$14)=5,Input!F129:J129,0))","v":0},null,null,{"$f":"Input!E129","v":0},null,{"$f":"IF(AND(AD38>0,AD38*AG38=0),\"NO UNITS\",AD38*AG38)","v":0}]
[null,null,{"$f":"Calculations!B34","v":"R4-1-48"},{"$f":"Calculations!I34","v":"48\"x60\""},{"$f":"Calculations!J34","v":"DO NOT PASS"},{"$f":"IF(Input!F$14=0,0,Calculations!L34)","v":0},{"$f":"IF(Input!G$14=0,0,Calculations!M34)","v":0},{"$f":"IF(Input!H$14=0,0,Calculations!N34)","v":0},{"$f":"IF(Input!I$14=0,0,Calculations!O34)","v":0},{"$f":"IF(Input!J$14=0,0,Calculations!P34)","v":0},{"$f":"MAX(Calculations!L34:P34)","v":0},{"$f":"Calculations!K34","v":39},0,null,{"$f":"Input!B130","v":0},null,{"$f":"Input!C130","v":0},{"$f":"Input!D130","v":0},null,null,null,null,{"$f":"IF(Input!F$14=0,0,Input!F130)","v":0},{"$f":"IF(Input!G$14=0,0,Input!G130)","v":0},{"$f":"IF(Input!H$14=0,0,Input!H130)","v":0},{"$f":"IF(COUNTBLANK(Input!$F$14:$J$14)=5,MAX(Input!F130:J130),IF(Input!$H$14=0,0,Input!H130))","v":0},{"$f":"IF(Input!I$14=0,0,Input!I130)","v":0},{"$f":"IF(Input!J$14=0,0,Input!J130)","v":0},{"$f":"IF(Input!J$14=0,0,Input!J130)","v":0},{"$f":"MAX(IF(Input!$F$14>0,Input!F130,0),IF(Input!$G$14>0,Input!G130,0),IF(Input!$H$14>0,Input!H130,0),IF(Input!$I$14>0,Input!I130,0),IF(Input!$J$14>0,Input!J130,0),IF(COUNTBLANK(Input!$F$14:$J$14)=5,Input!F130:J130,0))","v":0},null,null,{"$f":"Input!E130","v":0},null,{"$f":"IF(AND(AD39>0,AD39*AG39=0),\"NO UNITS\",AD39*AG39)","v":0}]
[null,null,{"$f":"Calculations!B35","v":"R4-7-48"},{"$f":"Calculations!I35","v":"48\"x60\""},{"$f":"Calculations!J35","v":"KEEP RIGHT"},{"$f":"IF(Input!F$14=0,0,Calculations!L35)","v":0},{"$f":"IF(Input!G$14=0,0,Calculations!M35)","v":0},{"$f":"IF(Input!H$14=0,0,Calculations!N35)","v":0},{"$f":"IF(Input!I$14=0,0,Calculations!O35)","v":0},{"$f":"IF(Input!J$14=0,0,Calculations!P35)","v":0},{"$f":"MAX(Calculations!L35:P35)","v":0},{"$f":"Calculations!K35","v":39},0,null,{"$f":"Input!B131","v":0},null,{"$f":"Input!C131","v":0},{"$f":"Input!D131","v":0},null,null,null,null,{"$f":"IF(Input!F$14=0,0,Input!F131)","v":0},{"$f":"IF(Input!G$14=0,0,Input!G131)","v":0},{"$f":"IF(Input!H$14=0,0,Input!H131)","v":0},{"$f":"IF(COUNTBLANK(Input!$F$14:$J$14)=5,MAX(Input!F131:J131),IF(Input!$H$14=0,0,Input!H131))","v":0},{"$f":"IF(Input!I$14=0,0,Input!I131)","v":0},{"$f":"IF(Input!J$14=0,0,Input!J131)","v":0},{"$f":"IF(Input!J$14=0,0,Input!J131)","v":0},{"$f":"MAX(IF(Input!$F$14>0,Input!F131,0),IF(Input!$G$14>0,Input!G131,0),IF(Input!$H$14>0,Input!H131,0),IF(Input!$I$14>0,Input!I131,0),IF(Input!$J$14>0,Input!J131,0),IF(COUNTBLANK(Input!$F$14:$J$14)=5,Input!F131:J131,0))","v":0},null,null,{"$f":"Input!E131","v":0},null,0]
[null,null,{"$f":"Calculations!B36","v":"R5-1-48"},{"$f":"Calculations!I36","v":"48\"x48\""},{"$f":"Calculations!J36","v":"DO NOT ENTER"},{"$f":"IF(Input!F$14=0,0,Calculations!L36)","v":0},{"$f":"IF(Input!G$14=0,0,Calculations!M36)","v":0},{"$f":"IF(Input!H$14=0,0,Calculations!N36)","v":0},{"$f":"IF(Input!I$14=0,0,Calculations!O36)","v":0},{"$f":"IF(Input!J$14=0,0,Calculations!P36)","v":0},{"$f":"MAX(Calculations!L36:P36)","v":0},{"$f":"Calculations!K36","v":35},0,null,{"$f":"Input!B132","v":0},null,{"$f":"Input!C132","v":0},{"$f":"Input!D132","v":0},null,null,null,null,{"$f":"IF(Input!F$14=0,0,Input!F132)","v":0},{"$f":"IF(Input!G$14=0,0,Input!G132)","v":0},{"$f":"IF(Input!H$14=0,0,Input!H132)","v":0},{"$f":"IF(COUNTBLANK(Input!$F$14:$J$14)=5,MAX(Input!F132:J132),IF(Input!$H$14=0,0,Input!H132))","v":0},{"$f":"IF(Input!I$14=0,0,Input!I132)","v":0},{"$f":"IF(Input!J$14=0,0,Input!J132)","v":0},{"$f":"IF(Input!J$14=0,0,Input!J132)","v":0},{"$f":"MAX(IF(Input!$F$14>0,Input!F132,0),IF(Input!$G$14>0,Input!G132,0),IF(Input!$H$14>0,Input!H132,0),IF(Input!$I$14>0,Input!I132,0),IF(Input!$J$14>0,Input!J132,0),IF(COUNTBLANK(Input!$F$14:$J$14)=5,Input!F132:J132,0))","v":0},null,null,{"$f":"Input!E132","v":0},null,0]
[null,null,{"$f":"Calculations!B37","v":"R6-1-54"},{"$f":"Calculations!I37","v":"54\"x18\""},{"$f":"Calculations!J37","v":"ONE WAY RIGHT or LEFT (Mounted on STOP or DO NOT ENTER  post)"},{"$f":"IF(Input!F$14=0,0,Calculations!L37)","v":0},{"$f":"IF(Input!G$14=0,0,Calculations!M37)","v":0},{"$f":"IF(Input!H$14=0,0,Calculations!N37)","v":0},{"$f":"IF(Input!I$14=0,0,Calculations!O37)","v":0},{"$f":"IF(Input!J$14=0,0,Calculations!P37)","v":0},{"$f":"MAX(Calculations!L37:P37)","v":0},{"$f":"Calculations!K37","v":14},0,null,{"$f":"Input!B133","v":0},null,{"$f":"Input!C133","v":0},{"$f":"Input!D133","v":0},null,null,null,null,{"$f":"IF(Input!F$14=0,0,Input!F133)","v":0},{"$f":"IF(Input!G$14=0,0,Input!G133)","v":0},{"$f":"IF(Input!H$14=0,0,Input!H133)","v":0},{"$f":"IF(COUNTBLANK(Input!$F$14:$J$14)=5,MAX(Input!F133:J133),IF(Input!$H$14=0,0,Input!H133))","v":0},{"$f":"IF(Input!I$14=0,0,Input!I133)","v":0},{"$f":"IF(Input!J$14=0,0,Input!J133)","v":0},{"$f":"IF(Input!J$14=0,0,Input!J133)","v":0},{"$f":"MAX(IF(Input!$F$14>0,Input!F133,0),IF(Input!$G$14>0,Input!G133,0),IF(Input!$H$14>0,Input!H133,0),IF(Input!$I$14>0,Input!I133,0),IF(Input!$J$14>0,Input!J133,0),IF(COUNTBLANK(Input!$F$14:$J$14)=5,Input!F133:J133,0))","v":0},null,null,{"$f":"Input!E133","v":0},null,0]
[null,null,{"$f":"Calculations!B38","v":"R7-1-12"},{"$f":"Calculations!I38","v":"12\"x18\""},{"$f":"Calculations!J38","v":"NO PARKING ANY TIME"},{"$f":"IF(Input!F$14=0,0,Calculations!L38)","v":0},{"$f":"IF(Input!G$14=0,0,Calculations!M38)","v":0},{"$f":"IF(Input!H$14=0,0,Calculations!N38)","v":0},{"$f":"IF(Input!I$14=0,0,Calculations!O38)","v":0},{"$f":"IF(Input!J$14=0,0,Calculations!P38)","v":0},{"$f":"MAX(Calculations!L38:P38)","v":0},{"$f":"Calculations!K38","v":11},0,null,{"$f":"Input!B134","v":0},null,{"$f":"Input!C134","v":0},{"$f":"Input!D134","v":0},null,null,null,null,{"$f":"IF(Input!F$14=0,0,Input!F134)","v":0},{"$f":"IF(Input!G$14=0,0,Input!G134)","v":0},{"$f":"IF(Input!H$14=0,0,Input!H134)","v":0},{"$f":"IF(COUNTBLANK(Input!$F$14:$J$14)=5,MAX(Input!F134:J134),IF(Input!$H$14=0,0,Input!H134))","v":0},{"$f":"IF(Input!I$14=0,0,Input!I134)","v":0},{"$f":"IF(Input!J$14=0,0,Input!J134)","v":0},{"$f":"IF(Input!J$14=0,0,Input!J134)","v":0},{"$f":"MAX(IF(Input!$F$14>0,Input!F134,0),IF(Input!$G$14>0,Input!G134,0),IF(Input!$H$14>0,Input!H134,0),IF(Input!$I$14>0,Input!I134,0),IF(Input!$J$14>0,Input!J134,0),IF(COUNTBLANK(Input!$F$14:$J$14)=5,Input!F134:J134,0))","v":0},null,null,{"$f":"Input!E134","v":0},null,0]
[null,null,{"$f":"Calculations!B39","v":"R10-6-24"},{"$f":"Calculations!I39","v":"24\"x36\""},{"$f":"Calculations!J39","v":"STOP HERE ON RED"},{"$f":"IF(Input!F$14=0,0,Calculations!L39)","v":0},{"$f":"IF(Input!G$14=0,0,Calculations!M39)","v":0},{"$f":"IF(Input!H$14=0,0,Calculations!N39)","v":0},{"$f":"IF(Input!I$14=0,0,Calculations!O39)","v":0},{"$f":"IF(Input!J$14=0,0,Calculations!P39)","v":0},{"$f":"MAX(Calculations!L39:P39)","v":0},{"$f":"Calculations!K39","v":16},0,null,{"$f":"Input!B135","v":0},null,{"$f":"Input!C135","v":0},{"$f":"Input!D135","v":0},null,null,null,null,{"$f":"IF(Input!F$14=0,0,Input!F135)","v":0},{"$f":"IF(Input!G$14=0,0,Input!G135)","v":0},{"$f":"IF(Input!H$14=0,0,Input!H135)","v":0},{"$f":"IF(COUNTBLANK(Input!$F$14:$J$14)=5,MAX(Input!F135:J135),IF(Input!$H$14=0,0,Input!H135))","v":0},{"$f":"IF(Input!I$14=0,0,Input!I135)","v":0},{"$f":"IF(Input!J$14=0,0,Input!J135)","v":0},{"$f":"IF(Input!J$14=0,0,Input!J135)","v":0},{"$f":"MAX(IF(Input!$F$14>0,Input!F135,0),IF(Input!$G$14>0,Input!G135,0),IF(Input!$H$14>0,Input!H135,0),IF(Input!$I$14>0,Input!I135,0),IF(Input!$J$14>0,Input!J135,0),IF(COUNTBLANK(Input!$F$14:$J$14)=5,Input!F135:J135,0))","v":0},null,null,{"$f":"Input!E135","v":0},null,0]
[null,null,{"$f":"Calculations!B40","v":"R11-2-48"},{"$f":"Calculations!I40","v":"48\"x30\""},{"$f":"Calculations!J40","v":"ROAD CLOSED (Mounted on barricade)"},{"$f":"IF(Input!F$14=0,0,Calculations!L40)","v":0},{"$f":"IF(Input!G$14=0,0,Calculations!M40)","v":0},{"$f":"IF(Input!H$14=0,0,Calculations!N40)","v":0},{"$f":"IF(Input!I$14=0,0,Calculations!O40)","v":0},{"$f":"IF(Input!J$14=0,0,Calculations!P40)","v":0},{"$f":"MAX(Calculations!L40:P40)","v":0},{"$f":"Calculations!K40","v":12},0,null,{"$f":"Input!B136","v":0},null,{"$f":"Input!C136","v":0},{"$f":"Input!D136","v":0},null,null,null,null,{"$f":"IF(Input!F$14=0,0,Input!F136)","v":0},{"$f":"IF(Input!G$14=0,0,Input!G136)","v":0},{"$f":"IF(Input!H$14=0,0,Input!H136)","v":0},{"$f":"IF(COUNTBLANK(Input!$F$14:$J$14)=5,MAX(Input!F136:J136),IF(Input!$H$14=0,0,Input!H136))","v":0},{"$f":"IF(Input!I$14=0,0,Input!I136)","v":0},{"$f":"IF(Input!J$14=0,0,Input!J136)","v":0},{"$f":"IF(Input!J$14=0,0,Input!J136)","v":0},{"$f":"MAX(IF(Input!$F$14>0,Input!F136,0),IF(Input!$G$14>0,Input!G136,0),IF(Input!$H$14>0,Input!H136,0),IF(Input!$I$14>0,Input!I136,0),IF(Input!$J$14>0,Input!J136,0),IF(COUNTBLANK(Input!$F$14:$J$14)=5,Input!F136:J136,0))","v":0},null,null,{"$f":"Input!E136","v":0},null,0]
[null,null,{"$f":"Calculations!B41","v":"R11-2a-48"},{"$f":"Calculations!I41","v":"48\"x30\""},{"$f":"Calculations!J41","v":"STREET CLOSED (Mounted on barricade)"},{"$f":"IF(Input!F$14=0,0,Calculations!L41)","v":0},{"$f":"IF(Input!G$14=0,0,Calculations!M41)","v":0},{"$f":"IF(Input!H$14=0,0,Calculations!N41)","v":0},{"$f":"IF(Input!I$14=0,0,Calculations!O41)","v":0},{"$f":"IF(Input!J$14=0,0,Calculations!P41)","v":0},{"$f":"MAX(Calculations!L41:P41)","v":0},{"$f":"Calculations!K41","v":12},0,null,{"$f":"Input!B137","v":0},null,{"$f":"Input!C137","v":0},{"$f":"Input!D137","v":0},null,null,null,null,{"$f":"IF(Input!F$14=0,0,Input!F137)","v":0},{"$f":"IF(Input!G$14=0,0,Input!G137)","v":0},{"$f":"IF(Input!H$14=0,0,Input!H137)","v":0},{"$f":"IF(COUNTBLANK(Input!$F$14:$J$14)=5,MAX(Input!F137:J137),IF(Input!$H$14=0,0,Input!H137))","v":0},{"$f":"IF(Input!I$14=0,0,Input!I137)","v":0},{"$f":"IF(Input!J$14=0,0,Input!J137)","v":0},{"$f":"IF(Input!J$14=0,0,Input!J137)","v":0},{"$f":"MAX(IF(Input!$F$14>0,Input!F137,0),IF(Input!$G$14>0,Input!G137,0),IF(Input!$H$14>0,Input!H137,0),IF(Input!$I$14>0,Input!I137,0),IF(Input!$J$14>0,Input!J137,0),IF(COUNTBLANK(Input!$F$14:$J$14)=5,Input!F137:J137,0))","v":0},null,null,{"$f":"Input!E137","v":0},null,0]
[null,null,{"$f":"Calculations!B42","v":"R11-3a-60"},{"$f":"Calculations!I42","v":"60\"x30\""},{"$f":"Calculations!J42","v":"ROAD CLOSED __ MILES AHEAD LOCAL TRAFFIC ONLY (Mtd on barricade)"},{"$f":"IF(Input!F$14=0,0,Calculations!L42)","v":0},{"$f":"IF(Input!G$14=0,0,Calculations!M42)","v":0},{"$f":"IF(Input!H$14=0,0,Calculations!N42)","v":0},{"$f":"IF(Input!I$14=0,0,Calculations!O42)","v":0},{"$f":"IF(Input!J$14=0,0,Calculations!P42)","v":0},{"$f":"MAX(Calculations!L42:P42)","v":0},{"$f":"Calculations!K42","v":15},0,null,{"$f":"Input!B138","v":0},null,{"$f":"Input!C138","v":0},{"$f":"Input!D138","v":0},null,null,null,null,{"$f":"IF(Input!F$14=0,0,Input!F138)","v":0},{"$f":"IF(Input!G$14=0,0,Input!G138)","v":0},{"$f":"IF(Input!H$14=0,0,Input!H138)","v":0},{"$f":"IF(COUNTBLANK(Input!$F$14:$J$14)=5,MAX(Input!F138:J138),IF(Input!$H$14=0,0,Input!H138))","v":0},{"$f":"IF(Input!I$14=0,0,Input!I138)","v":0},{"$f":"IF(Input!J$14=0,0,Input!J138)","v":0},{"$f":"IF(Input!J$14=0,0,Input!J138)","v":0},{"$f":"MAX(IF(Input!$F$14>0,Input!F138,0),IF(Input!$G$14>0,Input!G138,0),IF(Input!$H$14>0,Input!H138,0),IF(Input!$I$14>0,Input!I138,0),IF(Input!$J$14>0,Input!J138,0),IF(COUNTBLANK(Input!$F$14:$J$14)=5,Input!F138:J138,0))","v":0},null,null,{"$f":"Input!E138","v":0},null,0]
[null,null,{"$f":"Calculations!B43","v":"R11-3c-60"},{"$f":"Calculations!I43","v":"60\"x30\""},{"$f":"Calculations!J43","v":"STREET CLOSED __ MILES AHEAD LOCAL TRAFFIC ONLY (Mtd on barricade)"},{"$f":"IF(Input!F$14=0,0,Calculations!L43)","v":0},{"$f":"IF(Input!G$14=0,0,Calculations!M43)","v":0},{"$f":"IF(Input!H$14=0,0,Calculations!N43)","v":0},{"$f":"IF(Input!I$14=0,0,Calculations!O43)","v":0},{"$f":"IF(Input!J$14=0,0,Calculations!P43)","v":0},{"$f":"MAX(Calculations!L43:P43)","v":0},{"$f":"Calculations!K43","v":15},0,null,{"$f":"Input!B139","v":0},null,{"$f":"Input!C139","v":0},{"$f":"Input!D139","v":0},null,null,null,null,{"$f":"IF(Input!F$14=0,0,Input!F139)","v":0},{"$f":"IF(Input!G$14=0,0,Input!G139)","v":0},{"$f":"IF(Input!H$14=0,0,Input!H139)","v":0},{"$f":"IF(COUNTBLANK(Input!$F$14:$J$14)=5,MAX(Input!F139:J139),IF(Input!$H$14=0,0,Input!H139))","v":0},{"$f":"IF(Input!I$14=0,0,Input!I139)","v":0},{"$f":"IF(Input!J$14=0,0,Input!J139)","v":0},{"$f":"IF(Input!J$14=0,0,Input!J139)","v":0},{"$f":"MAX(IF(Input!$F$14>0,Input!F139,0),IF(Input!$G$14>0,Input!G139,0),IF(Input!$H$14>0,Input!H139,0),IF(Input!$I$14>0,Input!I139,0),IF(Input!$J$14>0,Input!J139,0),IF(COUNTBLANK(Input!$F$14:$J$14)=5,Input!F139:J139,0))","v":0},null,null,{"$f":"Input!E139","v":0},null,0]
[null,null,{"$f":"Calculations!B44","v":"R11-4a-60"},{"$f":"Calculations!I44","v":"60\"x30\""},{"$f":"Calculations!J44","v":"STREET CLOSED TO THRU TRAFFIC (Mounted on barricade)"},{"$f":"IF(Input!F$14=0,0,Calculations!L44)","v":0},{"$f":"IF(Input!G$14=0,0,Calculations!M44)","v":0},{"$f":"IF(Input!H$14=0,0,Calculations!N44)","v":0},{"$f":"IF(Input!I$14=0,0,Calculations!O44)","v":0},{"$f":"IF(Input!J$14=0,0,Calculations!P44)","v":0},{"$f":"MAX(Calculations!L44:P44)","v":0},{"$f":"Calculations!K44","v":15},0,null,{"$f":"Input!B140","v":0},null,{"$f":"Input!C140","v":0},{"$f":"Input!D140","v":0},null,null,null,null,{"$f":"IF(Input!F$14=0,0,Input!F140)","v":0},{"$f":"IF(Input!G$14=0,0,Input!G140)","v":0},{"$f":"IF(Input!H$14=0,0,Input!H140)","v":0},{"$f":"IF(COUNTBLANK(Input!$F$14:$J$14)=5,MAX(Input!F140:J140),IF(Input!$H$14=0,0,Input!H140))","v":0},{"$f":"IF(Input!I$14=0,0,Input!I140)","v":0},{"$f":"IF(Input!J$14=0,0,Input!J140)","v":0},{"$f":"IF(Input!J$14=0,0,Input!J140)","v":0},{"$f":"MAX(IF(Input!$F$14>0,Input!F140,0),IF(Input!$G$14>0,Input!G140,0),IF(Input!$H$14>0,Input!H140,0),IF(Input!$I$14>0,Input!I140,0),IF(Input!$J$14>0,Input!J140,0),IF(COUNTBLANK(Input!$F$14:$J$14)=5,Input!F140:J140,0))","v":0},null,null,{"$f":"Input!E140","v":0},null,0]
[null,null,{"$f":"Calculations!B45","v":"W1-3-48"},{"$f":"Calculations!I45","v":"48\"x48\""},{"$f":"Calculations!J45","v":"REVERSE TURN RIGHT or LEFT"},{"$f":"IF(Input!F$14=0,0,Calculations!L45)","v":0},{"$f":"IF(Input!G$14=0,0,Calculations!M45)","v":0},{"$f":"IF(Input!H$14=0,0,Calculations!N45)","v":0},{"$f":"IF(Input!I$14=0,0,Calculations!O45)","v":0},{"$f":"IF(Input!J$14=0,0,Calculations!P45)","v":0},{"$f":"MAX(Calculations!L45:P45)","v":0},{"$f":"Calculations!K45","v":35},0,null,{"$f":"Input!B141","v":0},null,{"$f":"Input!C141","v":0},{"$f":"Input!D141","v":0},null,null,null,null,{"$f":"IF(Input!F$14=0,0,Input!F141)","v":0},{"$f":"IF(Input!G$14=0,0,Input!G141)","v":0},{"$f":"IF(Input!H$14=0,0,Input!H141)","v":0},{"$f":"IF(COUNTBLANK(Input!$F$14:$J$14)=5,MAX(Input!F141:J141),IF(Input!$H$14=0,0,Input!H141))","v":0},{"$f":"IF(Input!I$14=0,0,Input!I141)","v":0},{"$f":"IF(Input!J$14=0,0,Input!J141)","v":0},{"$f":"IF(Input!J$14=0,0,Input!J141)","v":0},{"$f":"MAX(IF(Input!$F$14>0,Input!F141,0),IF(Input!$G$14>0,Input!G141,0),IF(Input!$H$14>0,Input!H141,0),IF(Input!$I$14>0,Input!I141,0),IF(Input!$J$14>0,Input!J141,0),IF(COUNTBLANK(Input!$F$14:$J$14)=5,Input!F141:J141,0))","v":0},null,null,{"$f":"Input!E141","v":0},null,0,null,{"$f":"'Sign Units Computation'!L7","v":"NOTE:\nIf additional signs are required, units will be calculated using the formula from Section III-18.06 of the Design Manual.\nhttp://www.dot.nd.gov/"}]
[null,null,{"$f":"Calculations!B46","v":"W1-4-48"},{"$f":"Calculations!I46","v":"48\"x48\""},{"$f":"Calculations!J46","v":"REVERSE CURVE RIGHT or LEFT"},{"$f":"IF(Input!F$14=0,0,Calculations!L46)","v":0},{"$f":"IF(Input!G$14=0,0,Calculations!M46)","v":0},{"$f":"IF(Input!H$14=0,0,Calculations!N46)","v":0},{"$f":"IF(Input!I$14=0,0,Calculations!O46)","v":0},{"$f":"IF(Input!J$14=0,0,Calculations!P46)","v":0},{"$f":"MAX(Calculations!L46:P46)","v":0},{"$f":"Calculations!K46","v":35},0,null,{"$f":"Input!B142","v":0},null,{"$f":"Input!C142","v":0},{"$f":"Input!D142","v":0},null,null,null,null,{"$f":"IF(Input!F$14=0,0,Input!F142)","v":0},{"$f":"IF(Input!G$14=0,0,Input!G142)","v":0},{"$f":"IF(Input!H$14=0,0,Input!H142)","v":0},{"$f":"IF(COUNTBLANK(Input!$F$14:$J$14)=5,MAX(Input!F142:J142),IF(Input!$H$14=0,0,Input!H142))","v":0},{"$f":"IF(Input!I$14=0,0,Input!I142)","v":0},{"$f":"IF(Input!J$14=0,0,Input!J142)","v":0},{"$f":"IF(Input!J$14=0,0,Input!J142)","v":0},{"$f":"MAX(IF(Input!$F$14>0,Input!F142,0),IF(Input!$G$14>0,Input!G142,0),IF(Input!$H$14>0,Input!H142,0),IF(Input!$I$14>0,Input!I142,0),IF(Input!$J$14>0,Input!J142,0),IF(COUNTBLANK(Input!$F$14:$J$14)=5,Input!F142:J142,0))","v":0},null,null,{"$f":"Input!E142","v":0},null,0]
[null,null,{"$f":"Calculations!B47","v":"W1-4b-48"},{"$f":"Calculations!I47","v":"48\"x48\""},{"$f":"Calculations!J47","v":"TWO LANE REVERSE CURVE RIGHT or LEFT"},{"$f":"IF(Input!F$14=0,0,Calculations!L47)","v":0},{"$f":"IF(Input!G$14=0,0,Calculations!M47)","v":0},{"$f":"IF(Input!H$14=0,0,Calculations!N47)","v":0},{"$f":"IF(Input!I$14=0,0,Calculations!O47)","v":0},{"$f":"IF(Input!J$14=0,0,Calculations!P47)","v":0},{"$f":"MAX(Calculations!L47:P47)","v":0},{"$f":"Calculations!K47","v":35},0,null,{"$f":"Input!B143","v":0},null,{"$f":"Input!C143","v":0},{"$f":"Input!D143","v":0},null,null,null,null,{"$f":"IF(Input!F$14=0,0,Input!F143)","v":0},{"$f":"IF(Input!G$14=0,0,Input!G143)","v":0},{"$f":"IF(Input!H$14=0,0,Input!H143)","v":0},{"$f":"IF(COUNTBLANK(Input!$F$14:$J$14)=5,MAX(Input!F143:J143),IF(Input!$H$14=0,0,Input!H143))","v":0},{"$f":"IF(Input!I$14=0,0,Input!I143)","v":0},{"$f":"IF(Input!J$14=0,0,Input!J143)","v":0},{"$f":"IF(Input!J$14=0,0,Input!J143)","v":0},{"$f":"MAX(IF(Input!$F$14>0,Input!F143,0),IF(Input!$G$14>0,Input!G143,0),IF(Input!$H$14>0,Input!H143,0),IF(Input!$I$14>0,Input!I143,0),IF(Input!$J$14>0,Input!J143,0),IF(COUNTBLANK(Input!$F$14:$J$14)=5,Input!F143:J143,0))","v":0},null,null,{"$f":"Input!E143","v":0},null,0]
[null,null,{"$f":"Calculations!B48","v":"W1-6-48"},{"$f":"Calculations!I48","v":"48\"x24\""},{"$f":"Calculations!J48","v":"ONE DIRECTION LARGE ARROW"},{"$f":"IF(Input!F$14=0,0,Calculations!L48)","v":0},{"$f":"IF(Input!G$14=0,0,Calculations!M48)","v":0},{"$f":"IF(Input!H$14=0,0,Calculations!N48)","v":0},{"$f":"IF(Input!I$14=0,0,Calculations!O48)","v":0},{"$f":"IF(Input!J$14=0,0,Calculations!P48)","v":0},{"$f":"MAX(Calculations!L48:P48)","v":0},{"$f":"Calculations!K48","v":26},0]
[null,null,{"$f":"Calculations!B49","v":"W3-1-48"},{"$f":"Calculations!I49","v":"48\"x48\""},{"$f":"Calculations!J49","v":"STOP AHEAD"},{"$f":"IF(Input!F$14=0,0,Calculations!L49)","v":0},{"$f":"IF(Input!G$14=0,0,Calculations!M49)","v":0},{"$f":"IF(Input!H$14=0,0,Calculations!N49)","v":0},{"$f":"IF(Input!I$14=0,0,Calculations!O49)","v":0},{"$f":"IF(Input!J$14=0,0,Calculations!P49)","v":0},{"$f":"MAX(Calculations!L49:P49)","v":0},{"$f":"Calculations!K49","v":35},0,null,"SPEC & CODE"]
[null,null,{"$f":"Calculations!B50","v":"W3-3-48"},{"$f":"Calculations!I50","v":"48\"x48\""},{"$f":"Calculations!J50","v":"SIGNAL AHEAD"},{"$f":"IF(Input!F$14=0,0,Calculations!L50)","v":0},{"$f":"IF(Input!G$14=0,0,Calculations!M50)","v":0},{"$f":"IF(Input!H$14=0,0,Calculations!N50)","v":0},{"$f":"IF(Input!I$14=0,0,Calculations!O50)","v":0},{"$f":"IF(Input!J$14=0,0,Calculations!P50)","v":0},{"$f":"MAX(Calculations!L50:P50)","v":0},{"$f":"Calculations!K50","v":35},0,null,"704-1000",null,null,"TRAFFIC CONTROL SIGNS                                                                                           TOTAL UNITS",null,null,null,null,null,null,null,null,null,null,null,{"$f":"SUM(M9:M90)+SUM(AI9:AI35)+SUM(AI38:AI52)","v":0}]
[null,null,{"$f":"Calculations!B51","v":"W3-4-48"},{"$f":"Calculations!I51","v":"48\"x48\""},{"$f":"Calculations!J51","v":"BE PREPARED TO STOP"},{"$f":"IF(Input!F$14=0,0,Calculations!L51)","v":0},{"$f":"IF(Input!G$14=0,0,Calculations!M51)","v":0},{"$f":"IF(Input!H$14=0,0,Calculations!N51)","v":0},{"$f":"IF(Input!I$14=0,0,Calculations!O51)","v":0},{"$f":"IF(Input!J$14=0,0,Calculations!P51)","v":0},{"$f":"MAX(Calculations!L51:P51)","v":0},{"$f":"Calculations!K51","v":35},0]
[null,null,{"$f":"Calculations!B52","v":"W3-5-48"},{"$f":"Calculations!I52","v":"48\"x48\""},{"$f":"Calculations!J52","v":"SPEED REDUCTION AHEAD"},{"$f":"IF(Input!F$14=0,0,Calculations!L52)","v":0},{"$f":"IF(Input!G$14=0,0,Calculations!M52)","v":0},{"$f":"IF(Input!H$14=0,0,Calculations!N52)","v":0},{"$f":"IF(Input!I$14=0,0,Calculations!O52)","v":0},{"$f":"IF(Input!J$14=0,0,Calculations!P52)","v":0},{"$f":"MAX(Calculations!L52:P52)","v":0},{"$f":"Calculations!K52","v":35},0]
[null,null,{"$f":"Calculations!B53","v":"W4-2-48"},{"$f":"Calculations!I53","v":"48\"x48\""},{"$f":"Calculations!J53","v":"LANE ENDS RIGHT or LEFT"},{"$f":"IF(Input!F$14=0,0,Calculations!L53)","v":0},{"$f":"IF(Input!G$14=0,0,Calculations!M53)","v":0},{"$f":"IF(Input!H$14=0,0,Calculations!N53)","v":0},{"$f":"IF(Input!I$14=0,0,Calculations!O53)","v":0},{"$f":"IF(Input!J$14=0,0,Calculations!P53)","v":0},{"$f":"MAX(Calculations!L53:P53)","v":0},{"$f":"Calculations!K53","v":35},0,null,"SPEC & CODE",null,"DESCRIPTION",null,{"$f":"IF(COUNTBLANK(Input!F14:J14)=5,0,\" UNIT\")","v":0},{"$f":"IF(COUNTBLANK(Input!F14:J14)=5,0,\"QUANTITY\")","v":0},null,null,null,null,null,null,null,null,{"$f":"IF(COUNTBLANK(Input!F14:J14)=5,\"QUANTITY\",\"TOTAL QUANTITY\")","v":"QUANTITY"}]
[null,null,{"$f":"Calculations!B54","v":"W5-1-48"},{"$f":"Calculations!I54","v":"48\"x48\""},{"$f":"Calculations!J54","v":"ROAD NARROWS"},{"$f":"IF(Input!F$14=0,0,Calculations!L54)","v":0},{"$f":"IF(Input!G$14=0,0,Calculations!M54)","v":0},{"$f":"IF(Input!H$14=0,0,Calculations!N54)","v":0},{"$f":"IF(Input!I$14=0,0,Calculations!O54)","v":0},{"$f":"IF(Input!J$14=0,0,Calculations!P54)","v":0},{"$f":"MAX(Calculations!L54:P54)","v":0},{"$f":"Calculations!K54","v":35},0,null,null,null,null,null,null,{"$f":"IF(COUNTBLANK(Input!F14:J14)=5,0,\"             BY PHASE NO.\")","v":0},null,null,null,null,null,{"$f":"IF(COUNTBLANK(Input!F14:J14)=5,\"UNIT\",0)","v":"UNIT"}]
[null,null,{"$f":"Calculations!B55","v":"W5-8-48"},{"$f":"Calculations!I55","v":"48\"x48\""},{"$f":"Calculations!J55","v":"THRU TRAFFIC RIGHT LANE"},{"$f":"IF(Input!F$14=0,0,Calculations!L55)","v":0},{"$f":"IF(Input!G$14=0,0,Calculations!M55)","v":0},{"$f":"IF(Input!H$14=0,0,Calculations!N55)","v":0},{"$f":"IF(Input!I$14=0,0,Calculations!O55)","v":0},{"$f":"IF(Input!J$14=0,0,Calculations!P55)","v":0},{"$f":"MAX(Calculations!L55:P55)","v":0},{"$f":"Calculations!K55","v":35},0,null,null,null,null,null,null,{"$f":"Input!W14","v":0},{"$f":"Input!X14","v":0},{"$f":"Input!Y14","v":0},null,{"$f":"Input!Z14","v":0},null,{"$f":"Input!AA14","v":0}]
[null,null,{"$f":"Calculations!B56","v":"W5-9-48"},{"$f":"Calculations!I56","v":"48\"x48\""},{"$f":"Calculations!J56","v":"ROAD WORK TRAFFIC ONLY DOWN & LT or RT ARROW"},{"$f":"IF(Input!F$14=0,0,Calculations!L56)","v":0},{"$f":"IF(Input!G$14=0,0,Calculations!M56)","v":0},{"$f":"IF(Input!H$14=0,0,Calculations!N56)","v":0},{"$f":"IF(Input!I$14=0,0,Calculations!O56)","v":0},{"$f":"IF(Input!J$14=0,0,Calculations!P56)","v":0},{"$f":"MAX(Calculations!L56:P56)","v":0},{"$f":"Calculations!K56","v":35},0,null,{"$f":"IF(COUNT(Input!$L$15:$L$44)-0<1,0,LARGE(Input!$L$15:$L$44,COUNT(Input!$L$15:$L$44)-0))","v":7040100},null,{"$f":"IF(O61=0,0,VLOOKUP(O61,Input!$L$15:$AA$44,2,FALSE))","v":"FLAGGING"},null,{"$f":"IF(COUNTBLANK(Input!$F$14:$J$14)=5,0,IF(O61=0,0,VLOOKUP(O61,Input!$L$15:$AA$44,11,FALSE)))","v":0},{"$f":"IF(COUNTIF($T$60:$AB$60,\"=0\")=5,0,IF($T$60=0,0,IF(O61=0,0,VLOOKUP(O61,Input!$L$15:$AA$44,12,FALSE))))","v":0},{"$f":"IF(COUNTIF($T$60:$AB$60,\"=0\")=5,0,IF($U$60=0,0,IF(O61=0,0,VLOOKUP(O61,Input!$L$15:$AA$44,13,FALSE))))","v":0},{"$f":"IF(COUNTIF($T$60:$AB$60,\"=0\")=5,0,IF($V$60=0,0,IF(O61=0,0,VLOOKUP(O61,Input!$L$15:$AA$44,14,FALSE))))","v":0},null,{"$f":"IF(COUNTIF($T$60:$AB$60,\"=0\")=5,0,IF($X$60=0,0,IF(O61=0,0,VLOOKUP(O61,Input!$L$15:$AA$44,15,FALSE))))","v":0},null,{"$f":"IF(COUNTBLANK(Input!$F$14:$J$14)=5,IF(O61=0,0,VLOOKUP(O61,Input!$L$15:$AA$44,11,FALSE)),IF($Z$60=0,0,IF(O61=0,0,VLOOKUP(O61,Input!$L$15:$AA$44,16,FALSE))))","v":"MHR"},null,null,{"$f":"IF(COUNTIF($T$60:$AB$60,\"=0\")<5,IF(IF(O61=0,0,VLOOKUP(O61,Input!$L$15:$AC$44,18,FALSE))=\"X\",T61+U61+V61+X61+Z61,MAX(T61:AB61)),IF(O61=0,0,MAX(VLOOKUP(O61,Input!$L$15:$AC$44,12,FALSE),VLOOKUP(O61,Input!$L$15:$AC$44,13,FALSE),VLOOKUP(O61,Input!$L$15:$AC$44,14,FALSE),VLOOKUP(O61,Input!$L$15:$AC$44,15,FALSE),VLOOKUP(O61,Input!$L$15:$AC$44,16,FALSE))))","v":0}]
[null,null,{"$f":"Calculations!B57","v":"W6-3-48"},{"$f":"Calculations!I57","v":"48\"x48\""},{"$f":"Calculations!J57","v":"TWO WAY TRAFFIC"},{"$f":"IF(Input!F$14=0,0,Calculations!L57)","v":0},{"$f":"IF(Input!G$14=0,0,Calculations!M57)","v":0},{"$f":"IF(Input!H$14=0,0,Calculations!N57)","v":0},{"$f":"IF(Input!I$14=0,0,Calculations!O57)","v":0},{"$f":"IF(Input!J$14=0,0,Calculations!P57)","v":0},{"$f":"MAX(Calculations!L57:P57)","v":0},{"$f":"Calculations!K57","v":35},0,null,{"$f":"IF(COUNT(Input!$L$15:$L$44)-1<1,0,LARGE(Input!$L$15:$L$44,COUNT(Input!$L$15:$L$44)-1))","v":7041048},null,{"$f":"IF(O62=0,0,VLOOKUP(O62,Input!$L$15:$AA$44,2,FALSE))","v":"PORTABLE RUMBLE STRIPS"},null,{"$f":"IF(COUNTBLANK(Input!$F$14:$J$14)=5,0,IF(O62=0,0,VLOOKUP(O62,Input!$L$15:$AA$44,11,FALSE)))","v":0},{"$f":"IF(COUNTIF($T$60:$AB$60,\"=0\")=5,0,IF($T$60=0,0,IF(O62=0,0,VLOOKUP(O62,Input!$L$15:$AA$44,12,FALSE))))","v":0},{"$f":"IF(COUNTIF($T$60:$AB$60,\"=0\")=5,0,IF($U$60=0,0,IF(O62=0,0,VLOOKUP(O62,Input!$L$15:$AA$44,13,FALSE))))","v":0},{"$f":"IF(COUNTIF($T$60:$AB$60,\"=0\")=5,0,IF($V$60=0,0,IF(O62=0,0,VLOOKUP(O62,Input!$L$15:$AA$44,14,FALSE))))","v":0},null,{"$f":"IF(COUNTIF($T$60:$AB$60,\"=0\")=5,0,IF($X$60=0,0,IF(O62=0,0,VLOOKUP(O62,Input!$L$15:$AA$44,15,FALSE))))","v":0},null,{"$f":"IF(COUNTBLANK(Input!$F$14:$J$14)=5,IF(O62=0,0,VLOOKUP(O62,Input!$L$15:$AA$44,11,FALSE)),IF($Z$60=0,0,IF(O62=0,0,VLOOKUP(O62,Input!$L$15:$AA$44,16,FALSE))))","v":"EACH"},null,null,{"$f":"IF(COUNTIF($T$60:$AB$60,\"=0\")<5,IF(IF(O62=0,0,VLOOKUP(O62,Input!$L$15:$AC$44,18,FALSE))=\"X\",T62+U62+V62+X62+Z62,MAX(T62:AB62)),IF(O62=0,0,MAX(VLOOKUP(O62,Input!$L$15:$AC$44,12,FALSE),VLOOKUP(O62,Input!$L$15:$AC$44,13,FALSE),VLOOKUP(O62,Input!$L$15:$AC$44,14,FALSE),VLOOKUP(O62,Input!$L$15:$AC$44,15,FALSE),VLOOKUP(O62,Input!$L$15:$AC$44,16,FALSE))))","v":0}]
[null,null,{"$f":"Calculations!B58","v":"W8-1-48"},{"$f":"Calculations!I58","v":"48\"x48\""},{"$f":"Calculations!J58","v":"BUMP"},{"$f":"IF(Input!F$14=0,0,Calculations!L58)","v":0},{"$f":"IF(Input!G$14=0,0,Calculations!M58)","v":0},{"$f":"IF(Input!H$14=0,0,Calculations!N58)","v":0},{"$f":"IF(Input!I$14=0,0,Calculations!O58)","v":0},{"$f":"IF(Input!J$14=0,0,Calculations!P58)","v":0},{"$f":"MAX(Calculations!L58:P58)","v":0},{"$f":"Calculations!K58","v":35},0,null,{"$f":"IF(COUNT(Input!$L$15:$L$44)-2<1,0,LARGE(Input!$L$15:$L$44,COUNT(Input!$L$15:$L$44)-2))","v":7041050},null,{"$f":"IF(O63=0,0,VLOOKUP(O63,Input!$L$15:$AA$44,2,FALSE))","v":"TYPE I BARRICADES"},null,{"$f":"IF(COUNTBLANK(Input!$F$14:$J$14)=5,0,IF(O63=0,0,VLOOKUP(O63,Input!$L$15:$AA$44,11,FALSE)))","v":0},{"$f":"IF(COUNTIF($T$60:$AB$60,\"=0\")=5,0,IF($T$60=0,0,IF(O63=0,0,VLOOKUP(O63,Input!$L$15:$AA$44,12,FALSE))))","v":0},{"$f":"IF(COUNTIF($T$60:$AB$60,\"=0\")=5,0,IF($U$60=0,0,IF(O63=0,0,VLOOKUP(O63,Input!$L$15:$AA$44,13,FALSE))))","v":0},{"$f":"IF(COUNTIF($T$60:$AB$60,\"=0\")=5,0,IF($V$60=0,0,IF(O63=0,0,VLOOKUP(O63,Input!$L$15:$AA$44,14,FALSE))))","v":0},null,{"$f":"IF(COUNTIF($T$60:$AB$60,\"=0\")=5,0,IF($X$60=0,0,IF(O63=0,0,VLOOKUP(O63,Input!$L$15:$AA$44,15,FALSE))))","v":0},null,{"$f":"IF(COUNTBLANK(Input!$F$14:$J$14)=5,IF(O63=0,0,VLOOKUP(O63,Input!$L$15:$AA$44,11,FALSE)),IF($Z$60=0,0,IF(O63=0,0,VLOOKUP(O63,Input!$L$15:$AA$44,16,FALSE))))","v":"EACH"},null,null,{"$f":"IF(COUNTIF($T$60:$AB$60,\"=0\")<5,IF(IF(O63=0,0,VLOOKUP(O63,Input!$L$15:$AC$44,18,FALSE))=\"X\",T63+U63+V63+X63+Z63,MAX(T63:AB63)),IF(O63=0,0,MAX(VLOOKUP(O63,Input!$L$15:$AC$44,12,FALSE),VLOOKUP(O63,Input!$L$15:$AC$44,13,FALSE),VLOOKUP(O63,Input!$L$15:$AC$44,14,FALSE),VLOOKUP(O63,Input!$L$15:$AC$44,15,FALSE),VLOOKUP(O63,Input!$L$15:$AC$44,16,FALSE))))","v":0}]
[null,null,{"$f":"Calculations!B59","v":"W8-3-48"},{"$f":"Calculations!I59","v":"48\"x48\""},{"$f":"Calculations!J59","v":"PAVEMENT ENDS"},{"$f":"IF(Input!F$14=0,0,Calculations!L59)","v":0},{"$f":"IF(Input!G$14=0,0,Calculations!M59)","v":0},{"$f":"IF(Input!H$14=0,0,Calculations!N59)","v":0},{"$f":"IF(Input!I$14=0,0,Calculations!O59)","v":0},{"$f":"IF(Input!J$14=0,0,Calculations!P59)","v":0},{"$f":"MAX(Calculations!L59:P59)","v":0},{"$f":"Calculations!K59","v":35},0,null,{"$f":"IF(COUNT(Input!$L$15:$L$44)-3<1,0,LARGE(Input!$L$15:$L$44,COUNT(Input!$L$15:$L$44)-3))","v":7041052},null,{"$f":"IF(O64=0,0,VLOOKUP(O64,Input!$L$15:$AA$44,2,FALSE))","v":"TYPE III BARRICADES"},null,{"$f":"IF(COUNTBLANK(Input!$F$14:$J$14)=5,0,IF(O64=0,0,VLOOKUP(O64,Input!$L$15:$AA$44,11,FALSE)))","v":0},{"$f":"IF(COUNTIF($T$60:$AB$60,\"=0\")=5,0,IF($T$60=0,0,IF(O64=0,0,VLOOKUP(O64,Input!$L$15:$AA$44,12,FALSE))))","v":0},{"$f":"IF(COUNTIF($T$60:$AB$60,\"=0\")=5,0,IF($U$60=0,0,IF(O64=0,0,VLOOKUP(O64,Input!$L$15:$AA$44,13,FALSE))))","v":0},{"$f":"IF(COUNTIF($T$60:$AB$60,\"=0\")=5,0,IF($V$60=0,0,IF(O64=0,0,VLOOKUP(O64,Input!$L$15:$AA$44,14,FALSE))))","v":0},null,{"$f":"IF(COUNTIF($T$60:$AB$60,\"=0\")=5,0,IF($X$60=0,0,IF(O64=0,0,VLOOKUP(O64,Input!$L$15:$AA$44,15,FALSE))))","v":0},null,{"$f":"IF(COUNTBLANK(Input!$F$14:$J$14)=5,IF(O64=0,0,VLOOKUP(O64,Input!$L$15:$AA$44,11,FALSE)),IF($Z$60=0,0,IF(O64=0,0,VLOOKUP(O64,Input!$L$15:$AA$44,16,FALSE))))","v":"EACH"},null,null,{"$f":"IF(COUNTIF($T$60:$AB$60,\"=0\")<5,IF(IF(O64=0,0,VLOOKUP(O64,Input!$L$15:$AC$44,18,FALSE))=\"X\",T64+U64+V64+X64+Z64,MAX(T64:AB64)),IF(O64=0,0,MAX(VLOOKUP(O64,Input!$L$15:$AC$44,12,FALSE),VLOOKUP(O64,Input!$L$15:$AC$44,13,FALSE),VLOOKUP(O64,Input!$L$15:$AC$44,14,FALSE),VLOOKUP(O64,Input!$L$15:$AC$44,15,FALSE),VLOOKUP(O64,Input!$L$15:$AC$44,16,FALSE))))","v":0}]
[null,null,{"$f":"Calculations!B60","v":"W8-7-48"},{"$f":"Calculations!I60","v":"48\"x48\""},{"$f":"Calculations!J60","v":"LOOSE GRAVEL"},{"$f":"IF(Input!F$14=0,0,Calculations!L60)","v":0},{"$f":"IF(Input!G$14=0,0,Calculations!M60)","v":0},{"$f":"IF(Input!H$14=0,0,Calculations!N60)","v":0},{"$f":"IF(Input!I$14=0,0,Calculations!O60)","v":0},{"$f":"IF(Input!J$14=0,0,Calculations!P60)","v":0},{"$f":"MAX(Calculations!L60:P60)","v":0},{"$f":"Calculations!K60","v":35},0,null,{"$f":"IF(COUNT(Input!$L$15:$L$44)-4<1,0,LARGE(Input!$L$15:$L$44,COUNT(Input!$L$15:$L$44)-4))","v":7041060},null,{"$f":"IF(O65=0,0,VLOOKUP(O65,Input!$L$15:$AA$44,2,FALSE))","v":"DELINEATOR DRUMS"},null,{"$f":"IF(COUNTBLANK(Input!$F$14:$J$14)=5,0,IF(O65=0,0,VLOOKUP(O65,Input!$L$15:$AA$44,11,FALSE)))","v":0},{"$f":"IF(COUNTIF($T$60:$AB$60,\"=0\")=5,0,IF($T$60=0,0,IF(O65=0,0,VLOOKUP(O65,Input!$L$15:$AA$44,12,FALSE))))","v":0},{"$f":"IF(COUNTIF($T$60:$AB$60,\"=0\")=5,0,IF($U$60=0,0,IF(O65=0,0,VLOOKUP(O65,Input!$L$15:$AA$44,13,FALSE))))","v":0},{"$f":"IF(COUNTIF($T$60:$AB$60,\"=0\")=5,0,IF($V$60=0,0,IF(O65=0,0,VLOOKUP(O65,Input!$L$15:$AA$44,14,FALSE))))","v":0},null,{"$f":"IF(COUNTIF($T$60:$AB$60,\"=0\")=5,0,IF($X$60=0,0,IF(O65=0,0,VLOOKUP(O65,Input!$L$15:$AA$44,15,FALSE))))","v":0},null,{"$f":"IF(COUNTBLANK(Input!$F$14:$J$14)=5,IF(O65=0,0,VLOOKUP(O65,Input!$L$15:$AA$44,11,FALSE)),IF($Z$60=0,0,IF(O65=0,0,VLOOKUP(O65,Input!$L$15:$AA$44,16,FALSE))))","v":"EACH"},null,null,{"$f":"IF(COUNTIF($T$60:$AB$60,\"=0\")<5,IF(IF(O65=0,0,VLOOKUP(O65,Input!$L$15:$AC$44,18,FALSE))=\"X\",T65+U65+V65+X65+Z65,MAX(T65:AB65)),IF(O65=0,0,MAX(VLOOKUP(O65,Input!$L$15:$AC$44,12,FALSE),VLOOKUP(O65,Input!$L$15:$AC$44,13,FALSE),VLOOKUP(O65,Input!$L$15:$AC$44,14,FALSE),VLOOKUP(O65,Input!$L$15:$AC$44,15,FALSE),VLOOKUP(O65,Input!$L$15:$AC$44,16,FALSE))))","v":0}]
[null,null,{"$f":"Calculations!B61","v":"W8-11-48"},{"$f":"Calculations!I61","v":"48\"x48\""},{"$f":"Calculations!J61","v":"UNEVEN LANES"},{"$f":"IF(Input!F$14=0,0,Calculations!L61)","v":0},{"$f":"IF(Input!G$14=0,0,Calculations!M61)","v":0},{"$f":"IF(Input!H$14=0,0,Calculations!N61)","v":0},{"$f":"IF(Input!I$14=0,0,Calculations!O61)","v":0},{"$f":"IF(Input!J$14=0,0,Calculations!P61)","v":0},{"$f":"MAX(Calculations!L61:P61)","v":0},{"$f":"Calculations!K61","v":35},0,null,{"$f":"IF(COUNT(Input!$L$15:$L$44)-5<1,0,LARGE(Input!$L$15:$L$44,COUNT(Input!$L$15:$L$44)-5))","v":7041065},null,{"$f":"IF(O66=0,0,VLOOKUP(O66,Input!$L$15:$AA$44,2,FALSE))","v":"TRAFFIC CONES"},null,{"$f":"IF(COUNTBLANK(Input!$F$14:$J$14)=5,0,IF(O66=0,0,VLOOKUP(O66,Input!$L$15:$AA$44,11,FALSE)))","v":0},{"$f":"IF(COUNTIF($T$60:$AB$60,\"=0\")=5,0,IF($T$60=0,0,IF(O66=0,0,VLOOKUP(O66,Input!$L$15:$AA$44,12,FALSE))))","v":0},{"$f":"IF(COUNTIF($T$60:$AB$60,\"=0\")=5,0,IF($U$60=0,0,IF(O66=0,0,VLOOKUP(O66,Input!$L$15:$AA$44,13,FALSE))))","v":0},{"$f":"IF(COUNTIF($T$60:$AB$60,\"=0\")=5,0,IF($V$60=0,0,IF(O66=0,0,VLOOKUP(O66,Input!$L$15:$AA$44,14,FALSE))))","v":0},null,{"$f":"IF(COUNTIF($T$60:$AB$60,\"=0\")=5,0,IF($X$60=0,0,IF(O66=0,0,VLOOKUP(O66,Input!$L$15:$AA$44,15,FALSE))))","v":0},null,{"$f":"IF(COUNTBLANK(Input!$F$14:$J$14)=5,IF(O66=0,0,VLOOKUP(O66,Input!$L$15:$AA$44,11,FALSE)),IF($Z$60=0,0,IF(O66=0,0,VLOOKUP(O66,Input!$L$15:$AA$44,16,FALSE))))","v":"EACH"},null,null,{"$f":"IF(COUNTIF($T$60:$AB$60,\"=0\")<5,IF(IF(O66=0,0,VLOOKUP(O66,Input!$L$15:$AC$44,18,FALSE))=\"X\",T66+U66+V66+X66+Z66,MAX(T66:AB66)),IF(O66=0,0,MAX(VLOOKUP(O66,Input!$L$15:$AC$44,12,FALSE),VLOOKUP(O66,Input!$L$15:$AC$44,13,FALSE),VLOOKUP(O66,Input!$L$15:$AC$44,14,FALSE),VLOOKUP(O66,Input!$L$15:$AC$44,15,FALSE),VLOOKUP(O66,Input!$L$15:$AC$44,16,FALSE))))","v":0}]
[null,null,{"$f":"Calculations!B62","v":"W8-12-48"},{"$f":"Calculations!I62","v":"48\"x48\""},{"$f":"Calculations!J62","v":"NO CENTER LINE"},{"$f":"IF(Input!F$14=0,0,Calculations!L62)","v":0},{"$f":"IF(Input!G$14=0,0,Calculations!M62)","v":0},{"$f":"IF(Input!H$14=0,0,Calculations!N62)","v":0},{"$f":"IF(Input!I$14=0,0,Calculations!O62)","v":0},{"$f":"IF(Input!J$14=0,0,Calculations!P62)","v":0},{"$f":"MAX(Calculations!L62:P62)","v":0},{"$f":"Calculations!K62","v":35},0,null,{"$f":"IF(COUNT(Input!$L$15:$L$44)-6<1,0,LARGE(Input!$L$15:$L$44,COUNT(Input!$L$15:$L$44)-6))","v":7041067},null,{"$f":"IF(O67=0,0,VLOOKUP(O67,Input!$L$15:$AA$44,2,FALSE))","v":"TUBULAR MARKERS"},null,{"$f":"IF(COUNTBLANK(Input!$F$14:$J$14)=5,0,IF(O67=0,0,VLOOKUP(O67,Input!$L$15:$AA$44,11,FALSE)))","v":0},{"$f":"IF(COUNTIF($T$60:$AB$60,\"=0\")=5,0,IF($T$60=0,0,IF(O67=0,0,VLOOKUP(O67,Input!$L$15:$AA$44,12,FALSE))))","v":0},{"$f":"IF(COUNTIF($T$60:$AB$60,\"=0\")=5,0,IF($U$60=0,0,IF(O67=0,0,VLOOKUP(O67,Input!$L$15:$AA$44,13,FALSE))))","v":0},{"$f":"IF(COUNTIF($T$60:$AB$60,\"=0\")=5,0,IF($V$60=0,0,IF(O67=0,0,VLOOKUP(O67,Input!$L$15:$AA$44,14,FALSE))))","v":0},null,{"$f":"IF(COUNTIF($T$60:$AB$60,\"=0\")=5,0,IF($X$60=0,0,IF(O67=0,0,VLOOKUP(O67,Input!$L$15:$AA$44,15,FALSE))))","v":0},null,{"$f":"IF(COUNTBLANK(Input!$F$14:$J$14)=5,IF(O67=0,0,VLOOKUP(O67,Input!$L$15:$AA$44,11,FALSE)),IF($Z$60=0,0,IF(O67=0,0,VLOOKUP(O67,Input!$L$15:$AA$44,16,FALSE))))","v":"EACH"},null,null,{"$f":"IF(COUNTIF($T$60:$AB$60,\"=0\")<5,IF(IF(O67=0,0,VLOOKUP(O67,Input!$L$15:$AC$44,18,FALSE))=\"X\",T67+U67+V67+X67+Z67,MAX(T67:AB67)),IF(O67=0,0,MAX(VLOOKUP(O67,Input!$L$15:$AC$44,12,FALSE),VLOOKUP(O67,Input!$L$15:$AC$44,13,FALSE),VLOOKUP(O67,Input!$L$15:$AC$44,14,FALSE),VLOOKUP(O67,Input!$L$15:$AC$44,15,FALSE),VLOOKUP(O67,Input!$L$15:$AC$44,16,FALSE))))","v":0}]
[null,null,{"$f":"Calculations!B63","v":"W8-17-48"},{"$f":"Calculations!I63","v":"48\"x48\""},{"$f":"Calculations!J63","v":"SHOULDER DROP-OFF SYMBOL"},{"$f":"IF(Input!F$14=0,0,Calculations!L63)","v":0},{"$f":"IF(Input!G$14=0,0,Calculations!M63)","v":0},{"$f":"IF(Input!H$14=0,0,Calculations!N63)","v":0},{"$f":"IF(Input!I$14=0,0,Calculations!O63)","v":0},{"$f":"IF(Input!J$14=0,0,Calculations!P63)","v":0},{"$f":"MAX(Calculations!L63:P63)","v":0},{"$f":"Calculations!K63","v":35},0,null,{"$f":"IF(COUNT(Input!$L$15:$L$44)-7<1,0,LARGE(Input!$L$15:$L$44,COUNT(Input!$L$15:$L$44)-7))","v":7041070},null,{"$f":"IF(O68=0,0,VLOOKUP(O68,Input!$L$15:$AA$44,2,FALSE))","v":"DELINEATOR"},null,{"$f":"IF(COUNTBLANK(Input!$F$14:$J$14)=5,0,IF(O68=0,0,VLOOKUP(O68,Input!$L$15:$AA$44,11,FALSE)))","v":0},{"$f":"IF(COUNTIF($T$60:$AB$60,\"=0\")=5,0,IF($T$60=0,0,IF(O68=0,0,VLOOKUP(O68,Input!$L$15:$AA$44,12,FALSE))))","v":0},{"$f":"IF(COUNTIF($T$60:$AB$60,\"=0\")=5,0,IF($U$60=0,0,IF(O68=0,0,VLOOKUP(O68,Input!$L$15:$AA$44,13,FALSE))))","v":0},{"$f":"IF(COUNTIF($T$60:$AB$60,\"=0\")=5,0,IF($V$60=0,0,IF(O68=0,0,VLOOKUP(O68,Input!$L$15:$AA$44,14,FALSE))))","v":0},null,{"$f":"IF(COUNTIF($T$60:$AB$60,\"=0\")=5,0,IF($X$60=0,0,IF(O68=0,0,VLOOKUP(O68,Input!$L$15:$AA$44,15,FALSE))))","v":0},null,{"$f":"IF(COUNTBLANK(Input!$F$14:$J$14)=5,IF(O68=0,0,VLOOKUP(O68,Input!$L$15:$AA$44,11,FALSE)),IF($Z$60=0,0,IF(O68=0,0,VLOOKUP(O68,Input!$L$15:$AA$44,16,FALSE))))","v":"EACH"},null,null,{"$f":"IF(COUNTIF($T$60:$AB$60,\"=0\")<5,IF(IF(O68=0,0,VLOOKUP(O68,Input!$L$15:$AC$44,18,FALSE))=\"X\",T68+U68+V68+X68+Z68,MAX(T68:AB68)),IF(O68=0,0,MAX(VLOOKUP(O68,Input!$L$15:$AC$44,12,FALSE),VLOOKUP(O68,Input!$L$15:$AC$44,13,FALSE),VLOOKUP(O68,Input!$L$15:$AC$44,14,FALSE),VLOOKUP(O68,Input!$L$15:$AC$44,15,FALSE),VLOOKUP(O68,Input!$L$15:$AC$44,16,FALSE))))","v":0}]
[null,null,{"$f":"Calculations!B64","v":"W8-53-48"},{"$f":"Calculations!I64","v":"48\"x48\""},{"$f":"Calculations!J64","v":"TRUCKS ENTERING HIGHWAY"},{"$f":"IF(Input!F$14=0,0,Calculations!L64)","v":0},{"$f":"IF(Input!G$14=0,0,Calculations!M64)","v":0},{"$f":"IF(Input!H$14=0,0,Calculations!N64)","v":0},{"$f":"IF(Input!I$14=0,0,Calculations!O64)","v":0},{"$f":"IF(Input!J$14=0,0,Calculations!P64)","v":0},{"$f":"MAX(Calculations!L64:P64)","v":0},{"$f":"Calculations!K64","v":35},0,null,{"$f":"IF(COUNT(Input!$L$15:$L$44)-8<1,0,LARGE(Input!$L$15:$L$44,COUNT(Input!$L$15:$L$44)-8))","v":7041072},null,{"$f":"IF(O69=0,0,VLOOKUP(O69,Input!$L$15:$AA$44,2,FALSE))","v":"FLEXIBLE DELINEATORS"},null,{"$f":"IF(COUNTBLANK(Input!$F$14:$J$14)=5,0,IF(O69=0,0,VLOOKUP(O69,Input!$L$15:$AA$44,11,FALSE)))","v":0},{"$f":"IF(COUNTIF($T$60:$AB$60,\"=0\")=5,0,IF($T$60=0,0,IF(O69=0,0,VLOOKUP(O69,Input!$L$15:$AA$44,12,FALSE))))","v":0},{"$f":"IF(COUNTIF($T$60:$AB$60,\"=0\")=5,0,IF($U$60=0,0,IF(O69=0,0,VLOOKUP(O69,Input!$L$15:$AA$44,13,FALSE))))","v":0},{"$f":"IF(COUNTIF($T$60:$AB$60,\"=0\")=5,0,IF($V$60=0,0,IF(O69=0,0,VLOOKUP(O69,Input!$L$15:$AA$44,14,FALSE))))","v":0},null,{"$f":"IF(COUNTIF($T$60:$AB$60,\"=0\")=5,0,IF($X$60=0,0,IF(O69=0,0,VLOOKUP(O69,Input!$L$15:$AA$44,15,FALSE))))","v":0},null,{"$f":"IF(COUNTBLANK(Input!$F$14:$J$14)=5,IF(O69=0,0,VLOOKUP(O69,Input!$L$15:$AA$44,11,FALSE)),IF($Z$60=0,0,IF(O69=0,0,VLOOKUP(O69,Input!$L$15:$AA$44,16,FALSE))))","v":"EACH"},null,null,{"$f":"IF(COUNTIF($T$60:$AB$60,\"=0\")<5,IF(IF(O69=0,0,VLOOKUP(O69,Input!$L$15:$AC$44,18,FALSE))=\"X\",T69+U69+V69+X69+Z69,MAX(T69:AB69)),IF(O69=0,0,MAX(VLOOKUP(O69,Input!$L$15:$AC$44,12,FALSE),VLOOKUP(O69,Input!$L$15:$AC$44,13,FALSE),VLOOKUP(O69,Input!$L$15:$AC$44,14,FALSE),VLOOKUP(O69,Input!$L$15:$AC$44,15,FALSE),VLOOKUP(O69,Input!$L$15:$AC$44,16,FALSE))))","v":0}]
[null,null,{"$f":"Calculations!B65","v":"W8-54-48"},{"$f":"Calculations!I65","v":"48\"x48\""},{"$f":"Calculations!J65","v":"TRUCKS ENTERING AHEAD or __ FT or _ MILE"},{"$f":"IF(Input!F$14=0,0,Calculations!L65)","v":0},{"$f":"IF(Input!G$14=0,0,Calculations!M65)","v":0},{"$f":"IF(Input!H$14=0,0,Calculations!N65)","v":0},{"$f":"IF(Input!I$14=0,0,Calculations!O65)","v":0},{"$f":"IF(Input!J$14=0,0,Calculations!P65)","v":0},{"$f":"MAX(Calculations!L65:P65)","v":0},{"$f":"Calculations!K65","v":35},0,null,{"$f":"IF(COUNT(Input!$L$15:$L$44)-9<1,0,LARGE(Input!$L$15:$L$44,COUNT(Input!$L$15:$L$44)-9))","v":7041080},null,{"$f":"IF(O70=0,0,VLOOKUP(O70,Input!$L$15:$AA$44,2,FALSE))","v":"STACKABLE VERTICAL PANELS"},null,{"$f":"IF(COUNTBLANK(Input!$F$14:$J$14)=5,0,IF(O70=0,0,VLOOKUP(O70,Input!$L$15:$AA$44,11,FALSE)))","v":0},{"$f":"IF(COUNTIF($T$60:$AB$60,\"=0\")=5,0,IF($T$60=0,0,IF(O70=0,0,VLOOKUP(O70,Input!$L$15:$AA$44,12,FALSE))))","v":0},{"$f":"IF(COUNTIF($T$60:$AB$60,\"=0\")=5,0,IF($U$60=0,0,IF(O70=0,0,VLOOKUP(O70,Input!$L$15:$AA$44,13,FALSE))))","v":0},{"$f":"IF(COUNTIF($T$60:$AB$60,\"=0\")=5,0,IF($V$60=0,0,IF(O70=0,0,VLOOKUP(O70,Input!$L$15:$AA$44,14,FALSE))))","v":0},null,{"$f":"IF(COUNTIF($T$60:$AB$60,\"=0\")=5,0,IF($X$60=0,0,IF(O70=0,0,VLOOKUP(O70,Input!$L$15:$AA$44,15,FALSE))))","v":0},null,{"$f":"IF(COUNTBLANK(Input!$F$14:$J$14)=5,IF(O70=0,0,VLOOKUP(O70,Input!$L$15:$AA$44,11,FALSE)),IF($Z$60=0,0,IF(O70=0,0,VLOOKUP(O70,Input!$L$15:$AA$44,16,FALSE))))","v":"EACH"},null,null,{"$f":"IF(COUNTIF($T$60:$AB$60,\"=0\")<5,IF(IF(O70=0,0,VLOOKUP(O70,Input!$L$15:$AC$44,18,FALSE))=\"X\",T70+U70+V70+X70+Z70,MAX(T70:AB70)),IF(O70=0,0,MAX(VLOOKUP(O70,Input!$L$15:$AC$44,12,FALSE),VLOOKUP(O70,Input!$L$15:$AC$44,13,FALSE),VLOOKUP(O70,Input!$L$15:$AC$44,14,FALSE),VLOOKUP(O70,Input!$L$15:$AC$44,15,FALSE),VLOOKUP(O70,Input!$L$15:$AC$44,16,FALSE))))","v":0}]
[null,null,{"$f":"Calculations!B66","v":"W8-55-48"},{"$f":"Calculations!I66","v":"48\"x48\""},{"$f":"Calculations!J66","v":"TRUCKS CROSSING AHEAD or __ FT or _ MILE"},{"$f":"IF(Input!F$14=0,0,Calculations!L66)","v":0},{"$f":"IF(Input!G$14=0,0,Calculations!M66)","v":0},{"$f":"IF(Input!H$14=0,0,Calculations!N66)","v":0},{"$f":"IF(Input!I$14=0,0,Calculations!O66)","v":0},{"$f":"IF(Input!J$14=0,0,Calculations!P66)","v":0},{"$f":"MAX(Calculations!L66:P66)","v":0},{"$f":"Calculations!K66","v":35},0,null,{"$f":"IF(COUNT(Input!$L$15:$L$44)-10<1,0,LARGE(Input!$L$15:$L$44,COUNT(Input!$L$15:$L$44)-10))","v":7041081},null,{"$f":"IF(O71=0,0,VLOOKUP(O71,Input!$L$15:$AA$44,2,FALSE))","v":"VERTICAL PANELS - BACK TO BACK"},null,{"$f":"IF(COUNTBLANK(Input!$F$14:$J$14)=5,0,IF(O71=0,0,VLOOKUP(O71,Input!$L$15:$AA$44,11,FALSE)))","v":0},{"$f":"IF(COUNTIF($T$60:$AB$60,\"=0\")=5,0,IF($T$60=0,0,IF(O71=0,0,VLOOKUP(O71,Input!$L$15:$AA$44,12,FALSE))))","v":0},{"$f":"IF(COUNTIF($T$60:$AB$60,\"=0\")=5,0,IF($U$60=0,0,IF(O71=0,0,VLOOKUP(O71,Input!$L$15:$AA$44,13,FALSE))))","v":0},{"$f":"IF(COUNTIF($T$60:$AB$60,\"=0\")=5,0,IF($V$60=0,0,IF(O71=0,0,VLOOKUP(O71,Input!$L$15:$AA$44,14,FALSE))))","v":0},null,{"$f":"IF(COUNTIF($T$60:$AB$60,\"=0\")=5,0,IF($X$60=0,0,IF(O71=0,0,VLOOKUP(O71,Input!$L$15:$AA$44,15,FALSE))))","v":0},null,{"$f":"IF(COUNTBLANK(Input!$F$14:$J$14)=5,IF(O71=0,0,VLOOKUP(O71,Input!$L$15:$AA$44,11,FALSE)),IF($Z$60=0,0,IF(O71=0,0,VLOOKUP(O71,Input!$L$15:$AA$44,16,FALSE))))","v":"EACH"},null,null,{"$f":"IF(COUNTIF($T$60:$AB$60,\"=0\")<5,IF(IF(O71=0,0,VLOOKUP(O71,Input!$L$15:$AC$44,18,FALSE))=\"X\",T71+U71+V71+X71+Z71,MAX(T71:AB71)),IF(O71=0,0,MAX(VLOOKUP(O71,Input!$L$15:$AC$44,12,FALSE),VLOOKUP(O71,Input!$L$15:$AC$44,13,FALSE),VLOOKUP(O71,Input!$L$15:$AC$44,14,FALSE),VLOOKUP(O71,Input!$L$15:$AC$44,15,FALSE),VLOOKUP(O71,Input!$L$15:$AC$44,16,FALSE))))","v":0}]
[null,null,{"$f":"Calculations!B67","v":"W8-56-48"},{"$f":"Calculations!I67","v":"48\"x48\""},{"$f":"Calculations!J67","v":"TRUCKS EXITING HIGHWAY"},{"$f":"IF(Input!F$14=0,0,Calculations!L67)","v":0},{"$f":"IF(Input!G$14=0,0,Calculations!M67)","v":0},{"$f":"IF(Input!H$14=0,0,Calculations!N67)","v":0},{"$f":"IF(Input!I$14=0,0,Calculations!O67)","v":0},{"$f":"IF(Input!J$14=0,0,Calculations!P67)","v":0},{"$f":"MAX(Calculations!L67:P67)","v":0},{"$f":"Calculations!K67","v":35},0,null,{"$f":"IF(COUNT(Input!$L$15:$L$44)-11<1,0,LARGE(Input!$L$15:$L$44,COUNT(Input!$L$15:$L$44)-11))","v":7041085},null,{"$f":"IF(O72=0,0,VLOOKUP(O72,Input!$L$15:$AA$44,2,FALSE))","v":"SEQUENCING ARROW PANEL - TYPE A"},null,{"$f":"IF(COUNTBLANK(Input!$F$14:$J$14)=5,0,IF(O72=0,0,VLOOKUP(O72,Input!$L$15:$AA$44,11,FALSE)))","v":0},{"$f":"IF(COUNTIF($T$60:$AB$60,\"=0\")=5,0,IF($T$60=0,0,IF(O72=0,0,VLOOKUP(O72,Input!$L$15:$AA$44,12,FALSE))))","v":0},{"$f":"IF(COUNTIF($T$60:$AB$60,\"=0\")=5,0,IF($U$60=0,0,IF(O72=0,0,VLOOKUP(O72,Input!$L$15:$AA$44,13,FALSE))))","v":0},{"$f":"IF(COUNTIF($T$60:$AB$60,\"=0\")=5,0,IF($V$60=0,0,IF(O72=0,0,VLOOKUP(O72,Input!$L$15:$AA$44,14,FALSE))))","v":0},null,{"$f":"IF(COUNTIF($T$60:$AB$60,\"=0\")=5,0,IF($X$60=0,0,IF(O72=0,0,VLOOKUP(O72,Input!$L$15:$AA$44,15,FALSE))))","v":0},null,{"$f":"IF(COUNTBLANK(Input!$F$14:$J$14)=5,IF(O72=0,0,VLOOKUP(O72,Input!$L$15:$AA$44,11,FALSE)),IF($Z$60=0,0,IF(O72=0,0,VLOOKUP(O72,Input!$L$15:$AA$44,16,FALSE))))","v":"EACH"},null,null,{"$f":"IF(COUNTIF($T$60:$AB$60,\"=0\")<5,IF(IF(O72=0,0,VLOOKUP(O72,Input!$L$15:$AC$44,18,FALSE))=\"X\",T72+U72+V72+X72+Z72,MAX(T72:AB72)),IF(O72=0,0,MAX(VLOOKUP(O72,Input!$L$15:$AC$44,12,FALSE),VLOOKUP(O72,Input!$L$15:$AC$44,13,FALSE),VLOOKUP(O72,Input!$L$15:$AC$44,14,FALSE),VLOOKUP(O72,Input!$L$15:$AC$44,15,FALSE),VLOOKUP(O72,Input!$L$15:$AC$44,16,FALSE))))","v":0}]
[null,null,{"$f":"Calculations!B68","v":"W9-3a-48"},{"$f":"Calculations!I68","v":"48\"x48\""},{"$f":"Calculations!J68","v":"CENTER LANE CLOSED SYMBOL"},{"$f":"IF(Input!F$14=0,0,Calculations!L68)","v":0},{"$f":"IF(Input!G$14=0,0,Calculations!M68)","v":0},{"$f":"IF(Input!H$14=0,0,Calculations!N68)","v":0},{"$f":"IF(Input!I$14=0,0,Calculations!O68)","v":0},{"$f":"IF(Input!J$14=0,0,Calculations!P68)","v":0},{"$f":"MAX(Calculations!L68:P68)","v":0},{"$f":"Calculations!K68","v":35},0,null,{"$f":"IF(COUNT(Input!$L$15:$L$44)-12<1,0,LARGE(Input!$L$15:$L$44,COUNT(Input!$L$15:$L$44)-12))","v":7041086},null,{"$f":"IF(O73=0,0,VLOOKUP(O73,Input!$L$15:$AA$44,2,FALSE))","v":"SEQUENCING ARROW PANEL - TYPE B"},null,{"$f":"IF(COUNTBLANK(Input!$F$14:$J$14)=5,0,IF(O73=0,0,VLOOKUP(O73,Input!$L$15:$AA$44,11,FALSE)))","v":0},{"$f":"IF(COUNTIF($T$60:$AB$60,\"=0\")=5,0,IF($T$60=0,0,IF(O73=0,0,VLOOKUP(O73,Input!$L$15:$AA$44,12,FALSE))))","v":0},{"$f":"IF(COUNTIF($T$60:$AB$60,\"=0\")=5,0,IF($U$60=0,0,IF(O73=0,0,VLOOKUP(O73,Input!$L$15:$AA$44,13,FALSE))))","v":0},{"$f":"IF(COUNTIF($T$60:$AB$60,\"=0\")=5,0,IF($V$60=0,0,IF(O73=0,0,VLOOKUP(O73,Input!$L$15:$AA$44,14,FALSE))))","v":0},null,{"$f":"IF(COUNTIF($T$60:$AB$60,\"=0\")=5,0,IF($X$60=0,0,IF(O73=0,0,VLOOKUP(O73,Input!$L$15:$AA$44,15,FALSE))))","v":0},null,{"$f":"IF(COUNTBLANK(Input!$F$14:$J$14)=5,IF(O73=0,0,VLOOKUP(O73,Input!$L$15:$AA$44,11,FALSE)),IF($Z$60=0,0,IF(O73=0,0,VLOOKUP(O73,Input!$L$15:$AA$44,16,FALSE))))","v":"EACH"},null,null,{"$f":"IF(COUNTIF($T$60:$AB$60,\"=0\")<5,IF(IF(O73=0,0,VLOOKUP(O73,Input!$L$15:$AC$44,18,FALSE))=\"X\",T73+U73+V73+X73+Z73,MAX(T73:AB73)),IF(O73=0,0,MAX(VLOOKUP(O73,Input!$L$15:$AC$44,12,FALSE),VLOOKUP(O73,Input!$L$15:$AC$44,13,FALSE),VLOOKUP(O73,Input!$L$15:$AC$44,14,FALSE),VLOOKUP(O73,Input!$L$15:$AC$44,15,FALSE),VLOOKUP(O73,Input!$L$15:$AC$44,16,FALSE))))","v":0}]
[null,null,{"$f":"Calculations!B69","v":"W13-1P-30"},{"$f":"Calculations!I69","v":"30\"x30\""},{"$f":"Calculations!J69","v":"__ MPH ADVISORY SPEED PLAQUE (Mounted on warning sign post)"},{"$f":"IF(Input!F$14=0,0,Calculations!L69)","v":0},{"$f":"IF(Input!G$14=0,0,Calculations!M69)","v":0},{"$f":"IF(Input!H$14=0,0,Calculations!N69)","v":0},{"$f":"IF(Input!I$14=0,0,Calculations!O69)","v":0},{"$f":"IF(Input!J$14=0,0,Calculations!P69)","v":0},{"$f":"MAX(Calculations!L69:P69)","v":0},{"$f":"Calculations!K69","v":14},{"$f":"IF(AND(K74>0,K74*L74=0),\"NO UNITS\",K74*L74)","v":0},null,{"$f":"IF(COUNT(Input!$L$15:$L$44)-13<1,0,LARGE(Input!$L$15:$L$44,COUNT(Input!$L$15:$L$44)-13))","v":7041087},null,{"$f":"IF(O74=0,0,VLOOKUP(O74,Input!$L$15:$AA$44,2,FALSE))","v":"SEQUENCING ARROW PANEL - TYPE C"},null,{"$f":"IF(COUNTBLANK(Input!$F$14:$J$14)=5,0,IF(O74=0,0,VLOOKUP(O74,Input!$L$15:$AA$44,11,FALSE)))","v":0},{"$f":"IF(COUNTIF($T$60:$AB$60,\"=0\")=5,0,IF($T$60=0,0,IF(O74=0,0,VLOOKUP(O74,Input!$L$15:$AA$44,12,FALSE))))","v":0},{"$f":"IF(COUNTIF($T$60:$AB$60,\"=0\")=5,0,IF($U$60=0,0,IF(O74=0,0,VLOOKUP(O74,Input!$L$15:$AA$44,13,FALSE))))","v":0},{"$f":"IF(COUNTIF($T$60:$AB$60,\"=0\")=5,0,IF($V$60=0,0,IF(O74=0,0,VLOOKUP(O74,Input!$L$15:$AA$44,14,FALSE))))","v":0},null,{"$f":"IF(COUNTIF($T$60:$AB$60,\"=0\")=5,0,IF($X$60=0,0,IF(O74=0,0,VLOOKUP(O74,Input!$L$15:$AA$44,15,FALSE))))","v":0},null,{"$f":"IF(COUNTBLANK(Input!$F$14:$J$14)=5,IF(O74=0,0,VLOOKUP(O74,Input!$L$15:$AA$44,11,FALSE)),IF($Z$60=0,0,IF(O74=0,0,VLOOKUP(O74,Input!$L$15:$AA$44,16,FALSE))))","v":"EACH"},null,null,{"$f":"IF(COUNTIF($T$60:$AB$60,\"=0\")<5,IF(IF(O74=0,0,VLOOKUP(O74,Input!$L$15:$AC$44,18,FALSE))=\"X\",T74+U74+V74+X74+Z74,MAX(T74:AB74)),IF(O74=0,0,MAX(VLOOKUP(O74,Input!$L$15:$AC$44,12,FALSE),VLOOKUP(O74,Input!$L$15:$AC$44,13,FALSE),VLOOKUP(O74,Input!$L$15:$AC$44,14,FALSE),VLOOKUP(O74,Input!$L$15:$AC$44,15,FALSE),VLOOKUP(O74,Input!$L$15:$AC$44,16,FALSE))))","v":0}]
[null,null,{"$f":"Calculations!B70","v":"W14-3-64"},{"$f":"Calculations!I70","v":"64\"x48\""},{"$f":"Calculations!J70","v":"NO PASSING ZONE"},{"$f":"IF(Input!F$14=0,0,Calculations!L70)","v":0},{"$f":"IF(Input!G$14=0,0,Calculations!M70)","v":0},{"$f":"IF(Input!H$14=0,0,Calculations!N70)","v":0},{"$f":"IF(Input!I$14=0,0,Calculations!O70)","v":0},{"$f":"IF(Input!J$14=0,0,Calculations!P70)","v":0},{"$f":"MAX(Calculations!L70:P70)","v":0},{"$f":"Calculations!K70","v":28},0,null,{"$f":"IF(COUNT(Input!$L$15:$L$44)-14<1,0,LARGE(Input!$L$15:$L$44,COUNT(Input!$L$15:$L$44)-14))","v":7041500},null,{"$f":"IF(O75=0,0,VLOOKUP(O75,Input!$L$15:$AA$44,2,FALSE))","v":"OBLITERATION OF PVMT MK"},null,{"$f":"IF(COUNTBLANK(Input!$F$14:$J$14)=5,0,IF(O75=0,0,VLOOKUP(O75,Input!$L$15:$AA$44,11,FALSE)))","v":0},{"$f":"IF(COUNTIF($T$60:$AB$60,\"=0\")=5,0,IF($T$60=0,0,IF(O75=0,0,VLOOKUP(O75,Input!$L$15:$AA$44,12,FALSE))))","v":0},{"$f":"IF(COUNTIF($T$60:$AB$60,\"=0\")=5,0,IF($U$60=0,0,IF(O75=0,0,VLOOKUP(O75,Input!$L$15:$AA$44,13,FALSE))))","v":0},{"$f":"IF(COUNTIF($T$60:$AB$60,\"=0\")=5,0,IF($V$60=0,0,IF(O75=0,0,VLOOKUP(O75,Input!$L$15:$AA$44,14,FALSE))))","v":0},null,{"$f":"IF(COUNTIF($T$60:$AB$60,\"=0\")=5,0,IF($X$60=0,0,IF(O75=0,0,VLOOKUP(O75,Input!$L$15:$AA$44,15,FALSE))))","v":0},null,{"$f":"IF(COUNTBLANK(Input!$F$14:$J$14)=5,IF(O75=0,0,VLOOKUP(O75,Input!$L$15:$AA$44,11,FALSE)),IF($Z$60=0,0,IF(O75=0,0,VLOOKUP(O75,Input!$L$15:$AA$44,16,FALSE))))","v":"SF"},null,null,{"$f":"IF(COUNTIF($T$60:$AB$60,\"=0\")<5,IF(IF(O75=0,0,VLOOKUP(O75,Input!$L$15:$AC$44,18,FALSE))=\"X\",T75+U75+V75+X75+Z75,MAX(T75:AB75)),IF(O75=0,0,MAX(VLOOKUP(O75,Input!$L$15:$AC$44,12,FALSE),VLOOKUP(O75,Input!$L$15:$AC$44,13,FALSE),VLOOKUP(O75,Input!$L$15:$AC$44,14,FALSE),VLOOKUP(O75,Input!$L$15:$AC$44,15,FALSE),VLOOKUP(O75,Input!$L$15:$AC$44,16,FALSE))))","v":0}]
[null,null,{"$f":"Calculations!B71","v":"W16-2P-30"},{"$f":"Calculations!I71","v":"30\"x24\""},{"$f":"Calculations!J71","v":"__ FEET PLAQUE (Mounted on warning sign post)"},{"$f":"IF(Input!F$14=0,0,Calculations!L71)","v":0},{"$f":"IF(Input!G$14=0,0,Calculations!M71)","v":0},{"$f":"IF(Input!H$14=0,0,Calculations!N71)","v":0},{"$f":"IF(Input!I$14=0,0,Calculations!O71)","v":0},{"$f":"IF(Input!J$14=0,0,Calculations!P71)","v":0},{"$f":"MAX(Calculations!L71:P71)","v":0},{"$f":"Calculations!K71","v":10},0,null,{"$f":"IF(COUNT(Input!$L$15:$L$44)-15<1,0,LARGE(Input!$L$15:$L$44,COUNT(Input!$L$15:$L$44)-15))","v":7043501},null,{"$f":"IF(O76=0,0,VLOOKUP(O76,Input!$L$15:$AA$44,2,FALSE))","v":"PORTABLE PRECAST CONCRETE MED BARRIER"},null,{"$f":"IF(COUNTBLANK(Input!$F$14:$J$14)=5,0,IF(O76=0,0,VLOOKUP(O76,Input!$L$15:$AA$44,11,FALSE)))","v":0},{"$f":"IF(COUNTIF($T$60:$AB$60,\"=0\")=5,0,IF($T$60=0,0,IF(O76=0,0,VLOOKUP(O76,Input!$L$15:$AA$44,12,FALSE))))","v":0},{"$f":"IF(COUNTIF($T$60:$AB$60,\"=0\")=5,0,IF($U$60=0,0,IF(O76=0,0,VLOOKUP(O76,Input!$L$15:$AA$44,13,FALSE))))","v":0},{"$f":"IF(COUNTIF($T$60:$AB$60,\"=0\")=5,0,IF($V$60=0,0,IF(O76=0,0,VLOOKUP(O76,Input!$L$15:$AA$44,14,FALSE))))","v":0},null,{"$f":"IF(COUNTIF($T$60:$AB$60,\"=0\")=5,0,IF($X$60=0,0,IF(O76=0,0,VLOOKUP(O76,Input!$L$15:$AA$44,15,FALSE))))","v":0},null,{"$f":"IF(COUNTBLANK(Input!$F$14:$J$14)=5,IF(O76=0,0,VLOOKUP(O76,Input!$L$15:$AA$44,11,FALSE)),IF($Z$60=0,0,IF(O76=0,0,VLOOKUP(O76,Input!$L$15:$AA$44,16,FALSE))))","v":"LF"},null,null,{"$f":"IF(COUNTIF($T$60:$AB$60,\"=0\")<5,IF(IF(O76=0,0,VLOOKUP(O76,Input!$L$15:$AC$44,18,FALSE))=\"X\",T76+U76+V76+X76+Z76,MAX(T76:AB76)),IF(O76=0,0,MAX(VLOOKUP(O76,Input!$L$15:$AC$44,12,FALSE),VLOOKUP(O76,Input!$L$15:$AC$44,13,FALSE),VLOOKUP(O76,Input!$L$15:$AC$44,14,FALSE),VLOOKUP(O76,Input!$L$15:$AC$44,15,FALSE),VLOOKUP(O76,Input!$L$15:$AC$44,16,FALSE))))","v":0}]
[null,null,{"$f":"Calculations!B72","v":"W20-1-48"},{"$f":"Calculations!I72","v":"48\"x48\""},{"$f":"Calculations!J72","v":"ROAD WORK AHEAD or _FT or _ MILE"},{"$f":"IF(Input!F$14=0,0,Calculations!L72)","v":0},{"$f":"IF(Input!G$14=0,0,Calculations!M72)","v":0},{"$f":"IF(Input!H$14=0,0,Calculations!N72)","v":0},{"$f":"IF(Input!I$14=0,0,Calculations!O72)","v":0},{"$f":"IF(Input!J$14=0,0,Calculations!P72)","v":0},{"$f":"MAX(Calculations!L72:P72)","v":0},{"$f":"Calculations!K72","v":35},0,null,{"$f":"IF(COUNT(Input!$L$15:$L$44)-16<1,0,LARGE(Input!$L$15:$L$44,COUNT(Input!$L$15:$L$44)-16))","v":7043510},null,{"$f":"IF(O77=0,0,VLOOKUP(O77,Input!$L$15:$AA$44,2,FALSE))","v":"PRECAST CONCRETE MED BARRIER - STATE FURNISHED"},null,{"$f":"IF(COUNTBLANK(Input!$F$14:$J$14)=5,0,IF(O77=0,0,VLOOKUP(O77,Input!$L$15:$AA$44,11,FALSE)))","v":0},{"$f":"IF(COUNTIF($T$60:$AB$60,\"=0\")=5,0,IF($T$60=0,0,IF(O77=0,0,VLOOKUP(O77,Input!$L$15:$AA$44,12,FALSE))))","v":0},{"$f":"IF(COUNTIF($T$60:$AB$60,\"=0\")=5,0,IF($U$60=0,0,IF(O77=0,0,VLOOKUP(O77,Input!$L$15:$AA$44,13,FALSE))))","v":0},{"$f":"IF(COUNTIF($T$60:$AB$60,\"=0\")=5,0,IF($V$60=0,0,IF(O77=0,0,VLOOKUP(O77,Input!$L$15:$AA$44,14,FALSE))))","v":0},null,{"$f":"IF(COUNTIF($T$60:$AB$60,\"=0\")=5,0,IF($X$60=0,0,IF(O77=0,0,VLOOKUP(O77,Input!$L$15:$AA$44,15,FALSE))))","v":0},null,{"$f":"IF(COUNTBLANK(Input!$F$14:$J$14)=5,IF(O77=0,0,VLOOKUP(O77,Input!$L$15:$AA$44,11,FALSE)),IF($Z$60=0,0,IF(O77=0,0,VLOOKUP(O77,Input!$L$15:$AA$44,16,FALSE))))","v":"EACH"},null,null,{"$f":"IF(COUNTIF($T$60:$AB$60,\"=0\")<5,IF(IF(O77=0,0,VLOOKUP(O77,Input!$L$15:$AC$44,18,FALSE))=\"X\",T77+U77+V77+X77+Z77,MAX(T77:AB77)),IF(O77=0,0,MAX(VLOOKUP(O77,Input!$L$15:$AC$44,12,FALSE),VLOOKUP(O77,Input!$L$15:$AC$44,13,FALSE),VLOOKUP(O77,Input!$L$15:$AC$44,14,FALSE),VLOOKUP(O77,Input!$L$15:$AC$44,15,FALSE),VLOOKUP(O77,Input!$L$15:$AC$44,16,FALSE))))","v":0}]
[null,null,{"$f":"Calculations!B73","v":"W20-2-48"},{"$f":"Calculations!I73","v":"48\"x48\""},{"$f":"Calculations!J73","v":"DETOUR AHEAD or __ FT or _ MILE"},{"$f":"IF(Input!F$14=0,0,Calculations!L73)","v":0},{"$f":"IF(Input!G$14=0,0,Calculations!M73)","v":0},{"$f":"IF(Input!H$14=0,0,Calculations!N73)","v":0},{"$f":"IF(Input!I$14=0,0,Calculations!O73)","v":0},{"$f":"IF(Input!J$14=0,0,Calculations!P73)","v":0},{"$f":"MAX(Calculations!L73:P73)","v":0},{"$f":"Calculations!K73","v":35},0,null,{"$f":"IF(COUNT(Input!$L$15:$L$44)-17<1,0,LARGE(Input!$L$15:$L$44,COUNT(Input!$L$15:$L$44)-17))","v":7620200},null,{"$f":"IF(O78=0,0,VLOOKUP(O78,Input!$L$15:$AA$44,2,FALSE))","v":"RAISED PAVEMENT MARKERS"},null,{"$f":"IF(COUNTBLANK(Input!$F$14:$J$14)=5,0,IF(O78=0,0,VLOOKUP(O78,Input!$L$15:$AA$44,11,FALSE)))","v":0},{"$f":"IF(COUNTIF($T$60:$AB$60,\"=0\")=5,0,IF($T$60=0,0,IF(O78=0,0,VLOOKUP(O78,Input!$L$15:$AA$44,12,FALSE))))","v":0},{"$f":"IF(COUNTIF($T$60:$AB$60,\"=0\")=5,0,IF($U$60=0,0,IF(O78=0,0,VLOOKUP(O78,Input!$L$15:$AA$44,13,FALSE))))","v":0},{"$f":"IF(COUNTIF($T$60:$AB$60,\"=0\")=5,0,IF($V$60=0,0,IF(O78=0,0,VLOOKUP(O78,Input!$L$15:$AA$44,14,FALSE))))","v":0},null,{"$f":"IF(COUNTIF($T$60:$AB$60,\"=0\")=5,0,IF($X$60=0,0,IF(O78=0,0,VLOOKUP(O78,Input!$L$15:$AA$44,15,FALSE))))","v":0},null,{"$f":"IF(COUNTBLANK(Input!$F$14:$J$14)=5,IF(O78=0,0,VLOOKUP(O78,Input!$L$15:$AA$44,11,FALSE)),IF($Z$60=0,0,IF(O78=0,0,VLOOKUP(O78,Input!$L$15:$AA$44,16,FALSE))))","v":"EACH"},null,null,{"$f":"IF(COUNTIF($T$60:$AB$60,\"=0\")<5,IF(IF(O78=0,0,VLOOKUP(O78,Input!$L$15:$AC$44,18,FALSE))=\"X\",T78+U78+V78+X78+Z78,MAX(T78:AB78)),IF(O78=0,0,MAX(VLOOKUP(O78,Input!$L$15:$AC$44,12,FALSE),VLOOKUP(O78,Input!$L$15:$AC$44,13,FALSE),VLOOKUP(O78,Input!$L$15:$AC$44,14,FALSE),VLOOKUP(O78,Input!$L$15:$AC$44,15,FALSE),VLOOKUP(O78,Input!$L$15:$AC$44,16,FALSE))))","v":0}]
[null,null,{"$f":"Calculations!B74","v":"W20-3-48"},{"$f":"Calculations!I74","v":"48\"x48\""},{"$f":"Calculations!J74","v":"ROAD or STREET CLOSED AHEAD or __ FT or _ MILE"},{"$f":"IF(Input!F$14=0,0,Calculations!L74)","v":0},{"$f":"IF(Input!G$14=0,0,Calculations!M74)","v":0},{"$f":"IF(Input!H$14=0,0,Calculations!N74)","v":0},{"$f":"IF(Input!I$14=0,0,Calculations!O74)","v":0},{"$f":"IF(Input!J$14=0,0,Calculations!P74)","v":0},{"$f":"MAX(Calculations!L74:P74)","v":0},{"$f":"Calculations!K74","v":35},0,null,{"$f":"IF(COUNT(Input!$L$15:$L$44)-18<1,0,LARGE(Input!$L$15:$L$44,COUNT(Input!$L$15:$L$44)-18))","v":7620420},null,{"$f":"IF(O79=0,0,VLOOKUP(O79,Input!$L$15:$AA$44,2,FALSE))","v":"SHORT TERM 4IN LINE - TYPE R"},null,{"$f":"IF(COUNTBLANK(Input!$F$14:$J$14)=5,0,IF(O79=0,0,VLOOKUP(O79,Input!$L$15:$AA$44,11,FALSE)))","v":0},{"$f":"IF(COUNTIF($T$60:$AB$60,\"=0\")=5,0,IF($T$60=0,0,IF(O79=0,0,VLOOKUP(O79,Input!$L$15:$AA$44,12,FALSE))))","v":0},{"$f":"IF(COUNTIF($T$60:$AB$60,\"=0\")=5,0,IF($U$60=0,0,IF(O79=0,0,VLOOKUP(O79,Input!$L$15:$AA$44,13,FALSE))))","v":0},{"$f":"IF(COUNTIF($T$60:$AB$60,\"=0\")=5,0,IF($V$60=0,0,IF(O79=0,0,VLOOKUP(O79,Input!$L$15:$AA$44,14,FALSE))))","v":0},null,{"$f":"IF(COUNTIF($T$60:$AB$60,\"=0\")=5,0,IF($X$60=0,0,IF(O79=0,0,VLOOKUP(O79,Input!$L$15:$AA$44,15,FALSE))))","v":0},null,{"$f":"IF(COUNTBLANK(Input!$F$14:$J$14)=5,IF(O79=0,0,VLOOKUP(O79,Input!$L$15:$AA$44,11,FALSE)),IF($Z$60=0,0,IF(O79=0,0,VLOOKUP(O79,Input!$L$15:$AA$44,16,FALSE))))","v":"LF"},null,null,{"$f":"IF(COUNTIF($T$60:$AB$60,\"=0\")<5,IF(IF(O79=0,0,VLOOKUP(O79,Input!$L$15:$AC$44,18,FALSE))=\"X\",T79+U79+V79+X79+Z79,MAX(T79:AB79)),IF(O79=0,0,MAX(VLOOKUP(O79,Input!$L$15:$AC$44,12,FALSE),VLOOKUP(O79,Input!$L$15:$AC$44,13,FALSE),VLOOKUP(O79,Input!$L$15:$AC$44,14,FALSE),VLOOKUP(O79,Input!$L$15:$AC$44,15,FALSE),VLOOKUP(O79,Input!$L$15:$AC$44,16,FALSE))))","v":0}]
[null,null,{"$f":"Calculations!B75","v":"W20-4-48"},{"$f":"Calculations!I75","v":"48\"x48\""},{"$f":"Calculations!J75","v":"ONE LANE ROAD AHEAD or __ FT or _ MILE"},{"$f":"IF(Input!F$14=0,0,Calculations!L75)","v":0},{"$f":"IF(Input!G$14=0,0,Calculations!M75)","v":0},{"$f":"IF(Input!H$14=0,0,Calculations!N75)","v":0},{"$f":"IF(Input!I$14=0,0,Calculations!O75)","v":0},{"$f":"IF(Input!J$14=0,0,Calculations!P75)","v":0},{"$f":"MAX(Calculations!L75:P75)","v":0},{"$f":"Calculations!K75","v":35},0,null,{"$f":"IF(COUNT(Input!$L$15:$L$44)-19<1,0,LARGE(Input!$L$15:$L$44,COUNT(Input!$L$15:$L$44)-19))","v":7620430},null,{"$f":"IF(O80=0,0,VLOOKUP(O80,Input!$L$15:$AA$44,2,FALSE))","v":"SHORT TERM 4IN LINE - TYPE NR"},null,{"$f":"IF(COUNTBLANK(Input!$F$14:$J$14)=5,0,IF(O80=0,0,VLOOKUP(O80,Input!$L$15:$AA$44,11,FALSE)))","v":0},{"$f":"IF(COUNTIF($T$60:$AB$60,\"=0\")=5,0,IF($T$60=0,0,IF(O80=0,0,VLOOKUP(O80,Input!$L$15:$AA$44,12,FALSE))))","v":0},{"$f":"IF(COUNTIF($T$60:$AB$60,\"=0\")=5,0,IF($U$60=0,0,IF(O80=0,0,VLOOKUP(O80,Input!$L$15:$AA$44,13,FALSE))))","v":0},{"$f":"IF(COUNTIF($T$60:$AB$60,\"=0\")=5,0,IF($V$60=0,0,IF(O80=0,0,VLOOKUP(O80,Input!$L$15:$AA$44,14,FALSE))))","v":0},null,{"$f":"IF(COUNTIF($T$60:$AB$60,\"=0\")=5,0,IF($X$60=0,0,IF(O80=0,0,VLOOKUP(O80,Input!$L$15:$AA$44,15,FALSE))))","v":0},null,{"$f":"IF(COUNTBLANK(Input!$F$14:$J$14)=5,IF(O80=0,0,VLOOKUP(O80,Input!$L$15:$AA$44,11,FALSE)),IF($Z$60=0,0,IF(O80=0,0,VLOOKUP(O80,Input!$L$15:$AA$44,16,FALSE))))","v":"LF"},null,null,{"$f":"IF(COUNTIF($T$60:$AB$60,\"=0\")<5,IF(IF(O80=0,0,VLOOKUP(O80,Input!$L$15:$AC$44,18,FALSE))=\"X\",T80+U80+V80+X80+Z80,MAX(T80:AB80)),IF(O80=0,0,MAX(VLOOKUP(O80,Input!$L$15:$AC$44,12,FALSE),VLOOKUP(O80,Input!$L$15:$AC$44,13,FALSE),VLOOKUP(O80,Input!$L$15:$AC$44,14,FALSE),VLOOKUP(O80,Input!$L$15:$AC$44,15,FALSE),VLOOKUP(O80,Input!$L$15:$AC$44,16,FALSE))))","v":0}]
[null,null,{"$f":"Calculations!B76","v":"W20-5-48"},{"$f":"Calculations!I76","v":"48\"x48\""},{"$f":"Calculations!J76","v":"RIGHT or CENTER or LEFT LANE CLOSED AHEAD or __ FT or _ MILE"},{"$f":"IF(Input!F$14=0,0,Calculations!L76)","v":0},{"$f":"IF(Input!G$14=0,0,Calculations!M76)","v":0},{"$f":"IF(Input!H$14=0,0,Calculations!N76)","v":0},{"$f":"IF(Input!I$14=0,0,Calculations!O76)","v":0},{"$f":"IF(Input!J$14=0,0,Calculations!P76)","v":0},{"$f":"MAX(Calculations!L76:P76)","v":0},{"$f":"Calculations!K76","v":35},0,null,{"$f":"IF(COUNT(Input!$L$15:$L$44)-20<1,0,LARGE(Input!$L$15:$L$44,COUNT(Input!$L$15:$L$44)-20))","v":0},null,{"$f":"IF(O81=0,0,VLOOKUP(O81,Input!$L$15:$AA$44,2,FALSE))","v":0},null,{"$f":"IF(COUNTBLANK(Input!$F$14:$J$14)=5,0,IF(O81=0,0,VLOOKUP(O81,Input!$L$15:$AA$44,11,FALSE)))","v":0},{"$f":"IF(COUNTIF($T$60:$AB$60,\"=0\")=5,0,IF($T$60=0,0,IF(O81=0,0,VLOOKUP(O81,Input!$L$15:$AA$44,12,FALSE))))","v":0},{"$f":"IF(COUNTIF($T$60:$AB$60,\"=0\")=5,0,IF($U$60=0,0,IF(O81=0,0,VLOOKUP(O81,Input!$L$15:$AA$44,13,FALSE))))","v":0},{"$f":"IF(COUNTIF($T$60:$AB$60,\"=0\")=5,0,IF($V$60=0,0,IF(O81=0,0,VLOOKUP(O81,Input!$L$15:$AA$44,14,FALSE))))","v":0},null,{"$f":"IF(COUNTIF($T$60:$AB$60,\"=0\")=5,0,IF($X$60=0,0,IF(O81=0,0,VLOOKUP(O81,Input!$L$15:$AA$44,15,FALSE))))","v":0},null,{"$f":"IF(COUNTBLANK(Input!$F$14:$J$14)=5,IF(O81=0,0,VLOOKUP(O81,Input!$L$15:$AA$44,11,FALSE)),IF($Z$60=0,0,IF(O81=0,0,VLOOKUP(O81,Input!$L$15:$AA$44,16,FALSE))))","v":0},null,null,{"$f":"IF(COUNTIF($T$60:$AB$60,\"=0\")<5,IF(IF(O81=0,0,VLOOKUP(O81,Input!$L$15:$AC$44,18,FALSE))=\"X\",T81+U81+V81+X81+Z81,MAX(T81:AB81)),IF(O81=0,0,MAX(VLOOKUP(O81,Input!$L$15:$AC$44,12,FALSE),VLOOKUP(O81,Input!$L$15:$AC$44,13,FALSE),VLOOKUP(O81,Input!$L$15:$AC$44,14,FALSE),VLOOKUP(O81,Input!$L$15:$AC$44,15,FALSE),VLOOKUP(O81,Input!$L$15:$AC$44,16,FALSE))))","v":0}]
[null,null,{"$f":"Calculations!B77","v":"W20-7-48"},{"$f":"Calculations!I77","v":"48\"x48\""},{"$f":"Calculations!J77","v":"FLAGGER"},{"$f":"IF(Input!F$14=0,0,Calculations!L77)","v":0},{"$f":"IF(Input!G$14=0,0,Calculations!M77)","v":0},{"$f":"IF(Input!H$14=0,0,Calculations!N77)","v":0},{"$f":"IF(Input!I$14=0,0,Calculations!O77)","v":0},{"$f":"IF(Input!J$14=0,0,Calculations!P77)","v":0},{"$f":"MAX(Calculations!L77:P77)","v":0},{"$f":"Calculations!K77","v":35},0,null,{"$f":"IF(COUNT(Input!$L$15:$L$44)-21<1,0,LARGE(Input!$L$15:$L$44,COUNT(Input!$L$15:$L$44)-21))","v":0},null,{"$f":"IF(O82=0,0,VLOOKUP(O82,Input!$L$15:$AA$44,2,FALSE))","v":0},null,{"$f":"IF(COUNTBLANK(Input!$F$14:$J$14)=5,0,IF(O82=0,0,VLOOKUP(O82,Input!$L$15:$AA$44,11,FALSE)))","v":0},{"$f":"IF(COUNTIF($T$60:$AB$60,\"=0\")=5,0,IF($T$60=0,0,IF(O82=0,0,VLOOKUP(O82,Input!$L$15:$AA$44,12,FALSE))))","v":0},{"$f":"IF(COUNTIF($T$60:$AB$60,\"=0\")=5,0,IF($U$60=0,0,IF(O82=0,0,VLOOKUP(O82,Input!$L$15:$AA$44,13,FALSE))))","v":0},{"$f":"IF(COUNTIF($T$60:$AB$60,\"=0\")=5,0,IF($V$60=0,0,IF(O82=0,0,VLOOKUP(O82,Input!$L$15:$AA$44,14,FALSE))))","v":0},null,{"$f":"IF(COUNTIF($T$60:$AB$60,\"=0\")=5,0,IF($X$60=0,0,IF(O82=0,0,VLOOKUP(O82,Input!$L$15:$AA$44,15,FALSE))))","v":0},null,{"$f":"IF(COUNTBLANK(Input!$F$14:$J$14)=5,IF(O82=0,0,VLOOKUP(O82,Input!$L$15:$AA$44,11,FALSE)),IF($Z$60=0,0,IF(O82=0,0,VLOOKUP(O82,Input!$L$15:$AA$44,16,FALSE))))","v":0},null,null,{"$f":"IF(COUNTIF($T$60:$AB$60,\"=0\")<5,IF(IF(O82=0,0,VLOOKUP(O82,Input!$L$15:$AC$44,18,FALSE))=\"X\",T82+U82+V82+X82+Z82,MAX(T82:AB82)),IF(O82=0,0,MAX(VLOOKUP(O82,Input!$L$15:$AC$44,12,FALSE),VLOOKUP(O82,Input!$L$15:$AC$44,13,FALSE),VLOOKUP(O82,Input!$L$15:$AC$44,14,FALSE),VLOOKUP(O82,Input!$L$15:$AC$44,15,FALSE),VLOOKUP(O82,Input!$L$15:$AC$44,16,FALSE))))","v":0},null,null,null,null,"Traffic Control Devices List"]
[null,null,{"$f":"Calculations!B78","v":"W20-8-18"},{"$f":"Calculations!I78","v":"18\"x18\""},{"$f":"Calculations!J78","v":"STOP - SLOW PADDLE Back to Back"},{"$f":"IF(Input!F$14=0,0,Calculations!L78)","v":0},{"$f":"IF(Input!G$14=0,0,Calculations!M78)","v":0},{"$f":"IF(Input!H$14=0,0,Calculations!N78)","v":0},{"$f":"IF(Input!I$14=0,0,Calculations!O78)","v":0},{"$f":"IF(Input!J$14=0,0,Calculations!P78)","v":0},{"$f":"MAX(Calculations!L78:P78)","v":0},{"$f":"Calculations!K78","v":5},0,null,{"$f":"IF(COUNT(Input!$L$15:$L$44)-22<1,0,LARGE(Input!$L$15:$L$44,COUNT(Input!$L$15:$L$44)-22))","v":0},null,{"$f":"IF(O83=0,0,VLOOKUP(O83,Input!$L$15:$AA$44,2,FALSE))","v":0},null,{"$f":"IF(COUNTBLANK(Input!$F$14:$J$14)=5,0,IF(O83=0,0,VLOOKUP(O83,Input!$L$15:$AA$44,11,FALSE)))","v":0},{"$f":"IF(COUNTIF($T$60:$AB$60,\"=0\")=5,0,IF($T$60=0,0,IF(O83=0,0,VLOOKUP(O83,Input!$L$15:$AA$44,12,FALSE))))","v":0},{"$f":"IF(COUNTIF($T$60:$AB$60,\"=0\")=5,0,IF($U$60=0,0,IF(O83=0,0,VLOOKUP(O83,Input!$L$15:$AA$44,13,FALSE))))","v":0},{"$f":"IF(COUNTIF($T$60:$AB$60,\"=0\")=5,0,IF($V$60=0,0,IF(O83=0,0,VLOOKUP(O83,Input!$L$15:$AA$44,14,FALSE))))","v":0},null,{"$f":"IF(COUNTIF($T$60:$AB$60,\"=0\")=5,0,IF($X$60=0,0,IF(O83=0,0,VLOOKUP(O83,Input!$L$15:$AA$44,15,FALSE))))","v":0},null,{"$f":"IF(COUNTBLANK(Input!$F$14:$J$14)=5,IF(O83=0,0,VLOOKUP(O83,Input!$L$15:$AA$44,11,FALSE)),IF($Z$60=0,0,IF(O83=0,0,VLOOKUP(O83,Input!$L$15:$AA$44,16,FALSE))))","v":0},null,null,{"$f":"IF(COUNTIF($T$60:$AB$60,\"=0\")<5,IF(IF(O83=0,0,VLOOKUP(O83,Input!$L$15:$AC$44,18,FALSE))=\"X\",T83+U83+V83+X83+Z83,MAX(T83:AB83)),IF(O83=0,0,MAX(VLOOKUP(O83,Input!$L$15:$AC$44,12,FALSE),VLOOKUP(O83,Input!$L$15:$AC$44,13,FALSE),VLOOKUP(O83,Input!$L$15:$AC$44,14,FALSE),VLOOKUP(O83,Input!$L$15:$AC$44,15,FALSE),VLOOKUP(O83,Input!$L$15:$AC$44,16,FALSE))))","v":0}]
[null,null,{"$f":"Calculations!B79","v":"W20-52P-54"},{"$f":"Calculations!I79","v":"54\"x12\""},{"$f":"Calculations!J79","v":"NEXT __ MILES (Mounted on warning sign post)"},{"$f":"IF(Input!F$14=0,0,Calculations!L79)","v":0},{"$f":"IF(Input!G$14=0,0,Calculations!M79)","v":0},{"$f":"IF(Input!H$14=0,0,Calculations!N79)","v":0},{"$f":"IF(Input!I$14=0,0,Calculations!O79)","v":0},{"$f":"IF(Input!J$14=0,0,Calculations!P79)","v":0},{"$f":"MAX(Calculations!L79:P79)","v":0},{"$f":"Calculations!K79","v":12},0,null,{"$f":"IF(COUNT(Input!$L$15:$L$44)-23<1,0,LARGE(Input!$L$15:$L$44,COUNT(Input!$L$15:$L$44)-23))","v":0},null,{"$f":"IF(O84=0,0,VLOOKUP(O84,Input!$L$15:$AA$44,2,FALSE))","v":0},null,{"$f":"IF(COUNTBLANK(Input!$F$14:$J$14)=5,0,IF(O84=0,0,VLOOKUP(O84,Input!$L$15:$AA$44,11,FALSE)))","v":0},{"$f":"IF(COUNTIF($T$60:$AB$60,\"=0\")=5,0,IF($T$60=0,0,IF(O84=0,0,VLOOKUP(O84,Input!$L$15:$AA$44,12,FALSE))))","v":0},{"$f":"IF(COUNTIF($T$60:$AB$60,\"=0\")=5,0,IF($U$60=0,0,IF(O84=0,0,VLOOKUP(O84,Input!$L$15:$AA$44,13,FALSE))))","v":0},{"$f":"IF(COUNTIF($T$60:$AB$60,\"=0\")=5,0,IF($V$60=0,0,IF(O84=0,0,VLOOKUP(O84,Input!$L$15:$AA$44,14,FALSE))))","v":0},null,{"$f":"IF(COUNTIF($T$60:$AB$60,\"=0\")=5,0,IF($X$60=0,0,IF(O84=0,0,VLOOKUP(O84,Input!$L$15:$AA$44,15,FALSE))))","v":0},null,{"$f":"IF(COUNTBLANK(Input!$F$14:$J$14)=5,IF(O84=0,0,VLOOKUP(O84,Input!$L$15:$AA$44,11,FALSE)),IF($Z$60=0,0,IF(O84=0,0,VLOOKUP(O84,Input!$L$15:$AA$44,16,FALSE))))","v":0},null,null,{"$f":"IF(COUNTIF($T$60:$AB$60,\"=0\")<5,IF(IF(O84=0,0,VLOOKUP(O84,Input!$L$15:$AC$44,18,FALSE))=\"X\",T84+U84+V84+X84+Z84,MAX(T84:AB84)),IF(O84=0,0,MAX(VLOOKUP(O84,Input!$L$15:$AC$44,12,FALSE),VLOOKUP(O84,Input!$L$15:$AC$44,13,FALSE),VLOOKUP(O84,Input!$L$15:$AC$44,14,FALSE),VLOOKUP(O84,Input!$L$15:$AC$44,15,FALSE),VLOOKUP(O84,Input!$L$15:$AC$44,16,FALSE))))","v":0},null,null,null,null,""]
[null,null,{"$f":"Calculations!B80","v":"W21-1-48"},{"$f":"Calculations!I80","v":"48\"x48\""},{"$f":"Calculations!J80","v":"WORKERS"},{"$f":"IF(Input!F$14=0,0,Calculations!L80)","v":0},{"$f":"IF(Input!G$14=0,0,Calculations!M80)","v":0},{"$f":"IF(Input!H$14=0,0,Calculations!N80)","v":0},{"$f":"IF(Input!I$14=0,0,Calculations!O80)","v":0},{"$f":"IF(Input!J$14=0,0,Calculations!P80)","v":0},{"$f":"MAX(Calculations!L80:P80)","v":0},{"$f":"Calculations!K80","v":35},0,null,{"$f":"IF(COUNT(Input!$L$15:$L$44)-24<1,0,LARGE(Input!$L$15:$L$44,COUNT(Input!$L$15:$L$44)-24))","v":0},null,{"$f":"IF(O85=0,0,VLOOKUP(O85,Input!$L$15:$AA$44,2,FALSE))","v":0},null,{"$f":"IF(COUNTBLANK(Input!$F$14:$J$14)=5,0,IF(O85=0,0,VLOOKUP(O85,Input!$L$15:$AA$44,11,FALSE)))","v":0},{"$f":"IF(COUNTIF($T$60:$AB$60,\"=0\")=5,0,IF($T$60=0,0,IF(O85=0,0,VLOOKUP(O85,Input!$L$15:$AA$44,12,FALSE))))","v":0},{"$f":"IF(COUNTIF($T$60:$AB$60,\"=0\")=5,0,IF($U$60=0,0,IF(O85=0,0,VLOOKUP(O85,Input!$L$15:$AA$44,13,FALSE))))","v":0},{"$f":"IF(COUNTIF($T$60:$AB$60,\"=0\")=5,0,IF($V$60=0,0,IF(O85=0,0,VLOOKUP(O85,Input!$L$15:$AA$44,14,FALSE))))","v":0},null,{"$f":"IF(COUNTIF($T$60:$AB$60,\"=0\")=5,0,IF($X$60=0,0,IF(O85=0,0,VLOOKUP(O85,Input!$L$15:$AA$44,15,FALSE))))","v":0},null,{"$f":"IF(COUNTBLANK(Input!$F$14:$J$14)=5,IF(O85=0,0,VLOOKUP(O85,Input!$L$15:$AA$44,11,FALSE)),IF($Z$60=0,0,IF(O85=0,0,VLOOKUP(O85,Input!$L$15:$AA$44,16,FALSE))))","v":0},null,null,{"$f":"IF(COUNTIF($T$60:$AB$60,\"=0\")<5,IF(IF(O85=0,0,VLOOKUP(O85,Input!$L$15:$AC$44,18,FALSE))=\"X\",T85+U85+V85+X85+Z85,MAX(T85:AB85)),IF(O85=0,0,MAX(VLOOKUP(O85,Input!$L$15:$AC$44,12,FALSE),VLOOKUP(O85,Input!$L$15:$AC$44,13,FALSE),VLOOKUP(O85,Input!$L$15:$AC$44,14,FALSE),VLOOKUP(O85,Input!$L$15:$AC$44,15,FALSE),VLOOKUP(O85,Input!$L$15:$AC$44,16,FALSE))))","v":0}]
[null,null,{"$f":"Calculations!B81","v":"W21-2-48"},{"$f":"Calculations!I81","v":"48\"x48\""},{"$f":"Calculations!J81","v":"FRESH OIL"},{"$f":"IF(Input!F$14=0,0,Calculations!L81)","v":0},{"$f":"IF(Input!G$14=0,0,Calculations!M81)","v":0},{"$f":"IF(Input!H$14=0,0,Calculations!N81)","v":0},{"$f":"IF(Input!I$14=0,0,Calculations!O81)","v":0},{"$f":"IF(Input!J$14=0,0,Calculations!P81)","v":0},{"$f":"MAX(Calculations!L81:P81)","v":0},{"$f":"Calculations!K81","v":35},0,null,{"$f":"IF(COUNT(Input!$L$15:$L$44)-25<1,0,LARGE(Input!$L$15:$L$44,COUNT(Input!$L$15:$L$44)-25))","v":0},null,{"$f":"IF(O86=0,0,VLOOKUP(O86,Input!$L$15:$AA$44,2,FALSE))","v":0},null,{"$f":"IF(COUNTBLANK(Input!$F$14:$J$14)=5,0,IF(O86=0,0,VLOOKUP(O86,Input!$L$15:$AA$44,11,FALSE)))","v":0},{"$f":"IF(COUNTIF($T$60:$AB$60,\"=0\")=5,0,IF($T$60=0,0,IF(O86=0,0,VLOOKUP(O86,Input!$L$15:$AA$44,12,FALSE))))","v":0},{"$f":"IF(COUNTIF($T$60:$AB$60,\"=0\")=5,0,IF($U$60=0,0,IF(O86=0,0,VLOOKUP(O86,Input!$L$15:$AA$44,13,FALSE))))","v":0},{"$f":"IF(COUNTIF($T$60:$AB$60,\"=0\")=5,0,IF($V$60=0,0,IF(O86=0,0,VLOOKUP(O86,Input!$L$15:$AA$44,14,FALSE))))","v":0},null,{"$f":"IF(COUNTIF($T$60:$AB$60,\"=0\")=5,0,IF($X$60=0,0,IF(O86=0,0,VLOOKUP(O86,Input!$L$15:$AA$44,15,FALSE))))","v":0},null,{"$f":"IF(COUNTBLANK(Input!$F$14:$J$14)=5,IF(O86=0,0,VLOOKUP(O86,Input!$L$15:$AA$44,11,FALSE)),IF($Z$60=0,0,IF(O86=0,0,VLOOKUP(O86,Input!$L$15:$AA$44,16,FALSE))))","v":0},null,null,{"$f":"IF(COUNTIF($T$60:$AB$60,\"=0\")<5,IF(IF(O86=0,0,VLOOKUP(O86,Input!$L$15:$AC$44,18,FALSE))=\"X\",T86+U86+V86+X86+Z86,MAX(T86:AB86)),IF(O86=0,0,MAX(VLOOKUP(O86,Input!$L$15:$AC$44,12,FALSE),VLOOKUP(O86,Input!$L$15:$AC$44,13,FALSE),VLOOKUP(O86,Input!$L$15:$AC$44,14,FALSE),VLOOKUP(O86,Input!$L$15:$AC$44,15,FALSE),VLOOKUP(O86,Input!$L$15:$AC$44,16,FALSE))))","v":0},null,null,null,null,""]
[null,null,{"$f":"Calculations!B82","v":"W21-3-48"},{"$f":"Calculations!I82","v":"48\"x48\""},{"$f":"Calculations!J82","v":"ROAD MACHINERY AHEAD  or __ FT or _ MILE"},{"$f":"IF(Input!F$14=0,0,Calculations!L82)","v":0},{"$f":"IF(Input!G$14=0,0,Calculations!M82)","v":0},{"$f":"IF(Input!H$14=0,0,Calculations!N82)","v":0},{"$f":"IF(Input!I$14=0,0,Calculations!O82)","v":0},{"$f":"IF(Input!J$14=0,0,Calculations!P82)","v":0},{"$f":"MAX(Calculations!L82:P82)","v":0},{"$f":"Calculations!K82","v":35},0,null,{"$f":"IF(COUNT(Input!$L$15:$L$44)-26<1,0,LARGE(Input!$L$15:$L$44,COUNT(Input!$L$15:$L$44)-26))","v":0},null,{"$f":"IF(O87=0,0,VLOOKUP(O87,Input!$L$15:$AA$44,2,FALSE))","v":0},null,{"$f":"IF(COUNTBLANK(Input!$F$14:$J$14)=5,0,IF(O87=0,0,VLOOKUP(O87,Input!$L$15:$AA$44,11,FALSE)))","v":0},{"$f":"IF(COUNTIF($T$60:$AB$60,\"=0\")=5,0,IF($T$60=0,0,IF(O87=0,0,VLOOKUP(O87,Input!$L$15:$AA$44,12,FALSE))))","v":0},{"$f":"IF(COUNTIF($T$60:$AB$60,\"=0\")=5,0,IF($U$60=0,0,IF(O87=0,0,VLOOKUP(O87,Input!$L$15:$AA$44,13,FALSE))))","v":0},{"$f":"IF(COUNTIF($T$60:$AB$60,\"=0\")=5,0,IF($V$60=0,0,IF(O87=0,0,VLOOKUP(O87,Input!$L$15:$AA$44,14,FALSE))))","v":0},null,{"$f":"IF(COUNTIF($T$60:$AB$60,\"=0\")=5,0,IF($X$60=0,0,IF(O87=0,0,VLOOKUP(O87,Input!$L$15:$AA$44,15,FALSE))))","v":0},null,{"$f":"IF(COUNTBLANK(Input!$F$14:$J$14)=5,IF(O87=0,0,VLOOKUP(O87,Input!$L$15:$AA$44,11,FALSE)),IF($Z$60=0,0,IF(O87=0,0,VLOOKUP(O87,Input!$L$15:$AA$44,16,FALSE))))","v":0},null,null,{"$f":"IF(COUNTIF($T$60:$AB$60,\"=0\")<5,IF(IF(O87=0,0,VLOOKUP(O87,Input!$L$15:$AC$44,18,FALSE))=\"X\",T87+U87+V87+X87+Z87,MAX(T87:AB87)),IF(O87=0,0,MAX(VLOOKUP(O87,Input!$L$15:$AC$44,12,FALSE),VLOOKUP(O87,Input!$L$15:$AC$44,13,FALSE),VLOOKUP(O87,Input!$L$15:$AC$44,14,FALSE),VLOOKUP(O87,Input!$L$15:$AC$44,15,FALSE),VLOOKUP(O87,Input!$L$15:$AC$44,16,FALSE))))","v":0}]
[null,null,{"$f":"Calculations!B83","v":"W21-5-48"},{"$f":"Calculations!I83","v":"48\"x48\""},{"$f":"Calculations!J83","v":"SHOULDER WORK"},{"$f":"IF(Input!F$14=0,0,Calculations!L83)","v":0},{"$f":"IF(Input!G$14=0,0,Calculations!M83)","v":0},{"$f":"IF(Input!H$14=0,0,Calculations!N83)","v":0},{"$f":"IF(Input!I$14=0,0,Calculations!O83)","v":0},{"$f":"IF(Input!J$14=0,0,Calculations!P83)","v":0},{"$f":"MAX(Calculations!L83:P83)","v":0},{"$f":"Calculations!K83","v":35},0,null,{"$f":"IF(COUNT(Input!$L$15:$L$44)-27<1,0,LARGE(Input!$L$15:$L$44,COUNT(Input!$L$15:$L$44)-27))","v":0},null,{"$f":"IF(O88=0,0,VLOOKUP(O88,Input!$L$15:$AA$44,2,FALSE))","v":0},null,{"$f":"IF(COUNTBLANK(Input!$F$14:$J$14)=5,0,IF(O88=0,0,VLOOKUP(O88,Input!$L$15:$AA$44,11,FALSE)))","v":0},{"$f":"IF(COUNTIF($T$60:$AB$60,\"=0\")=5,0,IF($T$60=0,0,IF(O88=0,0,VLOOKUP(O88,Input!$L$15:$AA$44,12,FALSE))))","v":0},{"$f":"IF(COUNTIF($T$60:$AB$60,\"=0\")=5,0,IF($U$60=0,0,IF(O88=0,0,VLOOKUP(O88,Input!$L$15:$AA$44,13,FALSE))))","v":0},{"$f":"IF(COUNTIF($T$60:$AB$60,\"=0\")=5,0,IF($V$60=0,0,IF(O88=0,0,VLOOKUP(O88,Input!$L$15:$AA$44,14,FALSE))))","v":0},null,{"$f":"IF(COUNTIF($T$60:$AB$60,\"=0\")=5,0,IF($X$60=0,0,IF(O88=0,0,VLOOKUP(O88,Input!$L$15:$AA$44,15,FALSE))))","v":0},null,{"$f":"IF(COUNTBLANK(Input!$F$14:$J$14)=5,IF(O88=0,0,VLOOKUP(O88,Input!$L$15:$AA$44,11,FALSE)),IF($Z$60=0,0,IF(O88=0,0,VLOOKUP(O88,Input!$L$15:$AA$44,16,FALSE))))","v":0},null,null,{"$f":"IF(COUNTIF($T$60:$AB$60,\"=0\")<5,IF(IF(O88=0,0,VLOOKUP(O88,Input!$L$15:$AC$44,18,FALSE))=\"X\",T88+U88+V88+X88+Z88,MAX(T88:AB88)),IF(O88=0,0,MAX(VLOOKUP(O88,Input!$L$15:$AC$44,12,FALSE),VLOOKUP(O88,Input!$L$15:$AC$44,13,FALSE),VLOOKUP(O88,Input!$L$15:$AC$44,14,FALSE),VLOOKUP(O88,Input!$L$15:$AC$44,15,FALSE),VLOOKUP(O88,Input!$L$15:$AC$44,16,FALSE))))","v":0},null,null,null,null,""]
[null,null,{"$f":"Calculations!B84","v":"W21-5a-48"},{"$f":"Calculations!I84","v":"48\"x48\""},{"$f":"Calculations!J84","v":"RIGHT or LEFT SHOULDER CLOSED"},{"$f":"IF(Input!F$14=0,0,Calculations!L84)","v":0},{"$f":"IF(Input!G$14=0,0,Calculations!M84)","v":0},{"$f":"IF(Input!H$14=0,0,Calculations!N84)","v":0},{"$f":"IF(Input!I$14=0,0,Calculations!O84)","v":0},{"$f":"IF(Input!J$14=0,0,Calculations!P84)","v":0},{"$f":"MAX(Calculations!L84:P84)","v":0},{"$f":"Calculations!K84","v":35},0,null,{"$f":"IF(COUNT(Input!$L$15:$L$44)-28<1,0,LARGE(Input!$L$15:$L$44,COUNT(Input!$L$15:$L$44)-28))","v":0},null,{"$f":"IF(O89=0,0,VLOOKUP(O89,Input!$L$15:$AA$44,2,FALSE))","v":0},null,{"$f":"IF(COUNTBLANK(Input!$F$14:$J$14)=5,0,IF(O89=0,0,VLOOKUP(O89,Input!$L$15:$AA$44,11,FALSE)))","v":0},{"$f":"IF(COUNTIF($T$60:$AB$60,\"=0\")=5,0,IF($T$60=0,0,IF(O89=0,0,VLOOKUP(O89,Input!$L$15:$AA$44,12,FALSE))))","v":0},{"$f":"IF(COUNTIF($T$60:$AB$60,\"=0\")=5,0,IF($U$60=0,0,IF(O89=0,0,VLOOKUP(O89,Input!$L$15:$AA$44,13,FALSE))))","v":0},{"$f":"IF(COUNTIF($T$60:$AB$60,\"=0\")=5,0,IF($V$60=0,0,IF(O89=0,0,VLOOKUP(O89,Input!$L$15:$AA$44,14,FALSE))))","v":0},null,{"$f":"IF(COUNTIF($T$60:$AB$60,\"=0\")=5,0,IF($X$60=0,0,IF(O89=0,0,VLOOKUP(O89,Input!$L$15:$AA$44,15,FALSE))))","v":0},null,{"$f":"IF(COUNTBLANK(Input!$F$14:$J$14)=5,IF(O89=0,0,VLOOKUP(O89,Input!$L$15:$AA$44,11,FALSE)),IF($Z$60=0,0,IF(O89=0,0,VLOOKUP(O89,Input!$L$15:$AA$44,16,FALSE))))","v":0},null,null,{"$f":"IF(COUNTIF($T$60:$AB$60,\"=0\")<5,IF(IF(O89=0,0,VLOOKUP(O89,Input!$L$15:$AC$44,18,FALSE))=\"X\",T89+U89+V89+X89+Z89,MAX(T89:AB89)),IF(O89=0,0,MAX(VLOOKUP(O89,Input!$L$15:$AC$44,12,FALSE),VLOOKUP(O89,Input!$L$15:$AC$44,13,FALSE),VLOOKUP(O89,Input!$L$15:$AC$44,14,FALSE),VLOOKUP(O89,Input!$L$15:$AC$44,15,FALSE),VLOOKUP(O89,Input!$L$15:$AC$44,16,FALSE))))","v":0}]
[null,null,{"$f":"Calculations!B85","v":"W21-5b-48"},{"$f":"Calculations!I85","v":"48\"x48\""},{"$f":"Calculations!J85","v":"RIGHT or LEFT SHOULDER CLOSED AHEAD or __ FT or _ MILE"},{"$f":"IF(Input!F$14=0,0,Calculations!L85)","v":0},{"$f":"IF(Input!G$14=0,0,Calculations!M85)","v":0},{"$f":"IF(Input!H$14=0,0,Calculations!N85)","v":0},{"$f":"IF(Input!I$14=0,0,Calculations!O85)","v":0},{"$f":"IF(Input!J$14=0,0,Calculations!P85)","v":0},{"$f":"MAX(Calculations!L85:P85)","v":0},{"$f":"Calculations!K85","v":35},0,null,{"$f":"IF(COUNT(Input!$L$15:$L$44)-29<1,0,LARGE(Input!$L$15:$L$44,COUNT(Input!$L$15:$L$44)-29))","v":0},null,{"$f":"IF(O90=0,0,VLOOKUP(O90,Input!$L$15:$AA$44,2,FALSE))","v":0},null,{"$f":"IF(COUNTBLANK(Input!$F$14:$J$14)=5,0,IF(O90=0,0,VLOOKUP(O90,Input!$L$15:$AA$44,11,FALSE)))","v":0},{"$f":"IF(COUNTIF($T$60:$AB$60,\"=0\")=5,0,IF($T$60=0,0,IF(O90=0,0,VLOOKUP(O90,Input!$L$15:$AA$44,12,FALSE))))","v":0},{"$f":"IF(COUNTIF($T$60:$AB$60,\"=0\")=5,0,IF($U$60=0,0,IF(O90=0,0,VLOOKUP(O90,Input!$L$15:$AA$44,13,FALSE))))","v":0},{"$f":"IF(COUNTIF($T$60:$AB$60,\"=0\")=5,0,IF($V$60=0,0,IF(O90=0,0,VLOOKUP(O90,Input!$L$15:$AA$44,14,FALSE))))","v":0},null,{"$f":"IF(COUNTIF($T$60:$AB$60,\"=0\")=5,0,IF($X$60=0,0,IF(O90=0,0,VLOOKUP(O90,Input!$L$15:$AA$44,15,FALSE))))","v":0},null,{"$f":"IF(COUNTBLANK(Input!$F$14:$J$14)=5,IF(O90=0,0,VLOOKUP(O90,Input!$L$15:$AA$44,11,FALSE)),IF($Z$60=0,0,IF(O90=0,0,VLOOKUP(O90,Input!$L$15:$AA$44,16,FALSE))))","v":0},null,null,{"$f":"IF(COUNTIF($T$60:$AB$60,\"=0\")<5,IF(IF(O90=0,0,VLOOKUP(O90,Input!$L$15:$AC$44,18,FALSE))=\"X\",T90+U90+V90+X90+Z90,MAX(T90:AB90)),IF(O90=0,0,MAX(VLOOKUP(O90,Input!$L$15:$AC$44,12,FALSE),VLOOKUP(O90,Input!$L$15:$AC$44,13,FALSE),VLOOKUP(O90,Input!$L$15:$AC$44,14,FALSE),VLOOKUP(O90,Input!$L$15:$AC$44,15,FALSE),VLOOKUP(O90,Input!$L$15:$AC$44,16,FALSE))))","v":0},null,null,null,null,""]

{"sheet":"8.5x11 Plan Sheet","index":3,"n_rows":0,"n_cols":0,"rows_kept":0,"cut":false,"hidden":true,"merged":[]}

{"sheet":"Sign Units Computation","index":4,"n_rows":55,"n_cols":12,"rows_kept":55,"cut":false,"hidden":true,"merged":[[1,11,1,12],[0,0,0,10],[28,5,28,6],[28,0,28,2],[1,0,1,10],[25,3,25,8],[6,11,10,15]]}
["COMPUTATION OF SIGNING"]
["UNITS FOR TRAFFIC CONTROL"]
[]
[]
[null,null,"Material Costs Per Project"]
[]
[null,null,null,"Signs",null,4,"/ SF",null,null,null,null,"NOTE:\nIf additional signs are required, units will be calculated using the formula from Section III-18.06 of the Design Manual.\nhttp://www.dot.nd.gov/"]
[null,null,null,"Posts",null,10,"ea"]
[]
[]
[]
[null,null,"Installation cost of sign and post(s)"]
[]
[null,null,null,"Sign and 1 post",null,22]
[null,null,null,"Sign and 2 post",null,36]
[null,null,null,"Sign and 3 post",null,48]
[null,null,null,"Sign and 4 post",null,60]
[]
[null,null,"Installation cost of sign on existing post(s)"]
[]
[null,null,null,"Sign and 1 post",null,14]
[null,null,null,"Sign and 2 post",null,22]
[null,null,null,"Sign and 3 post",null,28]
[null,null,null,"Sign and 4 post",null,32]
[]
[null,null,null,"Installation costs include hardware, removal, maintenance, profit, and overhead."]
[]
[]
["UNITS =",null,null,"(Cost of material","+","Cost of installation)",null,"/",3.5]
[]
[]
[null,null,"EXAMPLES"]
[]
[null,null,"#1) Sign mounted on post(s)"]
[]
[null,null,null,"48\" x 48\" sign on 2 posts"]
[]
[null,null,null,"4' x 4' = 16 SF x $4.00 / SF =",null,null,64]
[null,null,null,"2 posts x $10.00 ea =",null,null,20]
[null,null,null,"Install sign and 2 posts =",null,null,36]
[null,null,null,null,null,"Total",{"$f":"SUM(G38:G40)","v":120}]
[]
[null,null,null,"Units = $120 / $3.50 = 34.3"]
[null,null,null,"Use 35 Units"]
[]
[null,null,"#2) Sign mounted on existing installed post(s)"]
[]
[null,null,null,"21\" x 15\" Arrow sign on 1 post"]
[]
[null,null,null,"1.75' x 1.25' = 2.1875 SF x $4.00 / SF =",null,null,null,null,8.75]
[null,null,null,"Install sign on 1 existing post =",null,null,null,null,14]
[null,null,null,null,null,null,"Total",null,{"$f":"SUM(I50:I51)","v":22.75}]
[]
[null,null,null,"Units = $22.75 / $3.50 = 6.5"]
[null,null,null,"Use 7 Units"]

{"sheet":"D-704 Standards","index":5,"n_rows":406,"n_cols":90,"rows_kept":406,"cut":false,"hidden":true,"merged":[[351,0,361,0],[274,1,274,5],[275,0,305,0],[275,3,275,4],[306,0,316,0],[362,1,363,5],[319,1,319,5],[317,1,318,5],[3,39,5,39],[320,0,350,0],[320,3,320,4],[272,1,273,5],[3,24,5,24],[3,25,5,25],[3,12,5,12],[3,19,5,19],[3,20,5,20],[3,21,5,21],[3,13,5,13],[261,0,271,0],[230,0,260,0],[4,1,5,1],[4,2,5,2],[179,2,183,2],[173,2,177,2],[229,1,229,5],[3,23,5,23],[3,10,5,10],[3,14,5,14],[3,17,5,17],[167,2,171,2],[3,15,5,15],[3,16,5,16],[3,63,5,63],[3,32,5,32],[3,33,5,33],[3,26,5,26],[3,27,5,27],[3,28,5,28],[3,29,5,29],[3,50,5,50],[3,56,5,56],[3,57,5,57],[3,36,5,36],[3,37,5,37],[3,46,5,46],[3,38,5,38],[3,40,5,40],[3,41,5,41],[3,30,5,30],[3,31,5,31],[3,61,5,61],[0,1,2,5],[3,51,5,51],[3,52,5,52],[3,53,5,53],[3,62,5,62],[3,54,5,54],[3,55,5,55],[3,86,5,86],[3,78,5,78],[3,79,5,79],[3,80,5,80],[3,81,5,81],[3,84,5,84],[3,83,5,83],[3,47,5,47],[3,49,5,49],[3,42,5,42],[3,43,5,43],[3,44,5,44],[3,45,5,45],[3,48,5,48],[3,18,5,18],[3,34,5,34],[3,35,5,35],[3,66,5,66],[3,91,4,93],[3,89,5,89],[3,87,5,87],[3,77,5,77],[3,73,5,73],[3,74,5,74],[3,75,5,75],[3,76,5,76],[3,85,5,85],[3,82,5,82],[3,67,5,67],[3,68,5,68],[3,64,5,64],[3,65,5,65],[3,69,5,69],[364,1,364,5],[365,3,365,4],[3,70,5,70],[3,71,5,71],[3,72,5,72],[3,58,5,58],[3,59,5,59],[3,60,5,60],[230,3,230,4],[3,8,5,8],[4,3,5,3],[3,9,5,9],[3,6,5,6],[3,22,5,22],[3,7,5,7],[4,5,5,5],[3,1,3,5],[3,11,5,11],[187,1,187,3],[134,1,134,5],[116,1,116,5]]}
[null,"If signs or devices are added to the input sheet, you may need to make the Traffic Control Signs & Devices independent of the Input sheet by using the Find_Blank_Row & Find_Blank_Row_Signs macros to enter the data into the Sheet Summary sheet.  Items in yellow are hard coded into ChooseStandard code (some of these signs use rows from Sheet Summary in code also.)"]
[]
[]
[null,"TRAFFIC CONTROL SIGNS",null,null,null,null,"D-704-15 Type A","D-704-15 Type B","D-704-15 Type C","D-704-16","D-704-17","D-704-18","D-704-19 Type E","D-704-19 Type F","D-704-20 Type G","D-704-20 Type H","D-704-21 Type I","D-704-21 Type J","D-704-22 Type K","D-704-22 Type L","D-704-22 Type M","D-704-22 Type N","D-704-22 Type O","D-704-23 Type P","D-704-23 Type Q","D-704-24 Type R","D-704-24 Type S","D-704-24 Type T","D-704-24 Type U","D-704-24 Type HH","D-704-24 Type II","D-704-25 Type V","D-704-25 Type W","D-704-25 Type X","D-704-26 Type Y","D-704-26 Type Z","D-704-26 Type AA","D-704-26 Type BB","D-704-26 Type CC","D-704-26 Type DD","D-704-26 Type EE","D-704-26 Type FF","D-704-26 Type GG","D-704-26 Type JJ","D-704-26 Type KK","D-704-30","D-704-31","D-704-32","D-704-34","D-704-34A","D-704-35","D-704-35A","D-704-37 Two Lane","D-704-37 Four Lane","D-704-38","D-704-39","D-704-45","D-704-49","D-704-52","D-704-52A","D-704-53, 54, & 55","D-704-57","D-704-58","D-704-59","D-704-60","D-704-61","D-704-62","D-704-63 Full/T-Intscn (far)","D-704-63 T-Intscn (near)","Portable\nRumble\nStrips\nTwo-Lane","Portable\nRumble\nStrips\nFour-Lane","Portable\nRumble\nStrips\nInterstate",null,null,null,null,null,null,null,null,null,null,null,null,null,null,null,null,null,"Used in ChooseStandard UserForm code in the initialize section"]
[null,"SIGN NUMBER","SIGN SIZE","DESCRIPTION",null,"UNITS"]
[]
[null,"E5-1-48","48\"x48\"","EXIT GORE",null,35,null,null,null,null,null,null,null,null,null,null,null,null,null,null,null,null,null,null,null,null,null,null,null,null,null,null,null,null,null,null,null,null,null,null,null,null,null,null,null,null,null,null,null,null,null,null,null,null,null,null,null,null,null,null,null,null,null,null,null,null,null,null,null,null,null,null,null,null,null,null,null,null,null,null,null,null,null,null,null,null,null,null,{"$f":"COUNT(G7:CJ7)","v":0},{"$f":"G4","v":"D-704-15 Type A"}]
[null,"G20-1-60","60\"x24\"","ROAD WORK NEXT __ MILES",null,28,null,null,null,null,null,null,null,null,2,null,null,null,null,null,null,null,1,null,null,1,null,1,null,null,null,null,null,null,null,null,null,null,null,null,null,null,null,null,null,null,null,null,null,null,null,null,null,null,null,null,null,null,null,null,null,null,null,null,null,null,null,null,null,null,null,null,null,null,null,null,null,null,null,null,null,null,null,null,null,null,null,null,{"$f":"COUNT(G8:CJ8)","v":4},{"$f":"H4","v":"D-704-15 Type B"}]
[null,"G20-1b-60","60\"x24\"","NO WORK IN PROGRESS (Sign and installation only)",null,18,null,null,null,null,null,null,null,null,2,null,null,null,null,null,null,null,1,null,null,null,null,null,null,null,null,null,null,null,null,null,null,null,null,null,null,null,null,null,null,null,null,null,null,null,null,null,null,null,null,null,null,null,null,null,null,null,null,null,null,null,null,null,null,null,null,null,null,null,null,null,null,null,null,null,null,null,null,null,null,null,null,null,2,{"$f":"I4","v":"D-704-15 Type C"}]
[null,"G20-2-48","48\"x24\"","END ROAD WORK",null,26,null,2,2,2,2,2,null,2,2,null,null,null,null,null,null,null,1,1,2,2,null,null,2,2,null,null,null,null,null,null,null,null,null,null,null,null,null,null,null,null,null,null,2,null,2,null,null,null,1,1,null,null,null,null,null,null,2,null,1,1,1,null,null,null,2,2,null,null,null,null,null,null,null,null,null,null,null,null,null,null,null,null,23,{"$f":"J4","v":"D-704-16"}]
[null,"G20-4-36","36\"x18\"","PILOT CAR FOLLOW ME (Mounted to back of pilot car)",null,18,1,null,null,null,null,null,null,1,null,null,null,null,null,null,null,null,null,null,null,null,null,null,null,null,null,null,null,null,null,null,null,null,null,null,null,null,null,null,null,null,null,null,null,null,null,null,null,null,null,null,null,null,null,null,null,null,null,null,null,null,null,null,null,null,null,null,null,null,null,null,null,null,null,null,null,null,null,null,null,null,null,null,2,{"$f":"K4","v":"D-704-17"}]
[null,"G20-4b-36","36\"x30\"","WAIT FOR PILOT CAR",null,18,null,null,null,null,null,null,null,null,null,null,null,null,null,null,null,null,null,null,null,null,null,null,null,null,null,null,null,null,null,null,null,null,null,null,null,null,null,null,1,null,null,null,null,null,null,null,null,null,null,null,null,null,null,null,null,null,null,null,null,null,null,null,null,null,null,null,null,null,null,null,null,null,null,null,null,null,null,null,null,null,null,null,1,{"$f":"L4","v":"D-704-18"}]
[null,"G20-50a-72","72\"x36\"","ROAD WORK NEXT __ MILES RT & LT ARROWS",null,43,null,null,null,null,null,null,null,null,null,null,null,null,null,null,null,null,null,null,null,null,null,null,null,null,null,null,null,null,null,null,null,null,null,null,null,null,null,null,null,null,null,null,null,null,null,null,null,null,null,null,null,null,null,null,null,null,null,null,null,null,null,null,null,null,null,null,null,null,null,null,null,null,null,null,null,null,null,null,null,null,null,null,0,{"$f":"M4","v":"D-704-19 Type E"}]
[null,"G20-52a-72","72\"x24\"","ROAD WORK NEXT __ MILES RT or LT ARROW",null,36,null,null,null,null,null,null,null,null,null,null,null,null,null,null,null,null,2,null,null,null,null,null,null,null,null,null,null,null,null,null,null,null,null,null,null,null,null,null,null,null,null,null,null,null,null,null,null,null,null,null,null,null,null,null,null,null,null,null,null,null,null,null,null,null,null,null,null,null,null,null,null,null,null,null,null,null,null,null,null,null,null,null,1,{"$f":"N4","v":"D-704-19 Type F"}]
[null,"G20-55-96","96\"x48\"","SPEED LIMIT ENFORCED - MINIMUM FEE $150 WHEN WORKERS PRESENT",null,59,null,2,2,2,2,2,null,2,2,null,null,null,null,null,null,null,1,null,null,null,null,null,null,null,null,null,null,null,null,2,null,null,null,null,null,null,null,null,null,null,2,null,2,null,2,null,null,null,2,2,null,null,null,2,4,null,4,null,2,2,2,null,null,null,2,2,null,null,null,null,null,null,null,null,null,null,null,null,null,null,null,null,22,{"$f":"O4","v":"D-704-20 Type G"}]
[null,"M1-1-36","36\"x36\"","INTERSTATE ROUTE MARKER (Post and installation only)",null,11,null,null,null,null,null,null,null,null,null,null,null,null,null,null,null,null,null,null,null,null,null,null,null,null,null,null,null,null,null,null,null,null,null,null,null,null,null,null,null,null,null,null,null,null,null,null,null,null,null,null,null,null,null,2,14,null,null,null,null,null,null,null,null,null,null,null,null,null,null,null,null,null,null,null,null,null,null,null,null,null,null,null,2,{"$f":"P4","v":"D-704-20 Type H"}]
[null,"M1-4-24","24\"x24\"","U.S. ROUTE MARKER (Post and installation only)",null,10,null,null,null,null,null,null,3,null,null,null,28,null,null,null,null,null,null,null,null,null,null,null,null,null,null,null,null,null,null,null,null,null,null,null,null,null,null,null,null,null,null,null,null,null,null,null,null,null,null,null,null,null,null,null,2,null,null,null,null,null,null,null,null,null,null,null,null,null,null,null,null,null,null,null,null,null,null,null,null,null,null,null,3,{"$f":"Q4","v":"D-704-21 Type I"}]
[null,"M1-5-24","24\"x24\"","STATE ROUTE MARKER (Post and installation only)",null,10,null,null,null,null,null,null,3,null,null,null,28,null,null,null,null,null,null,null,null,null,null,null,null,null,null,null,null,null,null,null,null,null,null,null,null,null,null,null,null,null,null,null,null,null,null,null,null,null,null,null,null,null,null,null,2,null,null,null,null,null,null,null,null,null,null,null,null,null,null,null,null,null,null,null,null,null,null,null,null,null,null,null,3,{"$f":"R4","v":"D-704-21 Type J"}]
[null,"M3-1-24","24\"x12\"","NORTH (Mounted on route marker post)",null,7,null,null,null,null,null,null,3,null,null,null,14,null,null,null,null,null,null,null,null,null,null,null,null,null,null,null,null,null,null,null,null,null,null,null,null,null,null,null,null,null,null,null,null,null,null,null,null,null,null,null,null,null,null,null,1,null,null,null,null,null,null,null,null,null,null,null,null,null,null,null,null,null,null,null,null,null,null,null,null,null,null,null,3,{"$f":"S4","v":"D-704-22 Type K"}]
[null,"M3-2-24","24\"x12\"","EAST (Mounted on route marker post)",null,7,null,null,null,null,null,null,3,null,null,null,14,null,null,null,null,null,null,null,null,null,null,null,null,null,null,null,null,null,null,null,null,null,null,null,null,null,null,null,null,null,null,null,null,null,null,null,null,null,null,null,null,null,null,null,1,null,null,null,null,null,null,null,null,null,null,null,null,null,null,null,null,null,null,null,null,null,null,null,null,null,null,null,3,{"$f":"T4","v":"D-704-22 Type L"}]
[null,"M3-3-24","24\"x12\"","SOUTH (Mounted on route marker post)",null,7,null,null,null,null,null,null,3,null,null,null,14,null,null,null,null,null,null,null,null,null,null,null,null,null,null,null,null,null,null,null,null,null,null,null,null,null,null,null,null,null,null,null,null,null,null,null,null,null,null,null,null,null,null,null,1,null,null,null,null,null,null,null,null,null,null,null,null,null,null,null,null,null,null,null,null,null,null,null,null,null,null,null,3,{"$f":"U4","v":"D-704-22 Type M"}]
[null,"M3-4-24","24\"x12\"","WEST (Mounted on route marker post)",null,7,null,null,null,null,null,null,3,null,null,null,14,null,null,null,null,null,null,null,null,null,null,null,null,null,null,null,null,null,null,null,null,null,null,null,null,null,null,null,null,null,null,null,null,null,null,null,null,null,null,null,null,null,null,null,1,null,null,null,null,null,null,null,null,null,null,null,null,null,null,null,null,null,null,null,null,null,null,null,null,null,null,null,3,{"$f":"V4","v":"D-704-22 Type N"}]
[null,"M4-8-24","24\"x12\"","DETOUR (Mounted on route marker post)",null,7,null,null,null,null,null,null,3,null,null,null,26,null,null,null,null,null,null,null,null,null,null,null,null,null,null,null,null,null,null,null,null,null,null,null,null,null,null,null,null,null,null,null,null,null,null,null,null,null,null,null,null,null,2,null,4,null,null,null,null,null,null,null,null,null,null,null,null,null,null,null,null,null,null,null,null,null,null,null,null,null,null,null,4,{"$f":"W4","v":"D-704-22 Type O"}]
[null,"M4-9-30","30\"x24\"","DETOUR ARROW RIGHT or LEFT/AHD AND RT or LT",null,15,null,null,null,null,null,null,null,null,null,null,null,null,null,null,null,null,null,null,10,null,null,null,null,null,null,null,null,null,null,null,null,null,null,null,null,null,null,null,null,null,null,null,null,null,null,null,null,null,null,null,null,null,null,null,null,null,null,null,null,null,null,null,null,null,null,null,null,null,null,null,null,null,null,null,null,null,null,null,null,null,null,null,1,{"$f":"X4","v":"D-704-23 Type P"}]
[null,"M4-10-48","48\"x18\"","DETOUR (INSIDE ARROW) RIGHT or LEFT (Mounted on barricade)",null,7,null,null,null,null,null,null,1,null,null,null,2,null,null,null,null,null,null,null,null,null,null,null,null,null,null,null,null,null,null,null,null,null,null,null,null,null,null,null,null,null,null,null,null,null,null,null,null,null,null,null,null,null,1,1,4,null,null,null,null,null,null,null,null,null,null,null,null,null,null,null,null,null,null,null,null,null,null,null,null,null,null,null,5,{"$f":"Y4","v":"D-704-23 Type Q"}]
[null,"M5-1-21","21\"x15\"","ADVANCE TURN ARROW RT or LT(Mounted on route marker post)",null,7,null,null,null,null,null,null,1,null,null,null,10,null,null,null,null,null,null,null,null,null,null,null,null,null,null,null,null,null,null,null,null,null,null,null,null,null,null,null,null,null,null,null,null,null,null,null,null,null,null,null,null,null,null,null,null,null,null,null,null,null,null,null,null,null,null,null,null,null,null,null,null,null,null,null,null,null,null,null,null,null,null,null,2,{"$f":"Z4","v":"D-704-24 Type R"}]
[null,"M5-1-30","30\"x21\"","ADVANCE TURN ARROW RT or LT(Mounted on route marker post)",null,9,null,null,null,null,null,null,null,null,null,null,null,null,null,null,null,null,null,null,null,null,null,null,null,null,null,null,null,null,null,null,null,null,null,null,null,null,null,null,null,null,null,null,null,null,null,null,null,null,null,null,null,null,null,null,2,null,null,null,null,null,null,null,null,null,null,null,null,null,null,null,null,null,null,null,null,null,null,null,null,null,null,null,1,{"$f":"AA4","v":"D-704-24 Type S"}]
[null,"M6-1-21","21\"x15\"","DIRECTIONAL ARROW RT or LT (Mounted on route marker post)",null,7,null,null,null,null,null,null,1,null,null,null,10,null,null,null,null,null,null,null,null,null,null,null,null,null,null,null,null,null,null,null,null,null,null,null,null,null,null,null,null,null,null,null,null,null,null,null,null,null,null,null,null,null,null,null,2,null,null,null,null,null,null,null,null,null,null,null,null,null,null,null,null,null,null,null,null,null,null,null,null,null,null,null,3,{"$f":"AB4","v":"D-704-24 Type T"}]
[null,"M6-1-30","30\"x21\"","DIRECTIONAL ARROW RT or LT (Mounted on route marker post)",null,9,null,null,null,null,null,null,null,null,null,null,null,null,null,null,null,null,null,null,null,null,null,null,null,null,null,null,null,null,null,null,null,null,null,null,null,null,null,null,null,null,null,null,null,null,null,null,null,null,null,null,null,null,null,null,6,null,null,null,null,null,null,null,null,null,null,null,null,null,null,null,null,null,null,null,null,null,null,null,null,null,null,null,1,{"$f":"AC4","v":"D-704-24 Type U"}]
[null,"M6-3-21","21\"x15\"","DIRECTIONAL ARROW UP (Mounted on route marker post)",null,7,null,null,null,null,null,null,null,null,null,null,null,null,null,null,null,null,null,null,null,null,null,null,null,null,null,null,null,null,null,null,null,null,null,null,null,null,null,null,null,null,null,null,null,null,null,null,null,null,null,null,null,null,null,null,null,null,null,null,null,null,null,null,null,null,null,null,null,null,null,null,null,null,null,null,null,null,null,null,null,null,null,null,0,{"$f":"AD4","v":"D-704-24 Type HH"}]
[null,"R1-1-48","48\"x48\"","STOP",null,32,null,null,null,null,null,null,null,null,null,null,330,null,248,248,null,null,148,null,null,null,null,null,null,null,null,null,null,null,null,null,null,null,null,null,null,null,null,null,null,null,448,null,null,null,null,null,null,null,null,null,148,null,null,248,648,null,null,null,null,null,null,148,null,null,null,null,null,null,null,null,null,null,null,null,null,null,null,null,null,null,null,null,9,{"$f":"AE4","v":"D-704-24 Type II"}]
[null,"R1-2-60","60\"x60\" ","YIELD ",null,29,null,null,null,null,null,null,null,null,null,null,null,null,null,null,null,null,null,null,null,null,null,null,null,null,null,null,null,null,null,null,null,null,null,null,null,null,null,null,null,null,null,null,null,null,null,null,null,null,null,null,null,null,null,null,null,null,null,null,null,null,null,2,1,null,null,null,null,null,null,null,null,null,null,null,null,null,null,null,null,null,null,null,2,{"$f":"AF4","v":"D-704-25 Type V"}]
[null,"R2-1-36","36\"x48\"","SPEED LIMIT __ (Portable only)",null,30,4,null,null,null,null,null,null,null,null,null,null,4,null,null,2,2,null,5,null,2,null,null,2,4,2,4,2,4,null,null,4,null,null,null,null,null,null,null,null,null,null,6,2,null,2,3,null,null,null,null,null,null,5,null,null,null,null,null,null,null,null,null,null,4,2,2,null,null,null,null,null,null,null,null,null,null,null,null,null,null,null,null,21,{"$f":"AG4","v":"D-704-25 Type W"}]
[null,"R2-1-48","48\"x60\"","SPEED LIMIT __",null,39,null,4,6,4,4,4,null,4,null,4,null,2,null,null,2,2,null,null,null,null,null,null,null,null,null,null,null,null,4,2,null,null,null,null,null,null,null,null,null,null,6,null,4,null,4,null,4,4,4,4,null,null,null,5,10,null,6,null,3,3,3,null,null,null,4,4,null,null,null,null,null,null,null,null,null,null,null,null,null,null,null,null,27,{"$f":"AH4","v":"D-704-25 Type X"}]
[null,"R2-1aP-24","24\"x18\"","MINIMUM FEE $150 (Mounted on Speed Limit post)",null,10,2,2,4,2,2,2,null,2,null,2,null,null,null,null,null,null,null,4,null,1,null,null,1,2,1,2,1,2,2,2,2,null,null,null,null,null,null,null,null,null,4,4,4,null,4,2,2,2,3,3,null,null,5,5,10,null,4,null,2,2,2,null,null,2,4,4,null,null,null,null,null,null,null,null,null,null,null,null,null,null,null,null,38,{"$f":"AI4","v":"D-704-26 Type Y"}]
[null,"R3-2-48","48\"x48\"","NO LEFT TURN",null,35,null,null,null,null,null,null,null,null,null,null,null,null,null,null,null,null,null,null,null,null,null,null,null,null,null,null,null,null,null,null,null,null,null,null,null,null,null,null,null,null,null,null,null,null,null,null,null,null,null,null,null,null,null,null,2,null,null,null,null,null,null,null,null,null,null,null,null,null,null,null,null,null,null,null,null,null,null,null,null,null,null,null,1,{"$f":"AJ4","v":"D-704-26 Type Z"}]
[null,"R4-1-48","48\"x60\"","DO NOT PASS",null,39,null,null,null,null,null,null,null,null,null,2,null,null,null,null,null,null,null,null,null,null,null,null,null,null,null,null,null,null,null,null,null,null,null,null,null,null,null,null,null,null,2,null,null,null,null,null,2,null,1,1,null,null,null,null,null,null,null,null,null,null,null,null,null,null,null,null,null,null,null,null,null,null,null,null,null,null,null,null,null,null,null,null,5,{"$f":"AK4","v":"D-704-26 Type AA"}]
[null,"R4-7-48","48\"x60\"","KEEP RIGHT",null,39,null,null,null,null,null,null,null,null,null,null,null,null,null,null,null,null,null,null,null,null,null,null,null,null,null,null,null,null,null,null,null,null,null,null,null,null,null,null,null,null,null,null,null,null,null,null,null,null,1,1,null,null,null,null,null,null,null,null,null,null,null,null,null,null,null,null,null,null,null,null,null,null,null,null,null,null,null,null,null,null,null,null,2,{"$f":"AL4","v":"D-704-26 Type BB"}]
[null,"R5-1-48","48\"x48\"","DO NOT ENTER",null,35,null,null,null,null,null,null,null,null,null,null,null,null,null,null,null,null,null,null,null,null,null,null,null,null,null,null,null,null,null,null,null,null,null,null,null,null,null,null,null,null,null,null,null,null,null,null,null,null,null,null,null,null,null,null,4,null,null,null,null,null,null,null,null,null,null,null,null,null,null,null,null,null,null,null,null,null,null,null,null,null,null,null,1,{"$f":"AM4","v":"D-704-26 Type CC"}]
[null,"R6-1-54","54\"x18\"","ONE WAY RIGHT or LEFT (Mounted on STOP or DO NOT ENTER  post)",null,14,null,null,null,null,null,null,null,null,null,null,null,null,null,null,null,null,null,null,null,null,null,null,null,null,null,null,null,null,null,null,null,null,null,null,null,null,null,null,null,null,null,null,null,null,null,null,null,null,null,null,null,null,null,null,4,null,null,null,null,null,null,null,null,null,null,null,null,null,null,null,null,null,null,null,null,null,null,null,null,null,null,null,1,{"$f":"AN4","v":"D-704-26 Type DD"}]
[null,"R7-1-12","12\"x18\"","NO PARKING ANY TIME",null,11,null,null,null,null,null,null,null,null,null,null,null,null,null,null,null,null,null,null,null,null,null,null,null,null,null,null,null,null,null,null,null,null,null,null,null,null,null,null,null,null,null,null,null,null,null,null,null,null,null,null,null,null,null,null,null,null,null,null,null,null,null,null,null,null,null,null,null,null,null,null,null,null,null,null,null,null,null,null,null,null,null,null,0,{"$f":"AO4","v":"D-704-26 Type EE"}]
[null,"R10-6-24","24\"x36\"","STOP HERE ON RED",null,16,null,null,null,2,null,null,null,null,null,null,null,null,null,null,null,null,null,null,null,null,null,null,null,null,null,null,null,null,null,null,null,null,null,null,null,null,null,null,null,null,null,null,null,null,null,null,null,null,null,null,null,null,null,null,null,null,null,null,null,null,null,null,null,null,null,null,null,null,null,null,null,null,null,null,null,null,null,null,null,null,null,null,1,{"$f":"AP4","v":"D-704-26 Type FF"}]
[null,"R11-2-48","48\"x30\"","ROAD CLOSED (Mounted on barricade)",null,12,null,2,null,null,null,null,1,null,null,null,2,null,null,null,null,null,null,null,null,null,null,null,null,null,null,null,null,null,null,null,null,null,null,null,null,null,null,null,null,null,null,null,null,null,null,null,null,null,1,1,null,null,1,1,14,null,null,null,null,null,null,2,1,null,null,null,null,null,null,null,null,null,null,null,null,null,null,null,null,null,null,null,10,{"$f":"AQ4","v":"D-704-26 Type GG"}]
[null,"R11-2a-48","48\"x30\"","STREET CLOSED (Mounted on barricade)",null,12,null,null,null,null,null,null,null,null,null,null,null,null,null,null,null,null,null,null,4,null,null,null,null,null,null,null,null,null,null,null,null,null,null,null,null,null,null,null,null,null,null,null,null,null,null,null,null,null,null,null,null,null,null,null,null,null,null,null,null,null,null,null,null,null,null,null,null,null,null,null,null,null,null,null,null,null,null,null,null,null,null,null,1,{"$f":"AR4","v":"D-704-26 Type JJ"}]
[null,"R11-3a-60","60\"x30\"","ROAD CLOSED __ MILES AHEAD LOCAL TRAFFIC ONLY (Mtd on barricade)",null,15,null,null,null,null,null,null,1,null,null,null,null,null,null,null,null,null,null,null,null,null,null,null,null,null,null,null,null,null,null,null,null,null,null,null,null,null,null,null,null,null,null,null,null,null,null,null,null,null,null,null,null,null,null,null,null,null,null,null,null,null,null,null,null,null,null,null,null,null,null,null,null,null,null,null,null,null,null,null,null,null,null,null,1,{"$f":"AS4","v":"D-704-26 Type KK"}]
[null,"R11-3c-60","60\"x30\"","STREET CLOSED __ MILES AHEAD LOCAL TRAFFIC ONLY (Mtd on barricade)",null,15,null,null,null,null,null,null,null,null,null,null,null,null,null,null,null,null,null,null,null,null,null,null,null,null,null,null,null,null,null,null,null,null,null,null,null,null,null,null,null,null,null,null,null,null,null,null,null,null,null,null,null,null,null,null,null,null,null,null,null,null,null,null,null,null,null,null,null,null,null,null,null,null,null,null,null,null,null,null,null,null,null,null,0,{"$f":"AT4","v":"D-704-30"}]
[null,"R11-4a-60","60\"x30\"","STREET CLOSED TO THRU TRAFFIC (Mounted on barricade)",null,15,null,null,null,null,null,null,null,null,null,null,null,null,null,null,null,null,null,null,2,null,null,null,null,null,null,null,null,null,null,null,null,null,null,null,null,null,null,null,null,null,null,null,null,null,null,null,null,null,null,null,null,null,null,null,null,null,null,null,null,null,null,null,null,null,null,null,null,null,null,null,null,null,null,null,null,null,null,null,null,null,null,null,1,{"$f":"AU4","v":"D-704-31"}]
[null,"W1-3-48","48\"x48\"","REVERSE TURN RIGHT or LEFT",null,35,null,null,null,null,null,null,null,null,null,null,null,null,null,null,null,null,null,null,null,null,null,null,null,null,null,null,null,null,null,null,null,null,null,null,null,null,null,null,null,null,null,null,null,null,null,null,null,null,null,null,null,null,null,null,null,null,null,null,null,null,null,null,null,null,null,null,null,null,null,null,null,null,null,null,null,null,null,null,null,null,null,null,0,{"$f":"AV4","v":"D-704-32"}]
[null,"W1-4-48","48\"x48\"","REVERSE CURVE RIGHT or LEFT",null,35,null,4,2,1,null,null,null,null,null,null,null,4,null,null,2,null,null,null,null,null,null,null,null,null,null,null,null,null,null,null,null,null,null,null,null,null,null,null,null,null,null,null,null,1,null,null,null,null,1,1,null,null,null,null,null,null,null,null,4,null,null,null,null,null,null,null,null,null,null,null,null,null,null,null,null,null,null,null,null,null,null,null,9,{"$f":"AW4","v":"D-704-34"}]
[null,"W1-4b-48","48\"x48\"","TWO LANE REVERSE CURVE RIGHT or LEFT",null,35,null,null,null,null,null,null,null,null,null,null,null,null,null,null,null,null,null,null,null,null,null,null,null,null,null,null,null,null,null,null,null,null,null,null,null,null,null,null,null,null,null,null,null,null,null,null,null,null,null,null,null,null,null,null,null,null,null,null,null,4,4,null,null,null,null,null,null,null,null,null,null,null,null,null,null,null,null,null,null,null,null,null,2,{"$f":"AX4","v":"D-704-34A"}]
[null,"W1-6-48","48\"x24\"","ONE DIRECTION LARGE ARROW",null,26,null,2,null,null,null,null,null,null,null,null,null,null,null,null,2,null,null,null,null,null,null,null,null,null,null,null,null,null,null,null,null,null,null,null,null,null,null,null,null,null,null,null,null,null,null,null,null,null,null,null,null,null,null,null,null,null,null,null,null,null,null,null,null,null,null,null,null,null,null,null,null,null,null,null,null,null,null,null,null,null,null,null,2,{"$f":"AY4","v":"D-704-35"}]
[null,"W3-1-48","48\"x48\"","STOP AHEAD",null,35,null,null,null,null,null,null,null,null,null,null,null,null,null,null,null,null,null,null,null,null,null,null,null,null,null,null,null,null,null,null,null,null,null,null,null,null,null,null,null,null,2,null,null,null,null,null,null,null,null,null,null,null,null,2,4,null,null,null,null,null,null,null,null,null,null,null,null,null,null,null,null,null,null,null,null,null,null,null,null,null,null,null,3,{"$f":"AZ4","v":"D-704-35A"}]
[null,"W3-3-48","48\"x48\"","SIGNAL AHEAD",null,35,null,null,null,2,null,null,null,null,null,null,null,null,null,null,null,null,null,null,null,null,null,null,null,null,null,null,null,null,null,null,null,null,null,null,null,null,null,null,null,null,null,null,null,null,null,null,null,null,null,null,null,null,null,null,null,null,null,null,null,null,null,null,null,null,null,null,null,null,null,null,null,null,null,null,null,null,null,null,null,null,null,null,1,{"$f":"BA4","v":"D-704-37 Two Lane"}]
[null,"W3-4-48","48\"x48\"","BE PREPARED TO STOP",null,35,2,null,null,null,null,null,null,null,null,null,null,null,null,null,2,2,null,null,null,null,null,null,null,null,1,null,null,null,2,null,2,null,null,null,null,null,null,null,null,null,null,null,null,null,null,null,null,null,null,null,null,null,null,null,null,null,null,null,null,null,null,null,null,2,null,null,null,null,null,null,null,null,null,null,null,null,null,null,null,null,null,null,7,{"$f":"BB4","v":"D-704-37 Four Lane"}]
[null,"W3-5-48","48\"x48\"","SPEED REDUCTION AHEAD",null,35,2,2,2,2,2,2,null,2,null,2,null,2,null,null,2,2,null,2,null,1,null,null,1,2,1,null,null,null,2,2,2,null,null,null,null,null,null,null,null,null,2,2,2,null,2,1,2,2,2,2,null,null,2,2,4,null,4,null,2,2,2,null,null,2,2,2,null,null,null,null,null,null,null,null,null,null,null,null,null,null,null,null,38,{"$f":"BC4","v":"D-704-38"}]
[null,"W4-2-48","48\"x48\"","LANE ENDS RIGHT or LEFT",null,35,null,null,2,null,null,2,null,null,null,null,null,null,null,null,null,null,null,2,null,null,null,null,null,null,null,null,null,null,null,null,null,null,null,null,null,null,null,null,null,null,null,2,2,null,2,null,null,null,2,2,null,4,2,2,4,null,null,null,2,2,2,null,null,null,2,2,null,null,null,null,null,null,null,null,null,null,null,null,null,null,null,null,17,{"$f":"BD4","v":"D-704-39"}]
[null,"W5-1-48","48\"x48\"","ROAD NARROWS",null,35,null,null,null,null,null,null,null,null,null,null,null,null,null,null,null,null,null,null,null,null,null,null,1,null,null,null,null,null,null,null,null,null,null,1,null,null,null,null,null,null,null,null,null,null,null,null,null,null,null,null,null,null,null,null,null,null,null,null,null,null,null,null,null,null,null,null,null,null,null,null,null,null,null,null,null,null,null,null,null,null,null,null,2,{"$f":"BE4","v":"D-704-45"}]
[null,"W5-8-48","48\"x48\"","THRU TRAFFIC RIGHT LANE",null,35,null,null,null,null,null,null,null,null,null,null,null,null,null,null,null,null,null,null,null,null,null,null,null,null,null,null,null,null,null,null,null,null,null,null,null,null,null,null,null,null,null,null,null,null,null,null,null,null,null,null,null,1,null,null,null,null,null,null,null,null,null,null,null,null,null,null,null,null,null,null,null,null,null,null,null,null,null,null,null,null,null,null,1,{"$f":"BF4","v":"D-704-49"}]
[null,"W5-9-48","48\"x48\"","ROAD WORK TRAFFIC ONLY DOWN & LT or RT ARROW",null,35,null,null,null,null,null,null,null,null,null,null,null,null,null,null,null,null,null,null,null,null,null,null,null,null,null,null,null,null,null,null,null,null,null,null,null,null,null,null,null,null,null,null,null,null,null,null,null,null,null,null,null,1,null,null,null,null,null,null,null,null,null,null,null,null,null,null,null,null,null,null,null,null,null,null,null,null,null,null,null,null,null,null,1,{"$f":"BG4","v":"D-704-52"}]
[null,"W6-3-48","48\"x48\"","TWO WAY TRAFFIC",null,35,null,null,null,null,null,null,null,null,null,null,null,null,null,null,null,null,null,null,null,null,null,null,null,null,null,null,null,null,null,null,null,null,null,null,null,null,null,null,null,null,null,null,null,null,null,null,null,null,1,1,null,null,null,null,null,null,null,null,null,null,null,null,null,null,null,null,null,null,null,null,null,null,null,null,null,null,null,null,null,null,null,null,2,{"$f":"BH4","v":"D-704-52A"}]
[null,"W8-1-48","48\"x48\"","BUMP",null,35,null,null,null,null,null,null,null,null,null,null,null,null,null,null,null,null,null,null,null,null,null,null,null,null,null,null,null,null,null,null,null,null,null,null,1,1,null,null,null,null,null,null,null,null,null,null,null,null,null,null,null,null,null,null,null,null,null,null,null,null,null,null,null,null,null,null,null,null,null,null,null,null,null,null,null,null,null,null,null,null,null,null,2,{"$f":"BI4","v":"D-704-53, 54, & 55"}]
[null,"W8-3-48","48\"x48\"","PAVEMENT ENDS",null,35,null,null,null,null,null,null,null,null,null,null,null,null,null,null,null,null,null,null,null,null,null,null,null,null,null,null,null,null,null,null,null,null,null,null,null,1,null,null,null,null,null,null,null,null,null,null,2,2,null,null,null,null,null,null,null,null,null,null,null,null,null,null,null,null,null,null,null,null,null,null,null,null,null,null,null,null,null,null,null,null,null,null,3,{"$f":"BJ4","v":"D-704-57"}]
[null,"W8-7-48","48\"x48\"","LOOSE GRAVEL",null,35,null,null,null,null,null,null,null,null,null,null,null,null,null,null,null,null,null,null,null,null,null,null,null,null,null,null,null,null,null,null,null,null,null,null,null,null,null,null,null,null,null,null,null,null,null,null,2,2,null,null,null,null,null,null,null,null,null,null,null,null,null,null,null,null,null,null,null,null,null,null,null,null,null,null,null,null,null,null,null,null,null,null,2,{"$f":"BK4","v":"D-704-58"}]
[null,"W8-17-48","48\"x48\"","SHOULDER DROP-OFF SYMBOL",null,35,null,null,null,null,null,null,null,null,null,null,null,null,null,null,null,null,null,null,null,null,null,null,null,null,null,null,null,null,null,null,null,null,null,null,null,null,null,null,null,null,null,null,null,null,null,null,null,null,null,null,null,null,null,null,null,null,null,null,null,null,null,null,null,null,null,null,null,null,null,null,null,null,null,null,null,null,null,null,null,null,null,null,0,{"$f":"BL4","v":"D-704-59"}]
[null,"W8-11-48","48\"x48\"","UNEVEN LANES",null,35,null,null,null,null,null,null,null,null,null,null,null,null,null,null,null,null,null,null,null,null,null,null,null,null,null,null,null,null,null,null,null,null,null,null,null,null,2,null,null,null,null,null,null,null,null,null,null,null,null,null,null,null,null,null,null,null,null,null,null,null,null,null,null,null,null,null,null,null,null,null,null,null,null,null,null,null,null,null,null,null,null,null,1,{"$f":"BM4","v":"D-704-60"}]
[null,"W8-12-48","48\"x48\"","NO CENTER LINE",null,35,null,null,null,null,null,null,null,null,null,2,null,null,null,null,null,null,null,null,null,null,null,null,null,null,null,null,null,null,null,null,null,null,null,null,null,null,null,null,null,null,null,null,null,null,null,null,2,2,null,null,null,null,null,null,null,null,null,null,null,null,null,null,null,null,null,null,null,null,null,null,null,null,null,null,null,null,null,null,null,null,null,null,3,{"$f":"BN4","v":"D-704-61"}]
[null,"W8-53-48","48\"x48\"","TRUCKS ENTERING HIGHWAY",null,35,null,null,null,null,null,null,null,null,null,null,null,null,null,null,null,null,null,null,null,null,null,null,null,null,null,null,null,null,null,null,null,null,null,null,null,null,null,null,null,null,null,null,null,null,null,null,null,null,null,null,1,null,null,null,null,null,null,null,null,null,null,null,null,null,null,null,null,null,null,null,null,null,null,null,null,null,null,null,null,null,null,null,1,{"$f":"BO4","v":"D-704-62"}]
[null,"W8-54-48","48\"x48\"","TRUCKS ENTERING AHEAD or __ FT or _ MILE",null,35,null,null,null,null,null,null,null,null,null,null,null,null,2,null,null,null,null,null,null,null,null,null,null,null,null,null,null,null,null,null,null,null,null,null,null,null,null,null,null,null,null,null,null,null,null,null,null,null,null,null,null,null,null,null,null,null,null,null,null,null,null,null,null,null,null,null,null,null,null,null,null,null,null,null,null,null,null,null,null,null,null,null,1,{"$f":"BP4","v":"D-704-63 Full/T-Intscn (far)"}]
[null,"W8-55-48","48\"x48\"","TRUCKS CROSSING AHEAD or __ FT or _ MILE",null,35,null,null,null,null,null,null,null,null,null,null,null,null,null,2,null,null,null,null,null,null,null,null,null,null,null,null,null,null,null,null,null,null,null,null,null,null,null,null,null,null,null,null,null,null,null,null,null,null,null,null,null,null,null,null,null,null,null,null,null,null,null,null,null,null,null,null,null,null,null,null,null,null,null,null,null,null,null,null,null,null,null,null,1,{"$f":"BQ4","v":"D-704-63 T-Intscn (near)"}]
[null,"W8-56-48","48\"x48\"","TRUCKS EXITING HIGHWAY",null,35,null,null,null,null,null,null,null,null,null,null,null,null,null,null,null,null,null,null,null,null,null,null,null,null,null,null,null,null,null,null,null,null,null,null,null,null,null,null,null,null,null,null,null,null,null,null,null,null,null,null,1,null,null,null,null,null,null,null,null,null,null,null,null,null,null,null,null,null,null,null,null,null,null,null,null,null,null,null,null,null,null,null,1,{"$f":"BR4","v":"Portable\nRumble\nStrips\nTwo-Lane"}]
[null,"W9-3a-48","48\"x48\"","CENTER LANE CLOSED SYMBOL",null,35,null,null,null,null,null,null,null,null,null,null,null,null,null,null,null,null,null,null,null,null,null,null,null,null,null,null,null,null,null,null,null,null,null,null,null,null,null,null,null,null,null,null,null,null,null,null,null,null,null,null,null,null,null,null,null,null,null,null,2,null,null,null,null,null,null,null,null,null,null,null,null,null,null,null,null,null,null,null,null,null,null,null,1,{"$f":"BS4","v":"Portable\nRumble\nStrips\nFour-Lane"}]
[null,"W13-1P-30","30\"x30\"","__ MPH ADVISORY SPEED PLAQUE (Mounted on warning sign post)",null,14,null,null,null,null,null,null,null,null,null,null,null,null,null,null,null,null,null,null,null,null,null,null,null,null,null,null,null,null,null,null,null,null,null,null,null,null,null,null,null,null,null,null,null,null,null,null,null,null,1,1,null,null,null,null,null,null,null,null,null,null,null,null,null,null,null,null,null,null,null,null,null,null,null,null,null,null,null,null,null,null,null,null,{"$f":"COUNT(G72:CJ72)","v":2},{"$f":"BT4","v":"Portable\nRumble\nStrips\nInterstate"}]
[null,"W14-3-64","64\"x48\"","NO PASSING ZONE",null,28,null,null,null,null,null,null,null,null,null,null,null,null,null,null,null,null,null,null,null,null,null,null,null,null,null,null,null,null,null,null,null,null,null,null,null,null,null,null,null,null,2,null,null,null,null,null,null,null,null,null,null,null,null,null,null,null,null,null,null,null,null,null,null,null,null,null,null,null,null,null,null,null,null,null,null,null,null,null,null,null,null,null,1,{"$f":"BU4","v":0}]
[null,"W16-2P-30","30\"x24\"","__ FEET PLAQUE (Mounted on warning sign post)",null,10,null,null,null,null,2,null,null,2,null,null,null,null,null,null,null,null,null,null,null,null,null,null,null,null,null,null,null,null,2,null,null,null,null,null,null,null,null,null,null,null,null,null,null,null,null,null,null,null,null,null,null,null,null,null,null,null,null,null,null,null,null,null,null,null,null,null,null,null,null,null,null,null,null,null,null,null,null,null,null,null,null,null,3,{"$f":"BV4","v":0}]
[null,"W20-1-48","48\"x48\"","ROAD WORK AHEAD or _FT or _ MILE",null,35,2,2,2,2,2,2,null,2,null,null,null,6,null,null,null,null,null,2,null,1,null,null,2,2,null,null,null,null,null,null,null,null,null,null,null,null,null,null,null,null,2,2,2,null,2,null,null,null,2,2,null,null,null,null,null,null,4,null,2,2,2,null,null,2,2,2,null,null,null,null,null,null,null,null,null,null,null,null,null,null,null,null,25,{"$f":"BW4","v":0}]
[null,"W20-2-48","48\"x48\"","DETOUR AHEAD or __ FT or _ MILE",null,35,null,null,null,null,null,null,1,null,null,null,4,null,null,null,null,null,null,null,2,null,null,null,null,null,null,null,null,null,null,null,null,null,null,null,null,null,null,null,null,null,null,null,null,null,null,null,null,null,null,null,null,null,2,2,6,null,null,null,null,null,null,null,null,null,null,null,null,null,null,null,null,null,null,null,null,null,null,null,null,null,null,null,6,{"$f":"BX4","v":0}]
[null,"W20-3-48","48\"x48\"","ROAD or STREET CLOSED AHEAD or __ FT or _ MILE",null,35,null,null,null,null,null,null,2,null,null,null,2,null,null,null,null,null,null,null,4,null,null,null,null,null,null,null,null,null,null,null,null,null,null,null,null,null,null,null,null,null,null,null,null,null,null,null,null,null,null,null,null,null,null,null,null,null,null,null,null,null,null,null,null,null,null,null,null,null,null,null,null,null,null,null,null,null,null,null,null,null,null,null,3,{"$f":"BY4","v":0}]
[null,"W20-4-48","48\"x48\"","ONE LANE ROAD AHEAD or __ FT or _ MILE",null,35,null,null,null,2,2,null,null,2,null,null,null,null,null,null,null,null,null,null,null,null,null,null,null,null,null,null,null,null,null,null,null,null,null,null,null,null,null,null,null,null,4,null,null,null,null,null,null,null,null,null,null,null,null,null,null,null,null,null,null,null,null,null,null,null,null,null,null,null,null,null,null,null,null,null,null,null,null,null,null,null,null,null,4,{"$f":"BZ4","v":0}]
[null,"W20-5-48","48\"x48\"","RIGHT or CENTER or LEFT LANE CLOSED AHEAD or __ FT or _ MILE",null,35,null,null,4,null,null,2,null,null,null,null,null,null,null,null,null,null,null,2,null,null,null,null,null,null,null,null,null,null,null,null,null,null,null,null,null,null,null,null,null,null,null,2,2,null,2,null,null,null,4,4,null,8,2,2,4,null,null,null,2,2,2,null,null,null,2,2,null,null,null,null,null,null,null,null,null,null,null,null,null,null,null,null,17,{"$f":"CA4","v":0}]
[null,"W20-7-48","48\"x48\"","FLAGGER",null,35,2,null,null,null,2,null,null,2,null,null,null,null,null,null,2,2,null,null,null,null,null,null,null,null,1,2,null,4,2,null,2,null,null,null,null,null,null,null,null,null,null,null,1,null,1,null,null,null,null,null,1,null,null,null,null,null,null,null,null,null,null,null,null,2,1,1,null,null,null,null,null,null,null,null,null,null,null,null,null,null,null,null,16,{"$f":"CB4","v":0}]
[null,"W20-8-18","18\"x18\"","STOP - SLOW PADDLE Back to Back",null,5,2,0,0,0,2,null,0,2,0,0,0,0,0,0,2,2,0,null,0,0,0,0,0,0,1,2,0,4,2,0,2,0,0,0,0,0,0,null,null,null,0,0,1,null,1,0,null,0,0,0,2,0,0,0,null,0,0,0,0,null,0,2,1,2,1,1,null,null,null,null,null,null,null,null,null,null,0,0,0,0,0,0,63,{"$f":"CC4","v":0}]
[null,"W20-52P-54","54\"x12\"","NEXT __ MILES (Mounted on warning sign post)",null,12,null,null,null,null,null,null,null,null,null,2,null,null,null,null,null,null,null,null,null,null,null,null,null,null,null,null,null,null,null,null,null,null,null,null,null,null,null,2,null,null,null,null,null,null,null,null,2,2,1,1,null,null,null,null,null,null,null,null,null,null,null,null,null,null,null,null,null,null,null,null,null,null,null,null,null,null,null,null,null,null,null,null,6,{"$f":"CD4","v":0}]
[null,"W21-1-48","48\"x48\"","WORKERS",null,35,null,null,null,null,null,null,null,null,null,null,null,null,null,null,null,null,null,null,null,null,null,null,null,null,null,2,1,2,null,null,null,null,null,null,null,null,null,null,null,null,null,null,null,null,null,null,null,null,null,null,null,null,null,null,null,null,null,null,null,null,null,null,null,null,null,null,null,null,null,null,null,null,null,null,null,null,null,null,null,null,null,null,3,{"$f":"CE4","v":0}]
[null,"W21-2-48","48\"x48\"","FRESH OIL",null,35,null,null,null,null,null,null,null,null,null,null,null,null,null,null,null,null,null,null,null,null,null,null,null,null,null,null,null,null,null,null,null,null,2,null,null,null,null,null,null,null,null,null,null,null,null,null,null,null,null,null,null,null,null,null,null,null,null,null,null,null,null,null,null,null,null,null,null,null,null,null,null,null,null,null,null,null,null,null,null,null,null,null,1,{"$f":"CF4","v":0}]
[null,"W21-3-48","48\"x48\"","ROAD MACHINERY AHEAD  or __ FT or _ MILE",null,35,null,null,null,null,null,null,null,null,null,null,null,null,null,null,null,null,null,null,null,null,null,null,null,null,null,null,null,null,4,null,null,null,null,null,null,null,null,null,null,null,null,null,null,null,null,null,null,null,null,null,null,null,null,null,null,null,null,null,null,null,null,null,null,null,null,null,null,null,null,null,null,null,null,null,null,null,null,null,null,null,null,null,1,{"$f":"CG4","v":0}]
[null,"W21-5-48","48\"x48\"","SHOULDER WORK",null,35,null,null,null,null,null,null,null,null,null,null,null,null,null,null,null,null,null,null,null,1,1,1,null,null,null,null,null,null,null,null,null,1,null,null,null,null,null,null,null,null,null,null,null,null,null,null,null,null,null,null,null,null,null,null,null,null,null,null,null,null,null,null,null,null,null,null,null,null,null,null,null,null,null,null,null,null,null,null,null,null,null,null,4,{"$f":"CH4","v":0}]
[null,"W21-5a-48","48\"x48\"","RIGHT or LEFT SHOULDER CLOSED",null,35,null,null,null,null,null,null,null,null,null,null,null,null,null,null,null,null,null,null,null,null,null,null,null,2,null,null,null,null,null,null,null,null,null,null,null,null,null,null,null,null,null,null,null,null,null,null,null,null,null,null,null,null,null,null,null,1,null,2,null,null,null,null,null,null,null,null,null,null,null,null,null,null,null,null,null,null,null,null,null,null,null,null,3,{"$f":"CI4","v":0}]
[null,"W21-5b-48","48\"x48\"","RIGHT or LEFT SHOULDER CLOSED AHEAD or __ FT or _ MILE",null,35,null,null,null,null,null,null,null,null,null,null,null,null,null,null,null,null,null,null,null,null,null,null,null,2,null,null,null,null,null,null,null,null,null,null,null,null,null,null,null,null,null,null,null,null,null,null,null,null,null,null,null,null,null,null,null,null,4,2,null,null,null,null,null,null,null,null,null,null,null,null,null,null,null,null,null,null,null,null,null,null,null,null,3,{"$f":"CJ4","v":0}]
[null,"W21-6-48","48\"x48\"","SURVEY CREW",null,35,null,null,null,null,null,null,null,null,null,null,null,null,null,null,null,null,null,null,null,null,null,null,null,null,null,null,null,null,null,null,2,null,null,null,null,null,null,null,null,null,null,null,null,null,null,null,null,null,null,null,null,null,null,null,null,null,null,null,null,null,null,null,null,null,null,null,null,null,null,null,null,null,null,null,null,null,null,null,null,null,null,null,1]
[null,"W21-50-48","48\"x48\"","BRIDGE PAINTING AHEAD or __ FT",null,35,null,null,null,null,null,null,null,null,null,null,null,null,null,null,null,null,null,null,null,null,null,null,null,null,2,null,null,null,null,null,null,null,null,null,null,null,null,null,null,null,null,null,null,null,null,null,null,null,null,null,null,null,null,null,null,null,null,null,null,null,null,null,null,null,null,null,null,null,null,null,null,null,null,null,null,null,null,null,null,null,null,null,1]
[null,"W21-51-48","48\"x48\"","MATERIAL ON ROADWAY",null,35,null,null,null,null,null,null,null,null,null,null,null,null,null,null,null,null,null,null,null,null,null,null,null,null,null,null,null,null,null,null,null,null,null,null,null,null,null,null,null,1,null,null,null,null,null,null,null,null,null,null,null,null,null,null,null,null,null,null,null,null,null,null,null,null,null,null,null,null,null,null,null,null,null,null,null,null,null,null,null,null,null,null,1]
[null,"W21-52-48","48\"x48\"","PAVEMENT BREAKS",null,35,null,null,null,null,null,null,null,null,null,null,null,null,null,null,null,null,null,null,null,null,null,null,null,null,null,null,null,null,null,null,null,null,null,null,null,null,null,2,null,null,null,null,null,null,null,null,null,null,null,null,null,null,null,null,null,null,null,null,null,null,null,null,null,null,null,null,null,null,null,null,null,null,null,null,null,null,null,null,null,null,null,null,1]
[null,"W21-53-48","48\"x48\"","RUMBLE STRIPS AHEAD",null,35,null,null,null,null,null,null,null,null,null,null,null,null,null,null,null,null,null,null,null,null,null,null,null,null,null,null,null,null,null,null,null,null,null,null,null,null,null,null,null,null,null,null,null,null,null,null,null,null,null,null,null,null,null,null,null,null,null,null,null,null,null,null,null,2,1,1,null,null,null,null,null,null,null,null,null,null,null,null,null,null,null,null,3]
[null,"W22-8-48","48\"x48\"","FRESH OIL LOOSE ROCK",null,35,null,null,null,null,null,null,null,null,null,2,null,null,null,null,null,null,null,null,null,null,null,null,null,null,null,null,null,null,null,null,null,null,null,null,null,null,null,null,null,null,null,null,null,null,null,null,null,null,null,null,null,null,null,null,null,null,null,null,null,null,null,null,null,null,null,null,null,null,null,null,null,null,null,null,null,null,null,null,null,null,null,null,1]
[null,"W24-1-48","48\"x48\"","DOUBLE REVERSE CURVE",null,35,null,null,null,null,null,null,null,null,null,null,null,null,null,null,null,null,null,null,null,null,null,null,null,null,null,null,null,null,null,null,null,null,null,null,null,null,null,null,null,null,null,null,null,null,null,1,null,null,null,null,null,null,null,null,null,null,null,null,null,null,null,null,null,null,null,null,null,null,null,null,null,null,null,null,null,null,null,null,null,null,null,null,1]
[null,null,null,null,null,null,null,null,null,null,null,null,null,null,null,null,null,null,null,null,null,null,null,null,null,null,null,null,null,null,null,null,null,null,null,null,null,null,null,null,null,null,null,null,null,null,null,null,null,null,null,null,null,null,null,null,null,null,null,null,null,null,null,null,null,null,null,null,null,null,null,null,null,null,null,null,null,null,null,null,null,null,null,null,null,null,null,null,0]
[null,null,null,null,null,null,null,null,null,null,null,null,null,null,null,null,null,null,null,null,null,null,null,null,null,null,null,null,null,null,null,null,null,null,null,null,null,null,null,null,null,null,null,null,null,null,null,null,null,null,null,null,null,null,null,null,null,null,null,null,null,null,null,null,null,null,null,null,null,null,null,null,null,null,null,null,null,null,null,null,null,null,null,null,null,null,null,null,0]
[null,null,null,null,null,null,null,null,null,null,null,null,null,null,null,null,null,null,null,null,null,null,null,null,null,null,null,null,null,null,null,null,null,null,null,null,null,null,null,null,null,null,null,null,null,null,null,null,null,null,null,null,null,null,null,null,null,null,null,null,null,null,null,null,null,null,null,null,null,null,null,null,null,null,null,null,null,null,null,null,null,null,null,null,null,null,null,null,0]
[null,{"$f":"Input!B107","v":0},{"$f":"Input!C107","v":0},{"$f":"Input!D107","v":0},null,null,null,null,null,null,null,null,null,null,null,null,null,null,null,null,null,null,null,null,null,null,null,null,null,null,null,null,null,null,null,null,null,null,null,null,null,null,null,null,null,null,null,null,null,null,null,null,null,null,null,null,null,null,null,null,null,null,null,null,null,null,null,null,null,null,null,null,null,null,null,null,null,null,null,null,null,null,null,null,null,null,null,null,0]
[null,{"$f":"Input!B108","v":0},{"$f":"Input!C108","v":0},{"$f":"Input!D108","v":0},null,null,null,null,null,null,null,null,null,null,null,null,null,null,null,null,null,null,null,null,null,null,null,null,null,null,null,null,null,null,null,null,null,null,null,null,null,null,null,null,null,null,null,null,null,null,null,null,null,null,null,null,null,null,null,null,null,null,null,null,null,null,null,null,null,null,null,null,null,null,null,null,null,null,null,null,null,null,null,null,null,null,null,null,0]
[null,{"$f":"Input!B109","v":0},{"$f":"Input!C109","v":0},{"$f":"Input!D109","v":0},null,null,null,null,null,null,null,null,null,null,null,null,null,null,null,null,null,null,null,null,null,null,null,null,null,null,null,null,null,null,null,null,null,null,null,null,null,null,null,null,null,null,null,null,null,null,null,null,null,null,null,null,null,null,null,null,null,null,null,null,null,null,null,null,null,null,null,null,null,null,null,null,null,null,null,null,null,null,null,null,null,null,null,null,0]
[null,{"$f":"Input!B110","v":0},{"$f":"Input!C110","v":0},{"$f":"Input!D110","v":0},null,null,null,null,null,null,null,null,null,null,null,null,null,null,null,null,null,null,null,null,null,null,null,null,null,null,null,null,null,null,null,null,null,null,null,null,null,null,null,null,null,null,null,null,null,null,null,null,null,null,null,null,null,null,null,null,null,null,null,null,null,null,null,null,null,null,null,null,null,null,null,null,null,null,null,null,null,null,null,null,null,null,null,null,0]
[null,{"$f":"Input!B111","v":0},{"$f":"Input!C111","v":0},{"$f":"Input!D111","v":0},null,null,null,null,null,null,null,null,null,null,null,null,null,null,null,null,null,null,null,null,null,null,null,null,null,null,null,null,null,null,null,null,null,null,null,null,null,null,null,null,null,null,null,null,null,null,null,null,null,null,null,null,null,null,null,null,null,null,null,null,null,null,null,null,null,null,null,null,null,null,null,null,null,null,null,null,null,null,null,null,null,null,null,null,0]
[null,{"$f":"Input!B112","v":0},{"$f":"Input!C112","v":0},{"$f":"Input!D112","v":0},null,null,null,null,null,null,null,null,null,null,null,null,null,null,null,null,null,null,null,null,null,null,null,null,null,null,null,null,null,null,null,null,null,null,null,null,null,null,null,null,null,null,null,null,null,null,null,null,null,null,null,null,null,null,null,null,null,null,null,null,null,null,null,null,null,null,null,null,null,null,null,null,null,null,null,null,null,null,null,null,null,null,null,null,0]
[null,{"$f":"Input!B113","v":0},{"$f":"Input!C113","v":0},{"$f":"Input!D113","v":0},null,null,null,null,null,null,null,null,null,null,null,null,null,null,null,null,null,null,null,null,null,null,null,null,null,null,null,null,null,null,null,null,null,null,null,null,null,null,null,null,null,null,null,null,null,null,null,null,null,null,null,null,null,null,null,null,null,null,null,null,null,null,null,null,null,null,null,null,null,null,null,null,null,null,null,null,null,null,null,null,null,null,null,null,0]
[null,{"$f":"Input!B114","v":0},{"$f":"Input!C114","v":0},{"$f":"Input!D114","v":0},null,null,null,null,null,null,null,null,null,null,null,null,null,null,null,null,null,null,null,null,null,null,null,null,null,null,null,null,null,null,null,null,null,null,null,null,null,null,null,null,null,null,null,null,null,null,null,null,null,null,null,null,null,null,null,null,null,null,null,null,null,null,null,null,null,null,null,null,null,null,null,null,null,null,null,null,null,null,null,null,null,null,null,null,0]
[null,{"$f":"Input!B115","v":0},{"$f":"Input!C115","v":0},{"$f":"Input!D115","v":0},null,null,null,null,null,null,null,null,null,null,null,null,null,null,null,null,null,null,null,null,null,null,null,null,null,null,null,null,null,null,null,null,null,null,null,null,null,null,null,null,null,null,null,null,null,null,null,null,null,null,null,null,null,null,null,null,null,null,null,null,null,null,null,null,null,null,null,null,null,null,null,null,null,null,null,null,null,null,null,null,null,null,null,null,0]
[null,{"$f":"Input!B116","v":0},{"$f":"Input!C116","v":0},{"$f":"Input!D116","v":0},null,null,null,null,null,null,null,null,null,null,null,null,null,null,null,null,null,null,null,null,null,null,null,null,null,null,null,null,null,null,null,null,null,null,null,null,null,null,null,null,null,null,null,null,null,null,null,null,null,null,null,null,null,null,null,null,null,null,null,null,null,null,null,null,null,null,null,null,null,null,null,null,null,null,null,null,null,null,null,null,null,null,null,null,0]
[null,{"$f":"Input!B117","v":0},{"$f":"Input!C117","v":0},{"$f":"Input!D117","v":0},null,null,null,null,null,null,null,null,null,null,null,null,null,null,null,null,null,null,null,null,null,null,null,null,null,null,null,null,null,null,null,null,null,null,null,null,null,null,null,null,null,null,null,null,null,null,null,null,null,null,null,null,null,null,null,null,null,null,null,null,null,null,null,null,null,null,null,null,null,null,null,null,null,null,null,null,null,null,null,null,null,null,null,null,0]
[null,{"$f":"Input!B118","v":0},{"$f":"Input!C118","v":0},{"$f":"Input!D118","v":0},null,null,null,null,null,null,null,null,null,null,null,null,null,null,null,null,null,null,null,null,null,null,null,null,null,null,null,null,null,null,null,null,null,null,null,null,null,null,null,null,null,null,null,null,null,null,null,null,null,null,null,null,null,null,null,null,null,null,null,null,null,null,null,null,null,null,null,null,null,null,null,null,null,null,null,null,null,null,null,null,null,null,null,null,0]
[null,{"$f":"Input!B119","v":0},{"$f":"Input!C119","v":0},{"$f":"Input!D119","v":0},null,null,null,null,null,null,null,null,null,null,null,null,null,null,null,null,null,null,null,null,null,null,null,null,null,null,null,null,null,null,null,null,null,null,null,null,null,null,null,null,null,null,null,null,null,null,null,null,null,null,null,null,null,null,null,null,null,null,null,null,null,null,null,null,null,null,null,null,null,null,null,null,null,null,null,null,null,null,null,null,null,null,null,null,0]
[null,{"$f":"Input!B120","v":0},{"$f":"Input!C120","v":0},{"$f":"Input!D120","v":0},null,null,null,null,null,null,null,null,null,null,null,null,null,null,null,null,null,null,null,null,null,null,null,null,null,null,null,null,null,null,null,null,null,null,null,null,null,null,null,null,null,null,null,null,null,null,null,null,null,null,null,null,null,null,null,null,null,null,null,null,null,null,null,null,null,null,null,null,null,null,null,null,null,null,null,null,null,null,null,null,null,null,null,null,0]
[null,{"$f":"Input!B121","v":0},{"$f":"Input!C121","v":0},{"$f":"Input!D121","v":0},null,null,null,null,null,null,null,null,null,null,null,null,null,null,null,null,null,null,null,null,null,null,null,null,null,null,null,null,null,null,null,null,null,null,null,null,null,null,null,null,null,null,null,null,null,null,null,null,null,null,null,null,null,null,null,null,null,null,null,null,null,null,null,null,null,null,null,null,null,null,null,null,null,null,null,null,null,null,null,null,null,null,null,null,0]
[null,{"$f":"Input!B122","v":0},{"$f":"Input!C122","v":0},{"$f":"Input!D122","v":0},null,null,null,null,null,null,null,null,null,null,null,null,null,null,null,null,null,null,null,null,null,null,null,null,null,null,null,null,null,null,null,null,null,null,null,null,null,null,null,null,null,null,null,null,null,null,null,null,null,null,null,null,null,null,null,null,null,null,null,null,null,null,null,null,null,null,null,null,null,null,null,null,null,null,null,null,null,null,null,null,null,null,null,null,0]
[null,{"$f":"Input!B123","v":0},{"$f":"Input!C123","v":0},{"$f":"Input!D123","v":0},null,null,null,null,null,null,null,null,null,null,null,null,null,null,null,null,null,null,null,null,null,null,null,null,null,null,null,null,null,null,null,null,null,null,null,null,null,null,null,null,null,null,null,null,null,null,null,null,null,null,null,null,null,null,null,null,null,null,null,null,null,null,null,null,null,null,null,null,null,null,null,null,null,null,null,null,null,null,null,null,null,null,null,null,0]
[]
[null,"ROUTE MARKER AND CARDINAL DIRECTION SIGNS NOT IN THE STANDARD TCDL\nThis data cannot be sorted - it will effect the Visual Basic Code"]
[null,"SIGN NUMBER","SIGN SIZE","DESCRIPTION",null,"UNITS"]
[null,"M1-1-24","24\"x24\"","INTERSTATE ROUTE MARKER (Post and installation only)",null,10,null,null,null,null,null,null,null,null,null,null,null,null,null,null,null,null,null,null,null,null,null,null,null,null,null,null,null,null,null,null,null,null,null,null,null,null,null,null,null,null,null,null,null,null,null,null,null,null,null,null,null,null,2,null,2]
[null,"M3-1(I)-24","24\"x12\"","NORTH (Mounted on route marker post)",null,7,null,null,null,null,null,null,null,null,null,null,null,null,null,null,null,null,null,null,null,null,null,null,null,null,null,null,null,null,null,null,null,null,null,null,null,null,null,null,null,null,null,null,null,null,null,null,null,null,null,null,null,null,2,null,1]
[null,"M3-1(I)-36","36\"x18\"","NORTH (Mounted on route marker post)",null,10,null,null,null,null,null,null,null,null,null,null,null,null,null,null,null,null,null,null,null,null,null,null,null,null,null,null,null,null,null,null,null,null,null,null,null,null,null,null,null,null,null,null,null,null,null,null,null,null,null,null,null,null,null,2,7]
[null,"M3-3(I)-24","24\"x12\"","SOUTH (Mounted on route marker post)",null,7,null,null,null,null,null,null,null,null,null,null,null,null,null,null,null,null,null,null,null,null,null,null,null,null,null,null,null,null,null,null,null,null,null,null,null,null,null,null,null,null,null,null,null,null,null,null,null,null,null,null,null,null,2,null,1]
[null,"M3-3(I)-36","36\"x18\"","SOUTH (Mounted on route marker post)",null,10,null,null,null,null,null,null,null,null,null,null,null,null,null,null,null,null,null,null,null,null,null,null,null,null,null,null,null,null,null,null,null,null,null,null,null,null,null,null,null,null,null,null,null,null,null,null,null,null,null,null,null,null,null,2,7]
[null,"M3-2(I)-24","24\"x12\"","EAST (Mounted on route marker post)",null,7,null,null,null,null,null,null,null,null,null,null,null,null,null,null,null,null,null,null,null,null,null,null,null,null,null,null,null,null,null,null,null,null,null,null,null,null,null,null,null,null,null,null,null,null,null,null,null,null,null,null,null,null,2,null,1]
[null,"M3-2(I)-36","36\"x18\"","EAST (Mounted on route marker post)",null,10,null,null,null,null,null,null,null,null,null,null,null,null,null,null,null,null,null,null,null,null,null,null,null,null,null,null,null,null,null,null,null,null,null,null,null,null,null,null,null,null,null,null,null,null,null,null,null,null,null,null,null,null,null,2,7]
[null,"M3-4(I)-24","24\"x12\"","WEST (Mounted on route marker post)",null,7,null,null,null,null,null,null,null,null,null,null,null,null,null,null,null,null,null,null,null,null,null,null,null,null,null,null,null,null,null,null,null,null,null,null,null,null,null,null,null,null,null,null,null,null,null,null,null,null,null,null,null,null,2,null,1]
[null,"M3-4(I)-36","36\"x18\"","WEST (Mounted on route marker post)",null,10,null,null,null,null,null,null,null,null,null,null,null,null,null,null,null,null,null,null,null,null,null,null,null,null,null,null,null,null,null,null,null,null,null,null,null,null,null,null,null,null,null,null,null,null,null,null,null,null,null,null,null,null,null,2,7]
[null,"M1-4-36","36\"x36\"","U.S. ROUTE MARKER (Post and installation only)",null,10,null,null,null,null,null,null,null,null,null,null,null,null,null,null,null,null,null,null,null,null,null,null,null,null,null,null,null,null,null,null,null,null,null,null,null,null,null,null,null,null,null,null,null,null,null,null,null,null,null,null,null,null,null,null,8]
[null,"M1-5-36","36\"x36\"","STATE ROUTE MARKER (Post and installation only)",null,10,null,null,null,null,null,null,null,null,null,null,null,null,null,null,null,null,null,null,null,null,null,null,null,null,null,null,null,null,null,null,null,null,null,null,null,null,null,null,null,null,null,null,null,null,null,null,null,null,null,null,null,null,null,null,8]
[null,"M3-1-36","36\"x18\"","NORTH (Mounted on route marker post)",null,10,null,null,null,null,null,null,null,null,null,null,null,null,null,null,null,null,null,null,null,null,null,null,null,null,null,null,null,null,null,null,null,null,null,null,null,null,null,null,null,null,null,null,null,null,null,null,null,null,null,null,null,null,null,null,4]
[null,"M3-2-36","36\"x18\"","EAST (Mounted on route marker post)",null,10,null,null,null,null,null,null,null,null,null,null,null,null,null,null,null,null,null,null,null,null,null,null,null,null,null,null,null,null,null,null,null,null,null,null,null,null,null,null,null,null,null,null,null,null,null,null,null,null,null,null,null,null,null,null,4]
[null,"M3-3-36","36\"x18\"","SOUTH (Mounted on route marker post)",null,10,null,null,null,null,null,null,null,null,null,null,null,null,null,null,null,null,null,null,null,null,null,null,null,null,null,null,null,null,null,null,null,null,null,null,null,null,null,null,null,null,null,null,null,null,null,null,null,null,null,null,null,null,null,null,4]
[null,"M3-4-36","36\"x18\"","WEST (Mounted on route marker post)",null,10,null,null,null,null,null,null,null,null,null,null,null,null,null,null,null,null,null,null,null,null,null,null,null,null,null,null,null,null,null,null,null,null,null,null,null,null,null,null,null,null,null,null,null,null,null,null,null,null,null,null,null,null,null,null,4]
[]
[null,"TRAFFIC CONTROL DEVICES"]
[null,"SPEC","CODE","DESCRIPTION","UNIT","SUM\n QTY"]
[null,704,100,"FLAGGING","MHR","X","X",null,null,null,"X",null,null,"X",null,null,null,null,null,null,"X","X",null,null,null,null,null,null,null,null,"X","X",null,"X","X",null,"X",null,null,null,null,null,null,null,null,null,null,null,"X",null,"X",null,null,null,null,null,"X",null,null,null,null,null,null,null,null,null,null,"X","X","X","X","X",null,null,null,null,null,null,null,null,null,null,null,null,null,null,null,null,{"$f":"COUNTIF(G137:CJ137,\"<>0\")-COUNTBLANK(G137:CJ137)","v":18}]
[null,704,1048,"PORTABLE RUMBLE STRIPS","EACH",0,null,null,null,null,null,null,null,null,null,null,null,null,null,null,null,null,null,null,null,null,null,null,null,null,null,null,null,null,null,null,null,null,null,null,null,null,null,null,null,null,null,null,null,null,null,null,null,null,null,null,null,null,null,null,null,null,null,null,null,null,null,null,null,2,1,1,null,null,null,null,null,null,null,null,null,null,null,null,null,null,null,null,3]
[null,704,1050,"TYPE I BARRICADES","EACH",0,null,null,null,null,null,null,null,null,null,null,null,null,null,null,null,null,null,null,null,null,null,null,null,null,null,null,null,null,null,null,null,null,null,null,null,null,null,null,null,null,null,null,null,null,null,null,null,null,null,null,null,null,null,null,null,null,null,null,null,null,null,null,null,null,null,null,null,null,null,null,null,null,null,null,null,null,null,null,null,null,null,null,0]
[null,704,1052,"TYPE III BARRICADES","EACH",0,null,6,null,2,2,null,5,null,null,null,6,2,null,null,6,null,null,null,16,null,null,null,null,null,null,null,null,null,null,null,null,null,null,null,null,null,null,null,null,null,2,null,1,2,1,null,null,null,3,3,2,3,3,3,42,null,null,null,null,null,null,6,3,null,1,1,null,null,null,null,null,null,null,null,null,null,null,null,null,null,null,null,23]
[null,704,1060,"DELINEATOR DRUMS","EACH",0,null,"X","X","X","X","X",null,"X",null,null,null,"X",null,null,null,null,null,"X",null,"X",null,null,"X","X",null,null,null,null,null,null,null,null,null,null,null,null,null,null,null,null,"X","X","X","X","X","X",null,null,"X","X",null,"X","X","X","X",null,null,null,"X","X","X",null,null,null,"X","X",null,null,null,null,null,null,null,null,null,null,null,null,null,null,null,null,28]
[null,704,1065,"TRAFFIC CONES","EACH",0,null,null,null,null,null,null,null,null,null,null,null,null,null,null,null,null,null,null,null,null,null,null,null,null,null,"X",null,"X",null,null,"X",null,null,null,null,null,null,null,null,null,null,null,null,null,null,null,null,null,null,null,null,null,null,null,null,null,null,null,null,null,null,null,null,null,null,null,null,null,null,null,null,null,null,null,null,null,null,null,null,null,null,null,3]
[null,704,1067,"TUBULAR MARKERS","EACH",0,null,null,"X",null,null,null,null,null,null,null,null,null,null,null,null,null,null,"X",null,"X",null,null,"X",null,null,null,null,null,null,null,null,null,null,null,null,null,null,null,null,null,null,null,"X","X","X","X",null,null,null,null,null,null,null,null,null,null,null,null,null,null,null,null,null,null,"X","X",null,null,null,null,null,null,null,null,null,null,null,null,null,null,null,null,10]
[null,704,1070,"DELINEATOR","EACH",0,null,null,null,null,null,null,null,null,null,null,null,null,null,null,null,null,null,null,null,null,null,null,null,null,null,null,null,null,null,null,null,null,null,null,null,null,null,null,null,null,null,null,null,null,null,null,null,null,null,null,null,null,null,null,null,null,null,null,null,null,null,null,null,null,null,null,null,null,null,null,null,null,null,null,null,null,null,null,null,null,null,null,0]
[null,704,1072,"FLEXIBLE DELINEATORS","EACH",0,null,null,null,null,null,null,null,null,null,null,null,null,null,null,null,null,null,null,null,null,null,null,null,null,null,null,null,null,null,null,null,null,null,null,null,null,null,null,null,null,null,null,null,null,null,null,null,null,null,5,null,null,null,49,144,null,null,null,null,null,null,{"$f":"3+3","v":6},{"$f":"3+3","v":6},null,null,null,null,null,null,null,null,null,null,null,null,null,null,null,null,null,null,null,5]
[null,704,1080,"STACKABLE VERTICAL PANELS","EACH",0,null,null,null,null,null,null,null,null,null,null,null,null,null,null,null,null,null,null,null,null,null,null,null,null,null,null,null,null,null,null,null,null,null,null,null,null,null,null,null,null,null,null,null,null,null,null,null,null,null,null,null,null,null,null,null,null,null,null,null,null,null,null,null,null,null,null,null,null,null,null,null,null,null,null,null,null,null,null,null,null,null,null,0]
[null,704,1081,"VERTICAL PANELS - BACK TO BACK","EACH",0,null,"X",null,null,null,0,null,null,null,null,null,"X",null,null,null,null,null,null,null,null,null,null,null,null,null,null,null,null,null,null,null,null,null,null,null,null,null,null,null,"X",null,null,null,null,null,null,null,null,null,null,null,null,null,null,null,null,null,null,null,null,null,null,null,null,null,null,null,null,null,null,null,null,null,null,null,null,null,null,null,null,null,null,3]
[null,704,1085,"SEQUENCING ARROW PANEL - TYPE A","EACH",0,null,null,2,null,null,null,null,null,null,null,null,null,null,null,null,null,null,1,null,null,null,null,null,null,null,null,null,null,null,null,null,null,null,null,null,null,null,null,null,null,null,null,null,null,null,null,null,null,null,null,null,2,null,null,null,null,null,null,null,null,null,null,null,null,null,null,null,null,null,null,null,null,null,null,null,null,null,null,null,null,null,null,3]
[null,704,1086,"SEQUENCING ARROW PANEL - TYPE B","EACH",0,null,null,2,null,null,null,null,null,null,null,null,null,null,null,null,null,null,1,null,null,null,null,null,null,null,null,null,null,null,null,null,null,null,null,null,null,null,null,null,null,null,null,null,null,null,null,null,null,null,null,null,2,null,null,null,null,null,null,null,null,null,null,null,null,null,null,null,null,null,null,null,null,null,null,null,null,null,null,null,null,null,null,3]
[null,704,1087,"SEQUENCING ARROW PANEL - TYPE C","EACH",0,null,null,2,null,null,null,null,null,null,null,null,null,null,null,null,null,null,1,null,null,null,null,null,null,null,null,null,null,null,null,null,null,null,null,null,null,null,null,null,null,null,null,null,null,null,null,null,null,null,null,null,2,null,null,null,null,null,null,null,null,null,null,null,null,null,null,null,null,null,null,null,null,null,null,null,null,null,null,null,null,null,null,3]
[null,704,3501,"PORTABLE PRECAST CONCRETE MED BARRIER","LF",0,null,null,null,"X","X","X",null,null,null,null,null,null,null,null,null,null,null,null,null,null,null,null,null,"X",null,null,null,null,null,null,null,null,null,null,null,null,null,null,null,null,null,null,null,null,null,null,null,null,"A","B",null,null,null,null,null,710,2160,1420,null,null,null,null,null,null,null,null,null,null,null,null,null,null,null,null,null,null,null,null,null,null,null,null,9]
[null,704,3510,"PRECAST CONCRETE MED BARRIER - STATE FURNISHED","EACH",0,null,null,null,null,null,null,null,null,null,null,null,null,null,null,null,null,null,null,null,null,null,null,null,null,null,null,null,null,null,null,null,null,null,null,null,null,null,null,null,null,null,null,null,null,null,null,null,null,null,null,null,null,null,null,null,null,null,null,null,null,null,null,null,null,null,null,null,null,null,null,null,null,null,null,null,null,null,null,null,null,null,null,0]
[null,762,200,"RAISED PAVEMENT MARKERS","EACH","X",null,null,null,null,null,null,null,null,null,null,null,null,null,null,null,null,null,null,null,null,null,null,null,null,null,null,null,null,null,null,null,null,null,null,null,null,null,null,null,null,null,null,null,null,null,null,null,null,"T1","T2",null,null,null,null,76,null,null,null,null,null,null,null,null,null,null,null,null,null,null,null,null,null,null,null,null,null,null,null,null,null,null,null,3]
[null,762,420,"SHORT TERM 4IN LINE - TYPE R","LF","X",null,"X","X","X",null,"X",null,null,null,null,null,null,null,null,null,null,null,null,null,null,null,null,null,null,null,null,null,null,null,null,null,null,null,null,null,null,null,null,null,null,null,null,null,null,null,null,null,null,null,null,null,null,null,1306,1990,null,null,null,"X","X","X",null,null,null,null,null,null,null,null,null,null,null,null,null,null,null,null,null,null,null,null,null,9]
[null,762,430,"SHORT TERM 4IN LINE - TYPE NR","LF","X",null,"X","X",null,null,"X",null,null,null,null,null,null,null,null,null,null,null,null,null,null,null,null,null,null,null,null,null,null,null,null,null,null,null,null,null,null,null,null,null,null,null,null,null,null,null,null,null,null,null,null,null,null,null,null,80,null,null,null,null,null,null,null,null,null,null,null,null,null,null,null,null,null,null,null,null,null,null,null,null,null,null,null,4]
[null,704,1500,"OBLITERATION OF PVMT MK","SF","X",null,"X","X","X","X","X",null,null,null,null,null,null,null,null,null,null,null,null,null,null,null,null,null,null,null,null,null,null,null,null,null,null,null,null,null,null,null,null,null,null,null,null,null,"X",null,null,null,null,"T1","T2",null,null,null,900,721,null,null,null,"X","X","X",null,null,null,null,null,null,null,null,null,null,null,null,null,null,null,null,null,null,null,null,null,13]
[null,null,null,null,null,null,null,null,null,null,null,null,null,null,null,null,null,null,null,null,null,null,null,null,null,null,null,null,null,null,null,null,null,null,null,null,null,null,null,null,null,null,null,null,null,null,null,null,null,null,null,null,null,null,null,null,null,null,null,null,null,null,null,null,null,null,null,null,null,null,null,null,null,null,null,null,null,null,null,null,null,null,null,null,null,null,null,null,0]
[null,null,null,null,null,null,null,null,null,null,null,null,null,null,null,null,null,null,null,null,null,null,null,null,null,null,null,null,null,null,null,null,null,null,null,null,null,null,null,null,null,null,null,null,null,null,null,null,null,null,null,null,null,null,null,null,null,null,null,null,null,null,null,null,null,null,null,null,null,null,null,null,null,null,null,null,null,null,null,null,null,null,null,null,null,null,null,null,0]
[null,null,null,null,null,null,null,null,null,null,null,null,null,null,null,null,null,null,null,null,null,null,null,null,null,null,null,null,null,null,null,null,null,null,null,null,null,null,null,null,null,null,null,null,null,null,null,null,null,null,null,null,null,null,null,null,null,null,null,null,null,null,null,null,null,null,null,null,null,null,null,null,null,null,null,null,null,null,null,null,null,null,null,null,null,null,null,null,0]
[null,null,null,null,null,null,null,null,null,null,null,null,null,null,null,null,null,null,null,null,null,null,null,null,null,null,null,null,null,null,null,null,null,null,null,null,null,null,null,null,null,null,null,null,null,null,null,null,null,null,null,null,null,null,null,null,null,null,null,null,null,null,null,null,null,null,null,null,null,null,null,null,null,null,null,null,null,null,null,null,null,null,null,null,null,null,null,null,0]
[null,null,null,null,null,null,null,null,null,null,null,null,null,null,null,null,null,null,null,null,null,null,null,null,null,null,null,null,null,null,null,null,null,null,null,null,null,null,null,null,null,null,null,null,null,null,null,null,null,null,null,null,null,null,null,null,null,null,null,null,null,null,null,null,null,null,null,null,null,null,null,null,null,null,null,null,null,null,null,null,null,null,null,null,null,null,null,null,0]
[null,null,null,null,null,null,null,null,null,null,null,null,null,null,null,null,null,null,null,null,null,null,null,null,null,null,null,null,null,null,null,null,null,null,null,null,null,null,null,null,null,null,null,null,null,null,null,null,null,null,null,null,null,null,null,null,null,null,null,null,null,null,null,null,null,null,null,null,null,null,null,null,null,null,null,null,null,null,null,null,null,null,null,null,null,null,null,null,{"$f":"COUNTIF(G162:CJ162,\"<>0\")-COUNTBLANK(G162:CJ162)","v":0}]
[null,null,null,null,null,null,null,null,null,null,null,null,null,null,null,null,null,null,null,null,null,null,null,null,null,null,null,null,null,null,null,null,null,null,null,null,null,null,null,null,null,null,null,null,null,null,null,null,null,null,null,null,null,null,null,null,null,null,null,null,null,null,null,null,null,null,null,null,null,null,null,null,null,null,null,null,null,null,null,null,null,null,null,null,null,null,null,null,0]
[null,null,null,null,null,null,null,null,null,null,null,null,null,null,null,null,null,null,null,null,null,null,null,null,null,null,null,null,null,null,null,null,null,null,null,null,null,null,null,null,null,null,null,null,null,null,null,null,null,null,null,null,null,null,null,null,null,null,null,null,null,null,null,null,null,null,null,null,null,null,null,null,null,null,null,null,null,null,null,null,null,null,null,null,null,null,null,null,0]
[null,null,null,null,null,null,null,null,null,null,null,null,null,null,null,null,null,null,null,null,null,null,null,null,null,null,null,null,null,null,null,null,null,null,null,null,null,null,null,null,null,null,null,null,null,null,null,null,null,null,null,null,null,null,null,null,null,null,null,null,null,null,null,null,null,null,null,null,null,null,null,null,null,null,null,null,null,null,null,null,null,null,null,null,null,null,null,null,0]
[null,null,null,null,null,null,null,null,null,null,null,null,null,null,null,null,null,null,null,null,null,null,null,null,null,null,null,null,null,null,null,null,null,null,null,null,null,null,null,null,null,null,null,null,null,null,null,null,null,null,null,null,null,null,null,null,null,null,null,null,null,null,null,null,null,null,null,null,null,null,null,null,null,null,null,null,null,null,null,null,null,null,null,null,null,null,null,null,0]
[]
[null,null,"DELINEATOR DRUMS","Rows of drums located along work zone",null,null,null,null,1,null,null,null,null,1,null,null,null,1,null,null,null,null,null,null,null,null,null,null,null,null,null,null,null,null,null,null,null,null,null,null,null,null,null,null,null,null,1,null,null,null,null,null,null,null,null,null,null,null,null,null,null,null,null,null,4,2,2]
[null,null,null,"Length of Taper (in terms of L's -- i.e. L + 1/2L = 1.5)",null,null,null,null,{"$f":"1+0.5+1","v":2.5},null,null,1,null,null,null,null,null,2,null,null,null,null,null,1,null,1,null,null,1,1,null,null,null,null,null,null,null,null,null,null,null,null,null,null,null,null,null,1,1,1,1,0.5,null,null,null,null,null,3,null,2,null,null,null,null,9,5.5,5.5,null,null,null,1,1]
[null,null,null,"Length of Tangent (in terms of L's -- i.e. 1/2L = 0.5)",null,null,null,null,0.5,null,null,null,null,null,null,null,null,null,null,null,null,null,null,null,null,null,null,null,null,null,null,null,null,null,null,null,null,null,null,null,null,null,null,null,null,null,null,null,null,null,null,null,null,null,null,null,null,3,null,0.5,null,null,null,null,2,0.5,0.5]
[null,null,null,"Longitudinal Buffer Space (Enter an X if there is one)",null,null,null,null,"X",null,null,"X",null,"X",null,null,null,null,null,null,null,null,null,null,null,null,null,null,null,"X",null,null,null,null,null,null,null,null,null,null,null,null,null,null,null,null,null,null,null,null,null,"X"]
[null,null,null,"Additional drums required (Enter # of additional drums)",null,null,null,null,{"$f":"6+4+7","v":17},{"$f":"5+5","v":10},{"$f":"5+5","v":10},{"$f":"2+4+7","v":13},null,{"$f":"4+4","v":8},null,null,null,null,null,null,null,null,null,{"$f":"4+7","v":11},null,null,null,null,null,2,null,null,null,null,null,null,null,null,null,null,null,null,null,null,null,null,{"$f":"4+4","v":8},{"$f":"7","v":7},{"$f":"4+7","v":11},1,{"$f":"4+7","v":11},{"$f":"5+7","v":12},null,null,31,22,null,{"$f":"4+4","v":8},38,{"$f":"4+7","v":11},94,null,null,null,{"$f":"11+2","v":13},{"$f":"11+2","v":13},{"$f":"11+2","v":13},null,null,null,{"$f":"4+7","v":11},{"$f":"7+4","v":11}]
[]
[null,null,"TRAFFIC CONES","Rows of cones located along work zone",null,null,null,null,null,null,null,null,null,null,null,null,null,null,null,null,null,null,null,null,null,null,null,null,null,null,null,1,null,1]
[null,null,null,"Length of Taper (in terms of L's -- i.e. L + 1/2L = 1.5)"]
[null,null,null,"Length of Tangent (in terms of L's -- i.e. 1/2L = 0.5)"]
[null,null,null,"Longitudinal Buffer Space (Enter an X if there is one)",null,null,null,null,null,null,null,null,null,null,null,null,null,null,null,null,null,null,null,null,null,null,null,null,null,null,null,null,null,null,null,null,"X"]
[null,null,null,"Additional cones required (Enter # of additional cones)",null,null,null,null,null,null,null,null,null,null,null,null,null,null,null,null,null,null,null,null,null,null,null,null,null,null,null,3,null,6,null,null,14]
[]
[null,null,"TUBULAR MARKERS","Rows of tubular markers located along work zone",null,null,null,null,1,null,null,null,null,null,null,null,null,null,null,null,null,null,null,1,null,1,null,null,1,null,null,null,null,null,null,null,null,null,null,null,null,null,null,null,null,null,null,null,1,null,1,null,null,null,null,null,null,null,null,null,null,null,null,null,null,null,null,null,null,null,1,1]
[null,null,null,"Length of Taper (in terms of L's -- i.e. L + 1/2L = 1.5)",null,null,null,null,{"$f":"0.5+0.5","v":1},null,null,null,null,null,null,null,null,null,null,null,null,null,null,null,null,null,null,null,null,null,null,null,null,null,null,null,null,null,null,null,null,null,null,null,null,null,null,null,null,1]
[null,null,null,"Length of Tangent (in terms of L's -- i.e. 1/2L = 0.5)",null,null,null,null,{"$f":"0.5+0.5+1","v":2}]
[null,null,null,"Longitudinal Buffer Space (Enter an X if there is one)",null,null,null,null,"X",null,null,null,null,null,null,null,null,null,null,null,null,null,null,"X",null,"X",null,null,"X",null,null,null,null,null,null,null,null,null,null,null,null,null,null,null,null,null,null,null,"X",null,"X",null,null,null,null,null,null,null,null,null,null,null,null,null,null,null,null,null,null,null,"X","X"]
[null,null,null,"Additional tubular markers required (Enter # of additional markers)",null,null,null,null,null,null,null,null,null,null,null,null,null,null,null,null,null,null,null,{"$f":"3+3","v":6},null,2,null,null,2,null,null,null,null,null,null,null,null,null,null,null,null,null,null,null,null,null,null,null,4,1,4,7,null,null,null,null,null,null,null,null,null,null,null,null,null,null,null,null,null,null,4,4]
[]
[null,null,null,"ATTENUATION DEVICE - TYPE B - VARIABLE SPEED",null,null,null,null,null,2,2,1,null,null,null,null,null,null,null,null,null,null,null,null,null,null,null,null,null,null,null,null,null,null,null,null,null,null,null,null,null,null,null,null,null,null,null,null,null,null,null,null,null,null,1,1,null,null,null,null,null,2,4,4]
[]
[null,"EXTRA TRAFFIC CONTROL DEVICES PAY ITEMS\nThis data can be sorted without effecting how the Visual Basic Code works - just be sure and sort the entire row",null,null,"UNIT","SUM\n QTY"]
[null,704,1018,"LANE CLOSURE-SIGNAL CONTROL/FLAGGING CONTROL","EACH",null,null,null,null,1,null,null,null,null,null,null,null,null,null,null,null,null,null,null,null,null,null,null,null,null,null,null,null,null,null,null,null,null,null,null,null,null,null,null,null,null,null,null,null,null,null,null,null,null,null,null,null,null,null,null,null,null,null,null,null,null,null,null,null,null,null,null,null,null,null,null,null,null,null,null,null,null,null,null,null,null,null,null,{"$f":"COUNTIF(G189:CJ189,\"<>0\")-COUNTBLANK(G189:CJ189)","v":1}]
[null,704,1087,"SEQUENCING ARROW PANEL - TYPE C","EACH",null,null,null,null,null,null,1,null,null,null,null,null,null,null,null,null,null,null,null,null,null,null,null,null,null,null,null,null,null,null,null,null,null,null,null,null,null,null,null,null,null,null,1,1,null,1,null,null,null,null,null,null,null,1,1,2,null,null,null,2,1,1,null,null,null,1,1,null,null,null,null,null,null,null,null,null,null,null,null,null,null,null,null,12]
[null,704,1087.9999999997381,"SEQUENCING ARROW PANEL - TYPE C - CROSSOVER","EACH",null,null,null,null,null,null,null,null,null,null,null,null,null,null,null,null,null,null,null,null,null,null,null,null,null,null,null,null,null,null,null,null,null,null,null,null,null,null,null,null,null,null,null,null,null,null,null,null,null,1,1,null,null,null,null,null,null,null,null,null,null,null,null,null,null,null,null,null,null,null,null,null,null,null,null,null,null,null,null,null,null,null,null,2]
[null,704,1095.0000000002547,"TYPE B FLASHERS","EACH",null,null,null,null,null,null,null,null,null,null,null,null,null,null,null,null,null,null,null,null,null,null,null,null,null,null,null,null,null,null,null,null,null,null,null,null,null,null,null,null,null,null,null,null,null,null,null,null,null,null,null,null,null,null,4,10,null,null,null,null,null,null,null,null,null,null,null,null,null,null,null,null,null,null,null,null,null,null,null,null,null,null,null,2]
[null,762,424,"SHORT TERM 8IN LINE-TYPE R","LF","X",null,null,null,null,null,null,null,null,null,null,null,null,null,null,null,null,null,null,null,null,null,null,null,null,null,null,null,null,null,null,null,null,null,null,null,null,null,null,null,null,null,null,null,null,null,null,null,null,null,null,null,null,null,150,300,null,null,null,null,null,null,null,null,null,null,null,null,null,null,null,null,null,null,null,null,null,null,null,null,null,null,null,2]
[null,762,426,"SHORT TERM 24IN LINE-TYPE R","LF","X",null,null,null,24,null,null,null,null,null,null,null,null,null,null,null,null,null,null,null,null,null,null,null,null,null,null,null,null,null,null,null,null,null,null,null,null,null,null,null,null,null,null,null,null,null,null,null,null,null,null,null,null,null,null,114,null,null,null,null,null,null,null,null,null,null,null,null,null,null,null,null,null,null,null,null,null,null,null,null,null,null,null,2]
[null,762,440,"SHORT TERM MESSAGE-TYPE R","SF","X",null,null,null,null,null,null,null,null,null,null,null,null,null,null,null,null,null,null,null,null,null,null,null,null,null,null,null,null,null,null,null,null,null,null,null,null,null,null,null,null,null,null,null,null,null,null,null,null,null,null,null,null,null,56,112,null,null,null,null,null,null,null,null,null,null,null,null,null,null,null,null,null,null,null,null,null,null,null,null,null,null,null,2]
[null,772,2110.0000000001273,"FLASHING BEACON - POST MOUNTED","EACH",null,null,null,null,null,null,null,null,null,null,null,null,null,null,null,null,null,null,null,null,null,null,null,null,null,null,null,null,null,null,null,null,null,null,null,null,null,null,null,null,null,null,null,null,null,null,null,null,null,1,1,null,null,null,null,null,null,null,null,null,null,null,null,null,null,null,null,null,null,null,null,null,null,null,null,null,null,null,null,null,null,null,null,2]
[null,762,436,"SHORT TERM 24IN LINE-TYPE NR","LF","X",null,null,null,null,null,null,null,null,null,null,null,null,null,null,null,null,null,null,null,null,null,null,null,null,null,null,null,null,null,null,null,null,null,null,null,null,null,null,null,null,null,null,null,null,null,null,null,null,null,null,null,null,null,null,90,null,null,null,null,null,null,null,null,null,null,null,null,null,null,null,null,null,null,null,null,null,null,null,null,null,null,null,1]
[null,null,null,null,null,null,null,null,null,null,null,null,null,null,null,null,null,null,null,null,null,null,null,null,null,null,null,null,null,null,null,null,null,null,null,null,null,null,null,null,null,null,null,null,null,null,null,null,null,null,null,null,null,null,null,null,null,null,null,null,null,null,null,null,null,null,null,null,null,null,null,null,null,null,null,null,null,null,null,null,null,null,null,null,null,null,null,null,0]
[null,null,null,null,null,null,null,null,null,null,null,null,null,null,null,null,null,null,null,null,null,null,null,null,null,null,null,null,null,null,null,null,null,null,null,null,null,null,null,null,null,null,null,null,null,null,null,null,null,null,null,null,null,null,null,null,null,null,null,null,null,null,null,null,null,null,null,null,null,null,null,null,null,null,null,null,null,null,null,null,null,null,null,null,null,null,null,null,0]
[null,null,null,null,null,null,null,null,null,null,null,null,null,null,null,null,null,null,null,null,null,null,null,null,null,null,null,null,null,null,null,null,null,null,null,null,null,null,null,null,null,null,null,null,null,null,null,null,null,null,null,null,null,null,null,null,null,null,null,null,null,null,null,null,null,null,null,null,null,null,null,null,null,null,null,null,null,null,null,null,null,null,null,null,null,null,null,null,0]
[null,null,null,null,null,null,null,null,null,null,null,null,null,null,null,null,null,null,null,null,null,null,null,null,null,null,null,null,null,null,null,null,null,null,null,null,null,null,null,null,null,null,null,null,null,null,null,null,null,null,null,null,null,null,null,null,null,null,null,null,null,null,null,null,null,null,null,null,null,null,null,null,null,null,null,null,null,null,null,null,null,null,null,null,null,null,null,null,0]
[null,null,null,null,null,null,null,null,null,null,null,null,null,null,null,null,null,null,null,null,null,null,null,null,null,null,null,null,null,null,null,null,null,null,null,null,null,null,null,null,null,null,null,null,null,null,null,null,null,null,null,null,null,null,null,null,null,null,null,null,null,null,null,null,null,null,null,null,null,null,null,null,null,null,null,null,null,null,null,null,null,null,null,null,null,null,null,null,0]
[null,null,null,null,null,null,null,null,null,null,null,null,null,null,null,null,null,null,null,null,null,null,null,null,null,null,null,null,null,null,null,null,null,null,null,null,null,null,null,null,null,null,null,null,null,null,null,null,null,null,null,null,null,null,null,null,null,null,null,null,null,null,null,null,null,null,null,null,null,null,null,null,null,null,null,null,null,null,null,null,null,null,null,null,null,null,null,null,0]
[null,null,null,null,null,null,null,null,null,null,null,null,null,null,null,null,null,null,null,null,null,null,null,null,null,null,null,null,null,null,null,null,null,null,null,null,null,null,null,null,null,null,null,null,null,null,null,null,null,null,null,null,null,null,null,null,null,null,null,null,null,null,null,null,null,null,null,null,null,null,null,null,null,null,null,null,null,null,null,null,null,null,null,null,null,null,null,null,0]
[null,null,null,null,null,null,null,null,null,null,null,null,null,null,null,null,null,null,null,null,null,null,null,null,null,null,null,null,null,null,null,null,null,null,null,null,null,null,null,null,null,null,null,null,null,null,null,null,null,null,null,null,null,null,null,null,null,null,null,null,null,null,null,null,null,null,null,null,null,null,null,null,null,null,null,null,null,null,null,null,null,null,null,null,null,null,null,null,0]
[null,null,null,null,null,null,null,null,null,null,null,null,null,null,null,null,null,null,null,null,null,null,null,null,null,null,null,null,null,null,null,null,null,null,null,null,null,null,null,null,null,null,null,null,null,null,null,null,null,null,null,null,null,null,null,null,null,null,null,null,null,null,null,null,null,null,null,null,null,null,null,null,null,null,null,null,null,null,null,null,null,null,null,null,null,null,null,null,0]
[null,null,null,null,null,null,null,null,null,null,null,null,null,null,null,null,null,null,null,null,null,null,null,null,null,null,null,null,null,null,null,null,null,null,null,null,null,null,null,null,null,null,null,null,null,null,null,null,null,null,null,null,null,null,null,null,null,null,null,null,null,null,null,null,null,null,null,null,null,null,null,null,null,null,null,null,null,null,null,null,null,null,null,null,null,null,null,null,0]
[null,null,null,null,null,null,null,null,null,null,null,null,null,null,null,null,null,null,null,null,null,null,null,null,null,null,null,null,null,null,null,null,null,null,null,null,null,null,null,null,null,null,null,null,null,null,null,null,null,null,null,null,null,null,null,null,null,null,null,null,null,null,null,null,null,null,null,null,null,null,null,null,null,null,null,null,null,null,null,null,null,null,null,null,null,null,null,null,0]
[null,null,null,null,null,null,null,null,null,null,null,null,null,null,null,null,null,null,null,null,null,null,null,null,null,null,null,null,null,null,null,null,null,null,null,null,null,null,null,null,null,null,null,null,null,null,null,null,null,null,null,null,null,null,null,null,null,null,null,null,null,null,null,null,null,null,null,null,null,null,null,null,null,null,null,null,null,null,null,null,null,null,null,null,null,null,null,null,0]
[null,null,null,null,null,null,null,null,null,null,null,null,null,null,null,null,null,null,null,null,null,null,null,null,null,null,null,null,null,null,null,null,null,null,null,null,null,null,null,null,null,null,null,null,null,null,null,null,null,null,null,null,null,null,null,null,null,null,null,null,null,null,null,null,null,null,null,null,null,null,null,null,null,null,null,null,null,null,null,null,null,null,null,null,null,null,null,null,0]
[null,null,null,null,null,null,null,null,null,null,null,null,null,null,null,null,null,null,null,null,null,null,null,null,null,null,null,null,null,null,null,null,null,null,null,null,null,null,null,null,null,null,null,null,null,null,null,null,null,null,null,null,null,null,null,null,null,null,null,null,null,null,null,null,null,null,null,null,null,null,null,null,null,null,null,null,null,null,null,null,null,null,null,null,null,null,null,null,0]
[null,null,null,null,null,null,null,null,null,null,null,null,null,null,null,null,null,null,null,null,null,null,null,null,null,null,null,null,null,null,null,null,null,null,null,null,null,null,null,null,null,null,null,null,null,null,null,null,null,null,null,null,null,null,null,null,null,null,null,null,null,null,null,null,null,null,null,null,null,null,null,null,null,null,null,null,null,null,null,null,null,null,null,null,null,null,null,null,0]
[null,null,null,null,null,null,null,null,null,null,null,null,null,null,null,null,null,null,null,null,null,null,null,null,null,null,null,null,null,null,null,null,null,null,null,null,null,null,null,null,null,null,null,null,null,null,null,null,null,null,null,null,null,null,null,null,null,null,null,null,null,null,null,null,null,null,null,null,null,null,null,null,null,null,null,null,null,null,null,null,null,null,null,null,null,null,null,null,0]
[null,null,null,null,null,null,null,null,null,null,null,null,null,null,null,null,null,null,null,null,null,null,null,null,null,null,null,null,null,null,null,null,null,null,null,null,null,null,null,null,null,null,null,null,null,null,null,null,null,null,null,null,null,null,null,null,null,null,null,null,null,null,null,null,null,null,null,null,null,null,null,null,null,null,null,null,null,null,null,null,null,null,null,null,null,null,null,null,0]
[null,null,null,null,null,null,null,null,null,null,null,null,null,null,null,null,null,null,null,null,null,null,null,null,null,null,null,null,null,null,null,null,null,null,null,null,null,null,null,null,null,null,null,null,null,null,null,null,null,null,null,null,null,null,null,null,null,null,null,null,null,null,null,null,null,null,null,null,null,null,null,null,null,null,null,null,null,null,null,null,null,null,null,null,null,null,null,null,0]
[null,null,null,null,null,null,null,null,null,null,null,null,null,null,null,null,null,null,null,null,null,null,null,null,null,null,null,null,null,null,null,null,null,null,null,null,null,null,null,null,null,null,null,null,null,null,null,null,null,null,null,null,null,null,null,null,null,null,null,null,null,null,null,null,null,null,null,null,null,null,null,null,null,null,null,null,null,null,null,null,null,null,null,null,null,null,null,null,0]
[null,null,null,null,null,null,null,null,null,null,null,null,null,null,null,null,null,null,null,null,null,null,null,null,null,null,null,null,null,null,null,null,null,null,null,null,null,null,null,null,null,null,null,null,null,null,null,null,null,null,null,null,null,null,null,null,null,null,null,null,null,null,null,null,null,null,null,null,null,null,null,null,null,null,null,null,null,null,null,null,null,null,null,null,null,null,null,null,0]
[null,null,null,null,null,null,null,null,null,null,null,null,null,null,null,null,null,null,null,null,null,null,null,null,null,null,null,null,null,null,null,null,null,null,null,null,null,null,null,null,null,null,null,null,null,null,null,null,null,null,null,null,null,null,null,null,null,null,null,null,null,null,null,null,null,null,null,null,null,null,null,null,null,null,null,null,null,null,null,null,null,null,null,null,null,null,null,null,0]
[null,null,null,null,null,null,null,null,null,null,null,null,null,null,null,null,null,null,null,null,null,null,null,null,null,null,null,null,null,null,null,null,null,null,null,null,null,null,null,null,null,null,null,null,null,null,null,null,null,null,null,null,null,null,null,null,null,null,null,null,null,null,null,null,null,null,null,null,null,null,null,null,null,null,null,null,null,null,null,null,null,null,null,null,null,null,null,null,0]
[null,null,null,null,null,null,null,null,null,null,null,null,null,null,null,null,null,null,null,null,null,null,null,null,null,null,null,null,null,null,null,null,null,null,null,null,null,null,null,null,null,null,null,null,null,null,null,null,null,null,null,null,null,null,null,null,null,null,null,null,null,null,null,null,null,null,null,null,null,null,null,null,null,null,null,null,null,null,null,null,null,null,null,null,null,null,null,null,0]
[null,null,null,null,null,null,null,null,null,null,null,null,null,null,null,null,null,null,null,null,null,null,null,null,null,null,null,null,null,null,null,null,null,null,null,null,null,null,null,null,null,null,null,null,null,null,null,null,null,null,null,null,null,null,null,null,null,null,null,null,null,null,null,null,null,null,null,null,null,null,null,null,null,null,null,null,null,null,null,null,null,null,null,null,null,null,null,null,0]
[null,null,null,null,null,null,null,null,null,null,null,null,null,null,null,null,null,null,null,null,null,null,null,null,null,null,null,null,null,null,null,null,null,null,null,null,null,null,null,null,null,null,null,null,null,null,null,null,null,null,null,null,null,null,null,null,null,null,null,null,null,null,null,null,null,null,null,null,null,null,null,null,null,null,null,null,null,null,null,null,null,null,null,null,null,null,null,null,0]
[null,null,null,null,null,null,null,null,null,null,null,null,null,null,null,null,null,null,null,null,null,null,null,null,null,null,null,null,null,null,null,null,null,null,null,null,null,null,null,null,null,null,null,null,null,null,null,null,null,null,null,null,null,null,null,null,null,null,null,null,null,null,null,null,null,null,null,null,null,null,null,null,null,null,null,null,null,null,null,null,null,null,null,null,null,null,null,null,0]
[null,null,null,null,null,null,null,null,null,null,null,null,null,null,null,null,null,null,null,null,null,null,null,null,null,null,null,null,null,null,null,null,null,null,null,null,null,null,null,null,null,null,null,null,null,null,null,null,null,null,null,null,null,null,null,null,null,null,null,null,null,null,null,null,null,null,null,null,null,null,null,null,null,null,null,null,null,null,null,null,null,null,null,null,null,null,null,null,0]
[null,null,null,null,null,null,null,null,null,null,null,null,null,null,null,null,null,null,null,null,null,null,null,null,null,null,null,null,null,null,null,null,null,null,null,null,null,null,null,null,null,null,null,null,null,null,null,null,null,null,null,null,null,null,null,null,null,null,null,null,null,null,null,null,null,null,null,null,null,null,null,null,null,null,null,null,null,null,null,null,null,null,null,null,null,null,null,null,0]
[null,null,null,null,null,null,null,null,null,null,null,null,null,null,null,null,null,null,null,null,null,null,null,null,null,null,null,null,null,null,null,null,null,null,null,null,null,null,null,null,null,null,null,null,null,null,null,null,null,null,null,null,null,null,null,null,null,null,null,null,null,null,null,null,null,null,null,null,null,null,null,null,null,null,null,null,null,null,null,null,null,null,null,null,null,null,null,null,0]
[null,null,null,null,null,null,null,null,null,null,null,null,null,null,null,null,null,null,null,null,null,null,null,null,null,null,null,null,null,null,null,null,null,null,null,null,null,null,null,null,null,null,null,null,null,null,null,null,null,null,null,null,null,null,null,null,null,null,null,null,null,null,null,null,null,null,null,null,null,null,null,null,null,null,null,null,null,null,null,null,null,null,null,null,null,null,null,null,0]
[null,null,null,null,null,null,null,null,null,null,null,null,null,null,null,null,null,null,null,null,null,null,null,null,null,null,null,null,null,null,null,null,null,null,null,null,null,null,null,null,null,null,null,null,null,null,null,null,null,null,null,null,null,null,null,null,null,null,null,null,null,null,null,null,null,null,null,null,null,null,null,null,null,null,null,null,null,null,null,null,null,null,null,null,null,null,null,null,0]
[]
[null,"TRAFFIC CONTROL DEVICES/SIGNS TO BE ADDED IN PER APPROACH\nThis data can be sorted without effecting how the Visual Basic Code works - just be sure and sort the entire row"]
["SIGNS","SIGN NUMBER","SIGN SIZE","DESCRIPTION",null,"UNITS"]
[null,"G20-50a-72","72\"x36\"","ROAD WORK NEXT __ MILES RT & LT ARROWS",null,37,null,null,null,null,null,null,null,null,2]
[null,"G20-55-96","96\"x48\"","SPEED LIMIT ENFORCED - MINIMUM FEE $80 WHEN WORKERS PRESENT",null,59]
[null,"R1-1-30","30\"x30\"","STOP",null,16,null,null,null,null,null,null,null,null,null,null,2]
[null,"R1-1-48","48\"x48\"","STOP",null,32,null,null,null,null,null,null,null,null,null,null,null,null,null,null,null,null,null,null,null,null,null,null,null,null,null,null,null,null,null,null,null,null,null,null,null,null,null,null,null,null,null,null,1,null,null,null,null,null,null,null,null,null,null,null,null,null,null,null,null,null,null,null,null,null,1]
[null,"R1-2-60","60\"x60\" ","YIELD ",null,29]
[null,"R2-1-48","48\"x60\"","SPEED LIMIT __",null,39,null,null,null,null,null,null,null,null,null,2,null,null,null,null,null,null,null,null,null,null,null,null,null,null,null,null,null,null,null,null,null,null,null,null,null,null,null,null,null,null,null,null,null,null,null,null,2,2]
[null,"R2-1aP-24","24\"x18\"","MINIMUM FEE $80 (Mounted on Speed Limit post)",null,10,null,null,null,null,null,null,null,null,null,2,null,null,null,null,null,null,null,null,null,null,null,null,null,null,null,null,null,null,null,null,null,null,null,null,null,null,null,null,null,null,null,null,1,null,null,null,2,2,null,null,null,null,null,null,null,null,null,null,null,null,null,null,null,null,1]
[null,"R4-1-48","48\"x60\"","DO NOT PASS",null,39,null,null,null,null,null,null,null,null,null,2,null,null,null,null,null,null,null,null,null,null,null,null,null,null,null,null,null,null,null,null,null,null,null,null,null,null,null,null,null,null,null,null,null,null,null,null,2]
[null,"R11-2-48","48\"x30\"","ROAD CLOSED",null,28,null,null,null,null,null,null,null,null,null,null,1]
[null,"R11-3a-60","60\"x30\"","ROAD CLOSED __ MILES AHEAD LOCAL TRAFFIC ONLY",null,31,null,null,null,null,null,null,null,null,null,null,1]
[null,"W8-7-48","48\"x48\"","LOOSE GRAVEL",null,35,null,null,null,null,null,null,null,null,null,null,null,null,null,null,null,null,null,null,null,null,null,null,null,null,null,null,null,null,null,null,null,null,null,null,null,null,null,null,null,null,null,null,null,null,null,null,2,2]
[null,"W8-12-48","48\"x48\"","NO CENTER LINE",null,35,null,null,null,null,null,null,null,null,null,2,null,null,null,null,null,null,null,null,null,null,null,null,null,null,null,null,null,null,null,null,null,null,null,null,null,null,null,null,null,null,null,null,null,null,null,null,2,2]
[null,"W13-4-48","48\"x60\"","RAMP ARROW",null,39]
[null,"W20-1-48","48\"x48\"","ROAD WORK AHEAD or _FT or _ MILE",null,35,null,null,null,null,null,null,null,null,2]
[null,"W20-52P-54","54\"x12\"","NEXT __ MILES (Mounted on warning sign post)",null,12,null,null,null,null,null,null,null,null,null,2,null,null,null,null,null,null,null,null,null,null,null,null,null,null,null,null,null,null,null,null,null,null,null,null,null,null,null,null,null,null,null,null,null,null,null,null,2,2]
[null,"W22-8-48","48\"x48\"","FRESH OIL LOOSE ROCK",null,35,null,null,null,null,null,null,null,null,null,2]
[null,"W20-3-48","48\"x48\"","ROAD or STREET CLOSED AHEAD or __ FT or _ MILE",null,35,null,null,null,null,null,null,null,null,null,null,1]
[null,"R2-1-36","36\"x48\"","SPEED LIMIT __ (Portable only)",null,30,null,null,null,null,null,null,null,null,null,null,null,null,null,null,null,null,null,null,null,null,null,null,null,null,null,null,null,null,null,null,null,null,null,null,null,null,null,null,null,null,null,null,1,null,null,null,null,null,null,null,null,null,null,null,null,null,null,null,null,null,null,null,null,null,1]
[]
[]
[]
[]
[]
[]
[]
[]
[]
[]
[]
[]
["DEVICES","SPEC","CODE","DESCRIPTION","UNIT","SUM QTY"]
[null,704,1051.9999999996799,"TYPE III BARRICADES","EACH",null,null,null,null,null,null,null,null,null,null,null,3]
[null,704,1060,"DELINEATOR DRUMS","EACH",null,null,null,null,null,null,null,null,null,null,null,null,null,null,null,null,null,null,null,null,null,null,null,null,null,null,null,null,null,null,null,null,null,null,null,null,null,null,null,null,null,null,null,6,null,null,null,null,null,null,null,null,null,null,null,null,null,null,null,null,null,null,null,null,null,{"$f":"3+3","v":6}]
[]
[]
[]
[]
[]
[]
[]
[]
[null,"Used in ApproachNo Userform code"]
[]
[null,"TRAFFIC CONTROL DEVICES/SIGNS TO BE ADDED IN PER EXIT RAMP\nThis data can be sorted without effecting how the Visual Basic Code works - just be sure and sort the entire row"]
["SIGNS","SIGN NUMBER","SIGN SIZE","DESCRIPTION",null,"UNITS"]
[null,"G20-55-96","96\"x48\"","SPEED LIMIT ENFORCED - MINIMUM FEE $80 WHEN WORKERS PRESENT",null,59]
[null,"R1-1-48","48\"x48\"","STOP",null,32]
[null,"R1-2-60","60\"x60\" ","YIELD ",null,29]
[null,"R2-1-48","48\"x60\"","SPEED LIMIT __",null,39]
[null,"R2-1aP-24","24\"x18\"","MINIMUM FEE $80 (Mounted on Speed Limit post)",null,10]
[null,"R4-1-48","48\"x60\"","DO NOT PASS",null,39]
[null,"W8-7-48","48\"x48\"","LOOSE GRAVEL",null,35]
[null,"E5-1-48","48\"x48\"","EXIT GORE",null,35,null,null,null,null,null,null,null,null,null,null,null,null,null,null,null,null,null,null,null,null,null,null,null,null,null,null,null,null,null,null,null,null,null,null,null,null,null,null,null,null,null,null,null,null,1,null,null,null,null,null,null,null,null,null,null,null,null,null,null,null,null,null,null,null,null,1]
[null,"W20-52-54","48\"x48\"","LEFT or RIGHT LANE MUST TURN LEFT or RIGHT",null,12]
[]
[]
[]
[]
[]
[]
[]
[]
[]
[]
[]
[]
[]
[]
[]
[]
[]
[]
[]
[]
[]
["DEVICES","SPEC","CODE","DESCRIPTION","UNIT","SUM QTY"]
[null,704,1060,"DELINEATOR DRUMS","EACH",null,null,null,null,null,null,null,null,null,null,null,null,null,null,null,null,null,null,null,null,null,null,null,null,null,null,null,null,null,null,null,null,null,null,null,null,null,null,null,null,null,null,null,null,null,10,null,null,null,null,null,null,null,null,null,null,null,null,null,null,null,null,null,null,null,null,{"$f":"5+5","v":10}]
[]
[]
[]
[]
[]
[]
[]
[]
[]
[null,"Used in ApproachNo Userform code"]
[]
[null,"TRAFFIC CONTROL DEVICES/SIGNS TO BE ADDED IN PER ENTRANCE RAMP\nThis data can be sorted without effecting how the Visual Basic Code works - just be sure and sort the entire row"]
["SIGNS","SIGN NUMBER","SIGN SIZE","DESCRIPTION",null,"UNITS"]
[null,"G20-55-96","96\"x48\"","SPEED LIMIT ENFORCED - MINIMUM FEE $80 WHEN WORKERS PRESENT",null,59,null,null,null,null,null,null,null,null,null,null,null,null,null,null,null,null,null,null,null,null,null,null,null,null,null,null,null,null,null,null,null,null,null,null,null,null,null,null,null,null,null,null,null,null,1,null,null,null,null,null,null,null,null,null,null,null,null,null,null,null,null,null,null,null,null,1]
[null,"R1-1-48","48\"x48\"","STOP",null,32]
[null,"R1-2-60","60\"x60\" ","YIELD ",null,29,null,null,null,null,null,null,null,null,null,null,null,null,null,null,null,null,null,null,null,null,null,null,null,null,null,null,null,null,null,null,null,null,null,null,null,null,null,null,null,null,null,null,null,null,1,null,null,null,null,null,null,null,null,null,null,null,null,null,null,null,null,null,null,null,null,1]
[null,"R2-1-48","48\"x60\"","SPEED LIMIT __",null,39]
[null,"R2-1aP-24","24\"x18\"","MINIMUM FEE $80 (Mounted on Speed Limit post)",null,10,null,null,null,null,null,null,null,null,null,null,null,null,null,null,null,null,null,null,null,null,null,null,null,null,null,null,null,null,null,null,null,null,null,null,null,null,null,null,null,null,null,null,null,null,1,null,null,null,null,null,null,null,null,null,null,null,null,null,null,null,null,null,null,null,null,1]
[null,"R4-1-48","48\"x60\"","DO NOT PASS",null,39]
[null,"W8-7-48","48\"x48\"","LOOSE GRAVEL",null,35]
[null,"W13-4-48","48\"x60\"","RAMP ARROW",null,39]
[null,"W20-52-54","48\"x48\"","LEFT or RIGHT LANE MUST TURN LEFT or RIGHT",null,12]
[null,"R2-1-36","36\"x48\"","SPEED LIMIT __ (Portable only)",null,30,null,null,null,null,null,null,null,null,null,null,null,null,null,null,null,null,null,null,null,null,null,null,null,null,null,null,null,null,null,null,null,null,null,null,null,null,null,null,null,null,null,null,null,null,1,null,null,null,null,null,null,null,null,null,null,null,null,null,null,null,null,null,null,null,null,1]
[]
[]
[]
[]
[]
[]
[]
[]
[]
[]
[]
[]
[]
[]
[]
[]
[]
[]
[]
[]
["DEVICES","SPEC","CODE","DESCRIPTION","UNIT","SUM QTY"]
[null,704,1060,"DELINEATOR DRUMS","EACH",null,null,null,null,null,null,null,null,null,null,null,null,null,null,null,null,null,null,null,null,null,null,null,null,null,null,null,null,null,null,null,null,null,null,null,null,null,null,null,null,null,null,null,null,null,5,null,null,null,null,null,null,null,null,null,null,null,null,null,null,null,null,null,null,null,null,5]
[null,704,1067.000000000462,"TUBULAR MARKERS","EACH",null,null,null,null,null,null,null,null,null,null,null,null,null,null,null,null,null,null,null,null,null,null,null,null,null,null,null,null,null,null,null,null,null,null,null,null,null,null,null,null,null,null,null,null,null,5,null,null,null,null,null,null,null,null,null,null,null,null,null,null,null,null,null,null,null,null,5]
[]
[]
[]
[]
[]
[]
[]
[]
[null,"Used in ApproachNo Userform code"]
[]
[null,"SIGNS THAT ARE NOT IN THE STANDARD TRAFFIC CONTROL SIGNS LIST\nThis data can be sorted without effecting how the Visual Basic Code works - just be sure and sort the entire row"]
[null,"SIGN NUMBER","SIGN SIZE","DESCRIPTION",null,"UNITS"]
[null,"M4-8-36","36\"x18\"","DETOUR (Mounted on route marker post)",null,10,null,null,null,null,null,null,null,null,null,null,null,null,null,null,null,null,null,null,null,null,null,null,null,null,null,null,null,null,null,null,null,null,null,null,null,null,null,null,null,null,null,null,null,null,null,null,null,null,null,null,null,null,null,2,22,null,null,null,null,null,null,null,null,null,null,null,null,null,null,null,null,null,null,null,null,null,null,null,null,null,null,null,{"$f":"COUNT(G367:CJ367)","v":2}]
[null,"M5-1(I)-30","30\"x21\"","ADVANCE TURN ARROW RT or LT(Mounted on route marker post)",null,9,null,null,null,null,null,null,null,null,null,null,null,null,null,null,null,null,null,null,null,null,null,null,null,null,null,null,null,null,null,null,null,null,null,null,null,null,null,null,null,null,null,null,null,null,null,null,null,null,null,null,null,null,null,null,2,null,null,null,null,null,null,null,null,null,null,null,null,null,null,null,null,null,null,null,null,null,null,null,null,null,null,null,1]
[null,"M5-2(I)-21","21\"x15\"","ADVANCE TURN ARROW DIAGONAL RT or LT (Mounted on route marker post)",null,7,null,null,null,null,null,null,null,null,null,null,null,null,null,null,null,null,null,null,null,null,null,null,null,null,null,null,null,null,null,null,null,null,null,null,null,null,null,null,null,null,null,null,null,null,null,null,null,null,null,null,null,null,1,null,null,null,null,null,null,null,null,null,null,null,null,null,null,null,null,null,null,null,null,null,null,null,null,null,null,null,null,null,1]
[null,"M5-2(I)-30","30\"x21\"","ADVANCE TURN ARROW DIAGONAL RT or LT (Mounted on route marker post)",null,9,null,null,null,null,null,null,null,null,null,null,null,null,null,null,null,null,null,null,null,null,null,null,null,null,null,null,null,null,null,null,null,null,null,null,null,null,null,null,null,null,null,null,null,null,null,null,null,null,null,null,null,null,null,1,null,null,null,null,null,null,null,null,null,null,null,null,null,null,null,null,null,null,null,null,null,null,null,null,null,null,null,null,1]
[null,"M6-1(I)-21","21\"x15\"","DIRECTIONAL ARROW RT or LT (Mounted on route marker post)",null,7,null,null,null,null,null,null,null,null,null,null,null,null,null,null,null,null,null,null,null,null,null,null,null,null,null,null,null,null,null,null,null,null,null,null,null,null,null,null,null,null,null,null,null,null,null,null,null,null,null,null,null,null,null,null,2,null,null,null,null,null,null,null,null,null,null,null,null,null,null,null,null,null,null,null,null,null,null,null,null,null,null,null,1]
[null,"M6-1(I)-30","30\"x21\"","DIRECTIONAL ARROW RT or LT (Mounted on route marker post)",null,9,null,null,null,null,null,null,null,null,null,null,null,null,null,null,null,null,null,null,null,null,null,null,null,null,null,null,null,null,null,null,null,null,null,null,null,null,null,null,null,null,null,null,null,null,null,null,null,null,null,null,null,null,null,null,4,null,null,null,null,null,null,null,null,null,null,null,null,null,null,null,null,null,null,null,null,null,null,null,null,null,null,null,1]
[null,"M6-2(I)-21","21\"x15\"","DIRECTIONAL ARROW DIAGONAL RT or LT (Mounted on route marker post)",null,7,null,null,null,null,null,null,null,null,null,null,null,null,null,null,null,null,null,null,null,null,null,null,null,null,null,null,null,null,null,null,null,null,null,null,null,null,null,null,null,null,null,null,null,null,null,null,null,null,null,null,null,null,1,null,null,null,null,null,null,null,null,null,null,null,null,null,null,null,null,null,null,null,null,null,null,null,null,null,null,null,null,null,1]
[null,"M6-2(I)-30","30\"x21\"","DIRECTIONAL ARROW DIAGONAL RT or LT (Mounted on route marker post)",null,9,null,null,null,null,null,null,null,null,null,null,null,null,null,null,null,null,null,null,null,null,null,null,null,null,null,null,null,null,null,null,null,null,null,null,null,null,null,null,null,null,null,null,null,null,null,null,null,null,null,null,null,null,null,1,2,null,null,null,null,null,null,null,null,null,null,null,null,null,null,null,null,null,null,null,null,null,null,null,null,null,null,null,2]
[null,"M6-3(I)-30","30\"x21\"","DIRECTIONAL ARROW UP (Mounted on route marker post)",null,9,null,null,null,null,null,null,null,null,null,null,null,null,null,null,null,null,null,null,null,null,null,null,null,null,null,null,null,null,null,null,null,null,null,null,null,null,null,null,null,null,null,null,null,null,null,null,null,null,null,null,null,null,null,null,6,null,null,null,null,null,null,null,null,null,null,null,null,null,null,null,null,null,null,null,null,null,null,null,null,null,null,null,1]
[null,"R1-50P-24","24\"x24\"","TAKE TURNS (Mounted on stop sign post)",null,11,null,null,null,null,null,null,null,null,null,null,null,null,null,null,null,null,null,null,null,null,null,null,null,null,null,null,null,null,null,null,null,null,null,null,null,null,null,null,null,null,4,null,null,null,null,null,null,null,null,null,null,null,null,null,null,null,null,null,null,null,null,null,null,null,null,null,null,null,null,null,null,null,null,null,null,null,null,null,null,null,null,null,1]
[null,"R4-1-36","36\"x48\"","DO NOT PASS (Portable only)",null,30,null,null,null,null,null,null,null,null,null,null,null,null,null,null,null,null,null,null,null,null,null,null,null,null,null,null,null,null,null,null,null,null,null,null,null,null,2,null,null,null,null,null,null,null,null,null,null,null,null,null,null,null,null,null,null,null,null,null,null,null,null,null,null,null,null,null,null,null,null,null,null,null,null,null,null,null,null,null,null,null,null,null,1]
[null,"W1-6-60","60\"x30\"","ONE DIRECTION LARGE ARROW",null,31,null,null,null,null,null,null,null,null,null,null,null,null,null,null,null,null,null,null,null,null,null,null,null,null,null,null,null,null,null,null,null,null,null,null,null,null,null,null,null,null,null,null,null,null,null,null,null,null,1,1,null,null,null,null,null,null,null,null,null,null,null,null,null,null,null,null,null,null,null,null,null,null,null,null,null,null,null,null,null,null,null,null,2]
[null,"W8-9a-48","48\"x48\"","SHOULDER DROP-OFF",null,35,null,null,null,null,null,null,null,null,null,null,null,null,null,null,null,null,null,null,null,null,null,null,null,null,null,null,null,null,null,null,null,null,null,null,null,null,null,null,null,null,null,null,null,null,null,null,null,null,null,null,null,null,null,null,null,null,null,null,null,null,null,null,null,null,null,null,null,null,null,null,null,null,null,null,null,null,null,null,null,null,null,null,0]
[null,"W12-1-48","48\"x48\"","DOUBLE ARROW",null,35,null,null,null,null,null,null,null,null,null,null,null,null,null,null,null,null,null,null,null,null,null,null,null,null,null,null,null,null,null,null,null,null,null,null,null,null,null,null,null,null,null,null,null,null,null,null,null,null,null,null,null,null,null,null,null,null,null,null,1,null,null,null,null,null,null,null,null,null,null,null,null,null,null,null,null,null,null,null,null,null,null,null,1]
[null,0,"18\"x18\"","ORANGE BLANK SIGN",null,12,null,null,null,null,null,null,null,null,null,null,null,null,null,null,null,null,null,null,null,null,null,null,null,null,null,null,null,null,null,null,null,null,null,null,null,null,null,2,null,null,null,null,null,null,null,null,null,null,null,null,null,null,null,null,null,null,null,null,null,null,null,null,null,null,null,null,null,null,null,null,null,null,null,null,null,null,null,null,null,null,null,null,1]
[null,null,null,null,null,null,null,null,null,null,null,null,null,null,null,null,null,null,null,null,null,null,null,null,null,null,null,null,null,null,null,null,null,null,null,null,null,null,null,null,null,null,null,null,null,null,null,null,null,null,null,null,null,null,null,null,null,null,null,null,null,null,null,null,null,null,null,null,null,null,null,null,null,null,null,null,null,null,null,null,null,null,null,null,null,null,null,null,0]
[null,null,null,null,null,null,null,null,null,null,null,null,null,null,null,null,null,null,null,null,null,null,null,null,null,null,null,null,null,null,null,null,null,null,null,null,null,null,null,null,null,null,null,null,null,null,null,null,null,null,null,null,null,null,null,null,null,null,null,null,null,null,null,null,null,null,null,null,null,null,null,null,null,null,null,null,null,null,null,null,null,null,null,null,null,null,null,null,0]
[null,null,null,null,null,null,null,null,null,null,null,null,null,null,null,null,null,null,null,null,null,null,null,null,null,null,null,null,null,null,null,null,null,null,null,null,null,null,null,null,null,null,null,null,null,null,null,null,null,null,null,null,null,null,null,null,null,null,null,null,null,null,null,null,null,null,null,null,null,null,null,null,null,null,null,null,null,null,null,null,null,null,null,null,null,null,null,null,0]
[null,null,null,null,null,null,null,null,null,null,null,null,null,null,null,null,null,null,null,null,null,null,null,null,null,null,null,null,null,null,null,null,null,null,null,null,null,null,null,null,null,null,null,null,null,null,null,null,null,null,null,null,null,null,null,null,null,null,null,null,null,null,null,null,null,null,null,null,null,null,null,null,null,null,null,null,null,null,null,null,null,null,null,null,null,null,null,null,0]
[null,null,null,null,null,null,null,null,null,null,null,null,null,null,null,null,null,null,null,null,null,null,null,null,null,null,null,null,null,null,null,null,null,null,null,null,null,null,null,null,null,null,null,null,null,null,null,null,null,null,null,null,null,null,null,null,null,null,null,null,null,null,null,null,null,null,null,null,null,null,null,null,null,null,null,null,null,null,null,null,null,null,null,null,null,null,null,null,0]
[null,null,null,null,null,null,null,null,null,null,null,null,null,null,null,null,null,null,null,null,null,null,null,null,null,null,null,null,null,null,null,null,null,null,null,null,null,null,null,null,null,null,null,null,null,null,null,null,null,null,null,null,null,null,null,null,null,null,null,null,null,null,null,null,null,null,null,null,null,null,null,null,null,null,null,null,null,null,null,null,null,null,null,null,null,null,null,null,0]
[null,null,null,null,null,null,null,null,null,null,null,null,null,null,null,null,null,null,null,null,null,null,null,null,null,null,null,null,null,null,null,null,null,null,null,null,null,null,null,null,null,null,null,null,null,null,null,null,null,null,null,null,null,null,null,null,null,null,null,null,null,null,null,null,null,null,null,null,null,null,null,null,null,null,null,null,null,null,null,null,null,null,null,null,null,null,null,null,0]
[null,null,null,null,null,null,null,null,null,null,null,null,null,null,null,null,null,null,null,null,null,null,null,null,null,null,null,null,null,null,null,null,null,null,null,null,null,null,null,null,null,null,null,null,null,null,null,null,null,null,null,null,null,null,null,null,null,null,null,null,null,null,null,null,null,null,null,null,null,null,null,null,null,null,null,null,null,null,null,null,null,null,null,null,null,null,null,null,0]
[null,null,null,null,null,null,null,null,null,null,null,null,null,null,null,null,null,null,null,null,null,null,null,null,null,null,null,null,null,null,null,null,null,null,null,null,null,null,null,null,null,null,null,null,null,null,null,null,null,null,null,null,null,null,null,null,null,null,null,null,null,null,null,null,null,null,null,null,null,null,null,null,null,null,null,null,null,null,null,null,null,null,null,null,null,null,null,null,0]
[null,null,null,null,null,null,null,null,null,null,null,null,null,null,null,null,null,null,null,null,null,null,null,null,null,null,null,null,null,null,null,null,null,null,null,null,null,null,null,null,null,null,null,null,null,null,null,null,null,null,null,null,null,null,null,null,null,null,null,null,null,null,null,null,null,null,null,null,null,null,null,null,null,null,null,null,null,null,null,null,null,null,null,null,null,null,null,null,0]
[null,null,null,null,null,null,null,null,null,null,null,null,null,null,null,null,null,null,null,null,null,null,null,null,null,null,null,null,null,null,null,null,null,null,null,null,null,null,null,null,null,null,null,null,null,null,null,null,null,null,null,null,null,null,null,null,null,null,null,null,null,null,null,null,null,null,null,null,null,null,null,null,null,null,null,null,null,null,null,null,null,null,null,null,null,null,null,null,0]
[null,null,null,null,null,null,null,null,null,null,null,null,null,null,null,null,null,null,null,null,null,null,null,null,null,null,null,null,null,null,null,null,null,null,null,null,null,null,null,null,null,null,null,null,null,null,null,null,null,null,null,null,null,null,null,null,null,null,null,null,null,null,null,null,null,null,null,null,null,null,null,null,null,null,null,null,null,null,null,null,null,null,null,null,null,null,null,null,0]
[null,null,null,null,null,null,null,null,null,null,null,null,null,null,null,null,null,null,null,null,null,null,null,null,null,null,null,null,null,null,null,null,null,null,null,null,null,null,null,null,null,null,null,null,null,null,null,null,null,null,null,null,null,null,null,null,null,null,null,null,null,null,null,null,null,null,null,null,null,null,null,null,null,null,null,null,null,null,null,null,null,null,null,null,null,null,null,null,0]
[null,null,null,null,null,null,null,null,null,null,null,null,null,null,null,null,null,null,null,null,null,null,null,null,null,null,null,null,null,null,null,null,null,null,null,null,null,null,null,null,null,null,null,null,null,null,null,null,null,null,null,null,null,null,null,null,null,null,null,null,null,null,null,null,null,null,null,null,null,null,null,null,null,null,null,null,null,null,null,null,null,null,null,null,null,null,null,null,0]
[null,null,null,null,null,null,null,null,null,null,null,null,null,null,null,null,null,null,null,null,null,null,null,null,null,null,null,null,null,null,null,null,null,null,null,null,null,null,null,null,null,null,null,null,null,null,null,null,null,null,null,null,null,null,null,null,null,null,null,null,null,null,null,null,null,null,null,null,null,null,null,null,null,null,null,null,null,null,null,null,null,null,null,null,null,null,null,null,0]
[null,null,null,null,null,null,null,null,null,null,null,null,null,null,null,null,null,null,null,null,null,null,null,null,null,null,null,null,null,null,null,null,null,null,null,null,null,null,null,null,null,null,null,null,null,null,null,null,null,null,null,null,null,null,null,null,null,null,null,null,null,null,null,null,null,null,null,null,null,null,null,null,null,null,null,null,null,null,null,null,null,null,null,null,null,null,null,null,0]
[null,null,null,null,null,null,null,null,null,null,null,null,null,null,null,null,null,null,null,null,null,null,null,null,null,null,null,null,null,null,null,null,null,null,null,null,null,null,null,null,null,null,null,null,null,null,null,null,null,null,null,null,null,null,null,null,null,null,null,null,null,null,null,null,null,null,null,null,null,null,null,null,null,null,null,null,null,null,null,null,null,null,null,null,null,null,null,null,0]
[null,null,null,null,null,null,null,null,null,null,null,null,null,null,null,null,null,null,null,null,null,null,null,null,null,null,null,null,null,null,null,null,null,null,null,null,null,null,null,null,null,null,null,null,null,null,null,null,null,null,null,null,null,null,null,null,null,null,null,null,null,null,null,null,null,null,null,null,null,null,null,null,null,null,null,null,null,null,null,null,null,null,null,null,null,null,null,null,0]
[null,null,null,null,null,null,null,null,null,null,null,null,null,null,null,null,null,null,null,null,null,null,null,null,null,null,null,null,null,null,null,null,null,null,null,null,null,null,null,null,null,null,null,null,null,null,null,null,null,null,null,null,null,null,null,null,null,null,null,null,null,null,null,null,null,null,null,null,null,null,null,null,null,null,null,null,null,null,null,null,null,null,null,null,null,null,null,null,0]
[null,null,null,null,null,null,null,null,null,null,null,null,null,null,null,null,null,null,null,null,null,null,null,null,null,null,null,null,null,null,null,null,null,null,null,null,null,null,null,null,null,null,null,null,null,null,null,null,null,null,null,null,null,null,null,null,null,null,null,null,null,null,null,null,null,null,null,null,null,null,null,null,null,null,null,null,null,null,null,null,null,null,null,null,null,null,null,null,0]
[null,null,null,null,null,null,null,null,null,null,null,null,null,null,null,null,null,null,null,null,null,null,null,null,null,null,null,null,null,null,null,null,null,null,null,null,null,null,null,null,null,null,null,null,null,null,null,null,null,null,null,null,null,null,null,null,null,null,null,null,null,null,null,null,null,null,null,null,null,null,null,null,null,null,null,null,null,null,null,null,null,null,null,null,null,null,null,null,0]
[null,null,null,null,null,null,null,null,null,null,null,null,null,null,null,null,null,null,null,null,null,null,null,null,null,null,null,null,null,null,null,null,null,null,null,null,null,null,null,null,null,null,null,null,null,null,null,null,null,null,null,null,null,null,null,null,null,null,null,null,null,null,null,null,null,null,null,null,null,null,null,null,null,null,null,null,null,null,null,null,null,null,null,null,null,null,null,null,0]
[null,null,null,null,null,null,null,null,null,null,null,null,null,null,null,null,null,null,null,null,null,null,null,null,null,null,null,null,null,null,null,null,null,null,null,null,null,null,null,null,null,null,null,null,null,null,null,null,null,null,null,null,null,null,null,null,null,null,null,null,null,null,null,null,null,null,null,null,null,null,null,null,null,null,null,null,null,null,null,null,null,null,null,null,null,null,null,null,0]
[null,null,null,null,null,null,null,null,null,null,null,null,null,null,null,null,null,null,null,null,null,null,null,null,null,null,null,null,null,null,null,null,null,null,null,null,null,null,null,null,null,null,null,null,null,null,null,null,null,null,null,null,null,null,null,null,null,null,null,null,null,null,null,null,null,null,null,null,null,null,null,null,null,null,null,null,null,null,null,null,null,null,null,null,null,null,null,null,0]
[null,null,null,null,null,null,null,null,null,null,null,null,null,null,null,null,null,null,null,null,null,null,null,null,null,null,null,null,null,null,null,null,null,null,null,null,null,null,null,null,null,null,null,null,null,null,null,null,null,null,null,null,null,null,null,null,null,null,null,null,null,null,null,null,null,null,null,null,null,null,null,null,null,null,null,null,null,null,null,null,null,null,null,null,null,null,null,null,0]

{"sheet":"Tables","index":6,"n_rows":34,"n_cols":18,"rows_kept":34,"cut":false,"hidden":true,"merged":[[0,1,0,2],[1,1,1,2],[3,4,3,11],[4,4,5,8],[4,9,4,11],[2,4,2,11],[15,1,18,2],[10,4,10,8],[11,4,11,8],[13,4,13,11],[7,4,7,8],[2,13,2,17],[9,13,9,17],[3,13,3,17],[4,14,4,15],[6,4,6,8],[4,13,5,13],[8,4,8,8],[9,4,9,8],[26,13,27,13],[26,14,27,14],[26,15,27,15],[4,16,4,17],[12,4,12,8],[13,13,13,15],[24,13,24,15],[12,13,12,15],[14,13,15,13],[14,14,15,14],[14,15,15,15],[25,13,25,15]]}
[null,"All D-704 Standard Drawings"]
[null,"Longitudinal Buffer Space"]
[null,"Speed\n(mph)","Length\nMin (feet)",null,"All D-704 Standard Drawings",null,null,null,null,null,null,null,null,"Standard Drawings D-704-38 & 39"]
[null,20,115,null,"ADVANCE WARNING SIGN SPACING",null,null,null,null,null,null,null,null,"PRECAST CONCRETE MEDIAN BARRIER TABLE"]
[null,25,155,null,"Road Type",null,null,null,null,"Distance Between Signs\nMin. (ft)",null,null,null,"Roadway CL to Roadway CL","Crossover at start of two-way traffic",null,"Crossover at end of two-way traffic"]
[null,30,200,null,null,null,null,null,null,"A","B","C",null,null,"No. of Mdn Barriers","Length of Mdn Barriers","No. of Mdn Barriers","Length of Mdn Barriers"]
[null,35,250,null,"Urban - Low Speed (30 mph or less)",null,null,null,null,150,150,150,null,75,48,{"$f":"O7*10","v":480},37,{"$f":"Q7*10","v":370}]
[null,40,305,null,"Urban - Low Speed (over 30 mph to 40 mph)",null,null,null,null,280,280,280,null,84,44,{"$f":"O8*10","v":440},36,{"$f":"Q8*10","v":360}]
[null,45,360,null,"Urban - High Speed (over 40 mph to 50 mph)",null,null,null,null,360,360,360,null,104,43,{"$f":"O9*10","v":430},36,{"$f":"Q9*10","v":360}]
[null,50,425,null,"Rural - High Speed (over 50 mph to 65 mph)",null,null,null,null,720,720,720,null,"Used in ChooseStandard Userform code"]
[null,55,495,null,"Urban Expressway and Freeway (55 to 65 mph)",null,null,null,null,850,1350,2200]
[null,60,570,null,"Rural Expressway and Freeway (70 to 75 mph)",null,null,null,null,1000,1500,2640,null,"TABLE CODE T1"]
[null,65,645,null,"Interstate/4-Lane Divided (Maintenance/Surveying)",null,null,null,null,750,1000,1500,null,"Standard Drawings D-704-38"]
[null,70,730,null,"Used in RoadwayInfo & RoadwayInfo2 Userform code",null,null,null,null,null,null,null,null,"CROSSOVER QUANTITY SUMMARY"]
[null,75,820,null,null,null,null,null,null,null,null,null,null,"Existing\nSpeed Limit","Raised Pavement Markers","Obliteration of Pavement Marking"]
[null,"Used in DelDrum, TrafficCone, & TubularMarker Userform code"]
[null,null,null,null,null,null,null,null,null,null,null,null,null,55,{"$f":"151+351","v":502},310]
[null,null,null,null,null,null,null,null,null,null,null,null,null,60,{"$f":"151+369","v":520},318]
[null,null,null,null,null,null,null,null,null,null,null,null,null,65,{"$f":"151+387","v":538},325]
[null,null,null,null,null,null,null,null,null,null,null,null,null,70,{"$f":"151+405","v":556},338]
[null,null,null,null,null,null,null,null,null,null,null,null,null,75,{"$f":"151+423","v":574},346]
[null,null,null,null,null,null,null,null,null,null,null,null,null,"Used in ChooseStandard Userform code"]
[]
[null,null,null,null,null,null,null,null,null,null,null,null,null,"TABLE CODE T2"]
[null,null,null,null,null,null,null,null,null,null,null,null,null,"Standard Drawings D-704-39"]
[null,null,null,null,null,null,null,null,null,null,null,null,null,"CROSSOVER QUANTITY SUMMARY"]
[null,null,null,null,null,null,null,null,null,null,null,null,null,"Existing\nSpeed Limit","Raised Pavement Markers","Obliteration of Pavement Marking"]
[]
[null,null,null,null,null,null,null,null,null,null,null,null,null,55,{"$f":"370+173","v":543},298]
[null,null,null,null,null,null,null,null,null,null,null,null,null,60,{"$f":"388+173","v":561},305]
[null,null,null,null,null,null,null,null,null,null,null,null,null,65,{"$f":"406+173","v":579},313]
[null,null,null,null,null,null,null,null,null,null,null,null,null,70,{"$f":"424+173","v":597},332]
[null,null,null,null,null,null,null,null,null,null,null,null,null,75,{"$f":"442+173","v":615},339]
[null,null,null,null,null,null,null,null,null,null,null,null,null,"Used in ChooseStandard Userform code"]

{"sheet":"Lists","index":7,"n_rows":68,"n_cols":11,"rows_kept":68,"cut":false,"hidden":true,"merged":[[1,1,1,4],[1,6,1,10]]}
[]
[null,"TRAFFIC CONTROL SIGNS",null,null,null,null,"TRAFFIC CONTROL DEVICES"]
[null,"SIGN\nNUMBER","SIGN\nSIZE","DESCRIPTION","UNITS",null,"SPEC","CODE","DESCRIPTION","UNIT","SUM\nQTY"]
[null,"G20-4b-36","36\"x30\"","WAIT FOR PILOT CAR",18,null,704,1020,"ATTENUATION DEVICE SPECIAL","EA"]
[null,null,null,null,null,null,704,1035,"ATTENUATION DEVICE-TYPE B-25","EA"]
[null,"M5-2-21","21\"x15\"","ADVANCE TURN DIAGONAL ARROW RT or LT(Mounted on route marker post)",7,null,704,1036,"ATTENUATION DEVICE-TYPE B-30","EA"]
[null,"M6-2-21","21\"x15\"","DIRECTIONAL ARROW DIAGONAL RT or LT (Mounted on route marker post)",7,null,704,1037,"ATTENUATION DEVICE-TYPE B-35","EA"]
[null,null,null,null,null,null,704,1038,"ATTENUATION DEVICE-TYPE B-40","EA"]
[null,"M1-1-24","24\"x24\"","INTERSTATE ROUTE MARKER (Post and installation only)",10,null,704,1039,"ATTENUATION DEVICE-TYPE B-45","EA"]
[null,"M3-1(I)-24","24\"x12\"","NORTH (Mounted on route marker post)",7,null,704,1040,"ATTENUATION DEVICE-TYPE B-50","EA"]
[null,"M3-3(I)-24","24\"x12\"","SOUTH (Mounted on route marker post)",7,null,704,1041,"ATTENUATION DEVICE-TYPE B-55","EA"]
[null,"M3-2(I)-24","24\"x12\"","EAST (Mounted on route marker post)",7,null,704,1042,"ATTENUATION DEVICE-TYPE B-60","EA"]
[null,"M3-4(I)-24","24\"x12\"","WEST (Mounted on route marker post)",7,null,704,1043,"ATTENUATION DEVICE-TYPE B-65","EA"]
[null,"M5-1(I)-21","21\"x15\"","ADVANCE TURN ARROW RT or LT(Mounted on route marker post)",7,null,704,1044,"ATTENUATION DEVICE-TYPE B-70","EA"]
[null,"M5-2(I)-21","21\"x15\"","ADVANCE TURN ARROW DIAGONAL RT or LT (Mounted on route marker post)",7,null,704,1045,"ATTENUATION DEVICE-TYPE B-75","EA"]
[null,"M6-1(I)-21","21\"x15\"","DIRECTIONAL ARROW RT or LT (Mounted on route marker post)",7,null,704,1046,"ATTENUATION DEVICE-TYPE B-80","EA"]
[null,"M6-2(I)-21","21\"x15\"","DIRECTIONAL ARROW DIAGONAL RT or LT (Mounted on route marker post)",7,null,704,1051,"TYPE II BARRICADE","EA"]
[null,"M6-3(I)-21","21\"x15\"","DIRECTIONAL ARROW UP (Mounted on route marker post)",7,null,704,1054,"SIDEWALK BARRICADE","EA"]
[null,null,null,null,null,null,704,1056,"PEDESTRIAN CHANNELIZATION","LF"]
[null,"M4-8-36","36\"x18\"","DETOUR (Mounted on route marker post)",10,null,704,1057,"PEDESTRIAN DETECTABLE EDGE","LF"]
[null,null,null,null,null,null,704,1090,"FLASHING BEACON","EA"]
[null,"M1-4-36","36\"x36\"","U.S. ROUTE MARKER (Post and installation only)",10,null,704,1095,"TYPE B FLASHERS","EA"]
[null,"M1-5-36","36\"x36\"","STATE ROUTE MARKER (Post and installation only)",10,null,704,1185,"PILOT CAR","HR","X"]
[null,"M3-1-36","36\"x18\"","NORTH (Mounted on route marker post)",10,null,704,2108,"TEMPORARY CURB RAMP","EA"]
[null,"M3-2-36","36\"x18\"","EAST (Mounted on route marker post)",10,null,704,4010,"PORTABLE CHANGEABLE MESSAGE SIGN","HR","X"]
[null,"M3-3-36","36\"x18\"","SOUTH (Mounted on route marker post)",10,null,704,4011,"PORTABLE CHANGEABLE MESSAGE SIGN","EA"]
[null,"M3-4-36","36\"x18\"","WEST (Mounted on route marker post)",10,null,762,422,"SHORT TERM 6IN LINE-TYPE R","LF","X"]
[null,"M5-2-30","30\"x21\"","ADVANCE TURN ARROW DIAGONAL RT or LT (Mounted on route marker post)",9,null,762,424,"SHORT TERM 8IN LINE-TYPE R","LF","X"]
[null,"M6-2-30","30\"x21\"","DIRECTIONAL ARROW DIAGONAL RT or LT (Mounted on route marker post)",9,null,762,425,"SHORT TERM 16IN LINE-TYPE R","LF","X"]
[null,"M6-3-30","30\"x21\"","DIRECTIONAL ARROW UP (Mounted on route marker post)",9,null,762,426,"SHORT TERM 24IN LINE-TYPE R","LF","X"]
[null,null,null,null,null,null,762,432,"SHORT TERM 6IN LINE-TYPE NR","LF","X"]
[null,"M3-1(I)-36","36\"x18\"","NORTH (Mounted on route marker post)",10,null,762,434,"SHORT TERM 8IN LINE-TYPE NR","LF","X"]
[null,"M3-3(I)-36","36\"x18\"","SOUTH (Mounted on route marker post)",10,null,762,435,"SHORT TERM 16IN LINE-TYPE NR","LF","X"]
[null,"M3-2(I)-36","36\"x18\"","EAST (Mounted on route marker post)",10,null,762,436,"SHORT TERM 24IN LINE-TYPE NR","LF","X"]
[null,"M3-4(I)-36","36\"x18\"","WEST (Mounted on route marker post)",10,null,762,440,"SHORT TERM MESSAGE-TYPE R","SF","X"]
[null,"M5-1(I)-30","30\"x21\"","ADVANCE TURN ARROW RT or LT(Mounted on route marker post)",9,null,762,442,"SHORT TERM MESSAGE-TYPE NR","SF","X"]
[null,"M5-2(I)-30","30\"x21\"","ADVANCE TURN ARROW DIAGONAL RT or LT (Mounted on route marker post)",9]
[null,"M6-1(I)-30","30\"x21\"","DIRECTIONAL ARROW RT or LT (Mounted on route marker post)",9]
[null,"M6-2(I)-30","30\"x21\"","DIRECTIONAL ARROW DIAGONAL RT or LT (Mounted on route marker post)",9]
[null,"M6-3(I)-30","30\"x21\"","DIRECTIONAL ARROW UP (Mounted on route marker post)",9]
[]
[null,"R3-1-48","48\"x48\"","NO RIGHT TURN",35]
[null,"R3-5-30","30\"X36\"","LEFT or RIGHT TURN ONLY",18]
[null,"R3-7-30","30\"x30\"","LEFT or RIGHT LANE MUST TURN LEFT or RIGHT",17]
[null,"R5-1a-42","42\"x30\"","WRONG WAY",26]
[null,"R8-3-12","36\"x36\"`","NO PARKING SYMBOL",27]
[null,"R9-9-24","24\"x12\"","SIDEWALK CLOSED (Mounted on barricade)",3]
[null,"R9-10-24","24\"x12\"","SIDEWALK CLOSED USE OTHER SIDE (Mounted on barricade)",3]
[null,"R9-11-24","24\"x12\"","SIDEWALK CLOSED AHEAD CROSS HERE (Mounted on barricade)",3]
[null,"R9-11a-24","24\"x12\"","SIDEWALK CLOSED CROSS HERE (Mounted on barricade)",3]
[]
[null,"W1-1-48","48\"x48\"","TURN",35]
[null,"W1-2-48","48\"x48\"","CURVE",35]
[null,"W4-1-48","48\"x48\"","MERGING TRAFFIC",35]
[null,"W5-4-48","48\"x48\"","RAMP NARROWS",35]
[null,"W6-4-12","12\"x18\"","TWO-WAY TRAFFIC (Mounted on tubular marker)",2]
[null,"W8-4-48","48\"x48\"","SOFT SHOULDER",35]
[null,"W8-9-48","48\"x48\"","LOW SHOULDER",35]
[null,"W8-17p-30","30\"x24\"","SHOULDER DROP-OFF (Mounted on W8-17-48 sign post)",12]
[null,"W11-2-36","36\"x36\"","PEDESTRIAN CROSSING (Fluorescent yellow-green)",27]
[null,"W13-4p-36","36\"x36\"","ON RAMP (Mounted on other sign post)",17]
[null,"W16-7p-18","18\"x12\"","LEFT or RIGHT DIAGONAL ARROW (Mounted on delineator drum)",2]
[null,"W16-7p-24","24\"x12\"","LEFT or RIGHT DIAGONAL ARROW (Mounted on pedestrian sign post)",7]
[null,"W16-9p-30","30\"x18\"","AHEAD (Mounted on pedestrian sign post)",11]
[null,"W20-51-48","48\"x48\"","EQUIPMENT WORKING",35]
[null,"W24-1-48","48\"x48\"","DOUBLE REVERSE CURVE",35]
[]
[null,null,"18\"x18\"","ORANGE BLANK SIGN",12]

{"sheet":"Calculations","index":8,"n_rows":112,"n_cols":16,"rows_kept":112,"cut":false,"hidden":true,"merged":[[2,2,2,7],[1,11,1,15]]}
[]
[null,null,null,null,null,null,null,null,null,null,null,"AMOUNT REQUIRED"]
[null,"SIGN NUMBER","Breakdown",null,null,null,null,null,"SIGN SIZE","DESCRIPTION","UNITS",{"$f":"Input!F14","v":0},{"$f":"Input!G14","v":0},{"$f":"Input!H14","v":0},{"$f":"Input!I14","v":0},{"$f":"Input!J14","v":0}]
[1,{"$f":"Input!B15","v":"E5-1-48"},{"$f":"IF(B4=0,\"Z\",IF(T(B4)=\"\",CONCATENATE(\"Y\",B4),LEFT(B4,1)))","v":"E"},{"$f":"VALUE(MID(B4,LEN(C4)+1,SEARCH(\"-\",B4)-(LEN(C4)+1)))","v":5},{"$f":"VALUE(IF(LEN(F4)=1,F4,IF(AND(LEN(F4)>1,OR(CODE(MID(F4,2,1))<48,CODE(MID(F4,2,1))>57)),LEFT(F4,1),IF(LEN(F4)=2,F4,IF(OR(CODE(MID(F4,3,1))<48,CODE(MID(F4,3,1))>57),LEFT(F4,2),LEFT(F4,3))))))","v":1},{"$f":"LEFT(RIGHT(B4,LEN(B4)-SEARCH(\"-\",B4)),SEARCH(\"-\",RIGHT(B4,LEN(B4)-SEARCH(\"-\",B4)))-1)","v":"1"},{"$f":"MID(F4,LEN(E4)+1,LEN(F4)-LEN(E4))","v":""},{"$f":"VALUE(RIGHT(B4,LEN(B4)-SEARCH(\"-\",B4,LEN(C4)+LEN(D4)+2)))","v":48},{"$f":"Input!C15","v":"48\"x48\""},{"$f":"Input!D15","v":"EXIT GORE"},{"$f":"Input!E15","v":35},{"$f":"IF(COUNTBLANK(Input!$F$14:$J$14)=5,Input!F15,IF(Input!$F$14=0,0,Input!F15))","v":0},{"$f":"IF(Input!G$14=0,0,Input!G15)","v":0},{"$f":"IF(Input!H$14=0,0,Input!H15)","v":0},{"$f":"IF(Input!I$14=0,0,Input!I15)","v":0},{"$f":"IF(Input!J$14=0,0,Input!J15)","v":0}]
[2,{"$f":"Input!B16","v":"G20-1-60"},{"$f":"IF(B5=0,\"Z\",IF(T(B5)=\"\",CONCATENATE(\"Y\",B5),LEFT(B5,1)))","v":"G"},{"$f":"VALUE(MID(B5,LEN(C5)+1,SEARCH(\"-\",B5)-(LEN(C5)+1)))","v":20},{"$f":"VALUE(IF(LEN(F5)=1,F5,IF(AND(LEN(F5)>1,OR(CODE(MID(F5,2,1))<48,CODE(MID(F5,2,1))>57)),LEFT(F5,1),IF(LEN(F5)=2,F5,IF(OR(CODE(MID(F5,3,1))<48,CODE(MID(F5,3,1))>57),LEFT(F5,2),LEFT(F5,3))))))","v":1},{"$f":"LEFT(RIGHT(B5,LEN(B5)-SEARCH(\"-\",B5)),SEARCH(\"-\",RIGHT(B5,LEN(B5)-SEARCH(\"-\",B5)))-1)","v":"1"},{"$f":"MID(F5,LEN(E5)+1,LEN(F5)-LEN(E5))","v":""},{"$f":"VALUE(RIGHT(B5,LEN(B5)-SEARCH(\"-\",B5,LEN(C5)+LEN(D5)+2)))","v":60},{"$f":"Input!C16","v":"60\"x24\""},{"$f":"Input!D16","v":"ROAD WORK NEXT __ MILES"},{"$f":"Input!E16","v":28},{"$f":"IF(COUNTBLANK(Input!$F$14:$J$14)=5,Input!F16,IF(Input!$F$14=0,0,Input!F16))","v":0},{"$f":"IF(Input!G$14=0,0,Input!G16)","v":0},{"$f":"IF(Input!H$14=0,0,Input!H16)","v":0},{"$f":"IF(Input!I$14=0,0,Input!I16)","v":0},{"$f":"IF(Input!J$14=0,0,Input!J16)","v":0}]
[3,{"$f":"Input!B17","v":"G20-1b-60"},{"$f":"IF(B6=0,\"Z\",IF(T(B6)=\"\",CONCATENATE(\"Y\",B6),LEFT(B6,1)))","v":"G"},{"$f":"VALUE(MID(B6,LEN(C6)+1,SEARCH(\"-\",B6)-(LEN(C6)+1)))","v":20},{"$f":"VALUE(IF(LEN(F6)=1,F6,IF(AND(LEN(F6)>1,OR(CODE(MID(F6,2,1))<48,CODE(MID(F6,2,1))>57)),LEFT(F6,1),IF(LEN(F6)=2,F6,IF(OR(CODE(MID(F6,3,1))<48,CODE(MID(F6,3,1))>57),LEFT(F6,2),LEFT(F6,3))))))","v":1},{"$f":"LEFT(RIGHT(B6,LEN(B6)-SEARCH(\"-\",B6)),SEARCH(\"-\",RIGHT(B6,LEN(B6)-SEARCH(\"-\",B6)))-1)","v":"1b"},{"$f":"MID(F6,LEN(E6)+1,LEN(F6)-LEN(E6))","v":"b"},{"$f":"VALUE(RIGHT(B6,LEN(B6)-SEARCH(\"-\",B6,LEN(C6)+LEN(D6)+2)))","v":60},{"$f":"Input!C17","v":"60\"x24\""},{"$f":"Input!D17","v":"NO WORK IN PROGRESS (Sign and installation only)"},{"$f":"Input!E17","v":18},{"$f":"IF(COUNTBLANK(Input!$F$14:$J$14)=5,Input!F17,IF(Input!$F$14=0,0,Input!F17))","v":0},{"$f":"IF(Input!G$14=0,0,Input!G17)","v":0},{"$f":"IF(Input!H$14=0,0,Input!H17)","v":0},{"$f":"IF(Input!I$14=0,0,Input!I17)","v":0},{"$f":"IF(Input!J$14=0,0,Input!J17)","v":0}]
[4,{"$f":"Input!B18","v":"G20-2-48"},{"$f":"IF(B7=0,\"Z\",IF(T(B7)=\"\",CONCATENATE(\"Y\",B7),LEFT(B7,1)))","v":"G"},{"$f":"VALUE(MID(B7,LEN(C7)+1,SEARCH(\"-\",B7)-(LEN(C7)+1)))","v":20},{"$f":"VALUE(IF(LEN(F7)=1,F7,IF(AND(LEN(F7)>1,OR(CODE(MID(F7,2,1))<48,CODE(MID(F7,2,1))>57)),LEFT(F7,1),IF(LEN(F7)=2,F7,IF(OR(CODE(MID(F7,3,1))<48,CODE(MID(F7,3,1))>57),LEFT(F7,2),LEFT(F7,3))))))","v":2},{"$f":"LEFT(RIGHT(B7,LEN(B7)-SEARCH(\"-\",B7)),SEARCH(\"-\",RIGHT(B7,LEN(B7)-SEARCH(\"-\",B7)))-1)","v":"2"},{"$f":"MID(F7,LEN(E7)+1,LEN(F7)-LEN(E7))","v":""},{"$f":"VALUE(RIGHT(B7,LEN(B7)-SEARCH(\"-\",B7,LEN(C7)+LEN(D7)+2)))","v":48},{"$f":"Input!C18","v":"48\"x24\""},{"$f":"Input!D18","v":"END ROAD WORK"},{"$f":"Input!E18","v":26},{"$f":"IF(COUNTBLANK(Input!$F$14:$J$14)=5,Input!F18,IF(Input!$F$14=0,0,Input!F18))","v":0},{"$f":"IF(Input!G$14=0,0,Input!G18)","v":0},{"$f":"IF(Input!H$14=0,0,Input!H18)","v":0},{"$f":"IF(Input!I$14=0,0,Input!I18)","v":0},{"$f":"IF(Input!J$14=0,0,Input!J18)","v":0}]
[5,{"$f":"Input!B19","v":"G20-4-36"},{"$f":"IF(B8=0,\"Z\",IF(T(B8)=\"\",CONCATENATE(\"Y\",B8),LEFT(B8,1)))","v":"G"},{"$f":"VALUE(MID(B8,LEN(C8)+1,SEARCH(\"-\",B8)-(LEN(C8)+1)))","v":20},{"$f":"VALUE(IF(LEN(F8)=1,F8,IF(AND(LEN(F8)>1,OR(CODE(MID(F8,2,1))<48,CODE(MID(F8,2,1))>57)),LEFT(F8,1),IF(LEN(F8)=2,F8,IF(OR(CODE(MID(F8,3,1))<48,CODE(MID(F8,3,1))>57),LEFT(F8,2),LEFT(F8,3))))))","v":4},{"$f":"LEFT(RIGHT(B8,LEN(B8)-SEARCH(\"-\",B8)),SEARCH(\"-\",RIGHT(B8,LEN(B8)-SEARCH(\"-\",B8)))-1)","v":"4"},{"$f":"MID(F8,LEN(E8)+1,LEN(F8)-LEN(E8))","v":""},{"$f":"VALUE(RIGHT(B8,LEN(B8)-SEARCH(\"-\",B8,LEN(C8)+LEN(D8)+2)))","v":36},{"$f":"Input!C19","v":"36\"x18\""},{"$f":"Input!D19","v":"PILOT CAR FOLLOW ME (Mounted to back of pilot car)"},{"$f":"Input!E19","v":18},{"$f":"IF(COUNTBLANK(Input!$F$14:$J$14)=5,Input!F19,IF(Input!$F$14=0,0,Input!F19))","v":0},{"$f":"IF(Input!G$14=0,0,Input!G19)","v":0},{"$f":"IF(Input!H$14=0,0,Input!H19)","v":0},{"$f":"IF(Input!I$14=0,0,Input!I19)","v":0},{"$f":"IF(Input!J$14=0,0,Input!J19)","v":0}]
[6,{"$f":"Input!B20","v":"G20-4b-36"},{"$f":"IF(B9=0,\"Z\",IF(T(B9)=\"\",CONCATENATE(\"Y\",B9),LEFT(B9,1)))","v":"G"},{"$f":"VALUE(MID(B9,LEN(C9)+1,SEARCH(\"-\",B9)-(LEN(C9)+1)))","v":20},{"$f":"VALUE(IF(LEN(F9)=1,F9,IF(AND(LEN(F9)>1,OR(CODE(MID(F9,2,1))<48,CODE(MID(F9,2,1))>57)),LEFT(F9,1),IF(LEN(F9)=2,F9,IF(OR(CODE(MID(F9,3,1))<48,CODE(MID(F9,3,1))>57),LEFT(F9,2),LEFT(F9,3))))))","v":4},{"$f":"LEFT(RIGHT(B9,LEN(B9)-SEARCH(\"-\",B9)),SEARCH(\"-\",RIGHT(B9,LEN(B9)-SEARCH(\"-\",B9)))-1)","v":"4b"},{"$f":"MID(F9,LEN(E9)+1,LEN(F9)-LEN(E9))","v":"b"},{"$f":"VALUE(RIGHT(B9,LEN(B9)-SEARCH(\"-\",B9,LEN(C9)+LEN(D9)+2)))","v":36},{"$f":"Input!C20","v":"36\"x30\""},{"$f":"Input!D20","v":"WAIT FOR PILOT CAR"},{"$f":"Input!E20","v":18},{"$f":"IF(COUNTBLANK(Input!$F$14:$J$14)=5,Input!F20,IF(Input!$F$14=0,0,Input!F20))","v":0},{"$f":"IF(Input!G$14=0,0,Input!G20)","v":0},{"$f":"IF(Input!H$14=0,0,Input!H20)","v":0},{"$f":"IF(Input!I$14=0,0,Input!I20)","v":0},{"$f":"IF(Input!J$14=0,0,Input!J20)","v":0}]
[7,{"$f":"Input!B21","v":"G20-50a-72"},{"$f":"IF(B10=0,\"Z\",IF(T(B10)=\"\",CONCATENATE(\"Y\",B10),LEFT(B10,1)))","v":"G"},{"$f":"VALUE(MID(B10,LEN(C10)+1,SEARCH(\"-\",B10)-(LEN(C10)+1)))","v":20},{"$f":"VALUE(IF(LEN(F10)=1,F10,IF(AND(LEN(F10)>1,OR(CODE(MID(F10,2,1))<48,CODE(MID(F10,2,1))>57)),LEFT(F10,1),IF(LEN(F10)=2,F10,IF(OR(CODE(MID(F10,3,1))<48,CODE(MID(F10,3,1))>57),LEFT(F10,2),LEFT(F10,3))))))","v":50},{"$f":"LEFT(RIGHT(B10,LEN(B10)-SEARCH(\"-\",B10)),SEARCH(\"-\",RIGHT(B10,LEN(B10)-SEARCH(\"-\",B10)))-1)","v":"50a"},{"$f":"MID(F10,LEN(E10)+1,LEN(F10)-LEN(E10))","v":"a"},{"$f":"VALUE(RIGHT(B10,LEN(B10)-SEARCH(\"-\",B10,LEN(C10)+LEN(D10)+2)))","v":72},{"$f":"Input!C21","v":"72\"x36\""},{"$f":"Input!D21","v":"ROAD WORK NEXT __ MILES RT & LT ARROWS"},{"$f":"Input!E21","v":43},{"$f":"IF(COUNTBLANK(Input!$F$14:$J$14)=5,Input!F21,IF(Input!$F$14=0,0,Input!F21))","v":0},{"$f":"IF(Input!G$14=0,0,Input!G21)","v":0},{"$f":"IF(Input!H$14=0,0,Input!H21)","v":0},{"$f":"IF(Input!I$14=0,0,Input!I21)","v":0},{"$f":"IF(Input!J$14=0,0,Input!J21)","v":0}]
[8,{"$f":"Input!B22","v":"G20-52a-72"},{"$f":"IF(B11=0,\"Z\",IF(T(B11)=\"\",CONCATENATE(\"Y\",B11),LEFT(B11,1)))","v":"G"},{"$f":"VALUE(MID(B11,LEN(C11)+1,SEARCH(\"-\",B11)-(LEN(C11)+1)))","v":20},{"$f":"VALUE(IF(LEN(F11)=1,F11,IF(AND(LEN(F11)>1,OR(CODE(MID(F11,2,1))<48,CODE(MID(F11,2,1))>57)),LEFT(F11,1),IF(LEN(F11)=2,F11,IF(OR(CODE(MID(F11,3,1))<48,CODE(MID(F11,3,1))>57),LEFT(F11,2),LEFT(F11,3))))))","v":52},{"$f":"LEFT(RIGHT(B11,LEN(B11)-SEARCH(\"-\",B11)),SEARCH(\"-\",RIGHT(B11,LEN(B11)-SEARCH(\"-\",B11)))-1)","v":"52a"},{"$f":"MID(F11,LEN(E11)+1,LEN(F11)-LEN(E11))","v":"a"},{"$f":"VALUE(RIGHT(B11,LEN(B11)-SEARCH(\"-\",B11,LEN(C11)+LEN(D11)+2)))","v":72},{"$f":"Input!C22","v":"72\"x24\""},{"$f":"Input!D22","v":"ROAD WORK NEXT __ MILES RT or LT ARROW"},{"$f":"Input!E22","v":36},{"$f":"IF(COUNTBLANK(Input!$F$14:$J$14)=5,Input!F22,IF(Input!$F$14=0,0,Input!F22))","v":0},{"$f":"IF(Input!G$14=0,0,Input!G22)","v":0},{"$f":"IF(Input!H$14=0,0,Input!H22)","v":0},{"$f":"IF(Input!I$14=0,0,Input!I22)","v":0},{"$f":"IF(Input!J$14=0,0,Input!J22)","v":0}]
[9,{"$f":"Input!B23","v":"G20-55-96"},{"$f":"IF(B12=0,\"Z\",IF(T(B12)=\"\",CONCATENATE(\"Y\",B12),LEFT(B12,1)))","v":"G"},{"$f":"VALUE(MID(B12,LEN(C12)+1,SEARCH(\"-\",B12)-(LEN(C12)+1)))","v":20},{"$f":"VALUE(IF(LEN(F12)=1,F12,IF(AND(LEN(F12)>1,OR(CODE(MID(F12,2,1))<48,CODE(MID(F12,2,1))>57)),LEFT(F12,1),IF(LEN(F12)=2,F12,IF(OR(CODE(MID(F12,3,1))<48,CODE(MID(F12,3,1))>57),LEFT(F12,2),LEFT(F12,3))))))","v":55},{"$f":"LEFT(RIGHT(B12,LEN(B12)-SEARCH(\"-\",B12)),SEARCH(\"-\",RIGHT(B12,LEN(B12)-SEARCH(\"-\",B12)))-1)","v":"55"},{"$f":"MID(F12,LEN(E12)+1,LEN(F12)-LEN(E12))","v":""},{"$f":"VALUE(RIGHT(B12,LEN(B12)-SEARCH(\"-\",B12,LEN(C12)+LEN(D12)+2)))","v":96},{"$f":"Input!C23","v":"96\"x48\""},{"$f":"Input!D23","v":"SPEED LIMIT ENFORCED - MINIMUM FEE $150 WHEN WORKERS PRESENT"},{"$f":"Input!E23","v":59},{"$f":"IF(COUNTBLANK(Input!$F$14:$J$14)=5,Input!F23,IF(Input!$F$14=0,0,Input!F23))","v":0},{"$f":"IF(Input!G$14=0,0,Input!G23)","v":0},{"$f":"IF(Input!H$14=0,0,Input!H23)","v":0},{"$f":"IF(Input!I$14=0,0,Input!I23)","v":0},{"$f":"IF(Input!J$14=0,0,Input!J23)","v":0}]
[10,{"$f":"Input!B24","v":"M1-1-36"},{"$f":"IF(B13=0,\"Z\",IF(T(B13)=\"\",CONCATENATE(\"Y\",B13),LEFT(B13,1)))","v":"M"},{"$f":"VALUE(MID(B13,LEN(C13)+1,SEARCH(\"-\",B13)-(LEN(C13)+1)))","v":1},{"$f":"VALUE(IF(LEN(F13)=1,F13,IF(AND(LEN(F13)>1,OR(CODE(MID(F13,2,1))<48,CODE(MID(F13,2,1))>57)),LEFT(F13,1),IF(LEN(F13)=2,F13,IF(OR(CODE(MID(F13,3,1))<48,CODE(MID(F13,3,1))>57),LEFT(F13,2),LEFT(F13,3))))))","v":1},{"$f":"LEFT(RIGHT(B13,LEN(B13)-SEARCH(\"-\",B13)),SEARCH(\"-\",RIGHT(B13,LEN(B13)-SEARCH(\"-\",B13)))-1)","v":"1"},{"$f":"MID(F13,LEN(E13)+1,LEN(F13)-LEN(E13))","v":""},{"$f":"VALUE(RIGHT(B13,LEN(B13)-SEARCH(\"-\",B13,LEN(C13)+LEN(D13)+2)))","v":36},{"$f":"Input!C24","v":"36\"x36\""},{"$f":"Input!D24","v":"INTERSTATE ROUTE MARKER (Post and installation only)"},{"$f":"Input!E24","v":11},{"$f":"IF(COUNTBLANK(Input!$F$14:$J$14)=5,Input!F24,IF(Input!$F$14=0,0,Input!F24))","v":0},{"$f":"IF(Input!G$14=0,0,Input!G24)","v":0},{"$f":"IF(Input!H$14=0,0,Input!H24)","v":0},{"$f":"IF(Input!I$14=0,0,Input!I24)","v":0},{"$f":"IF(Input!J$14=0,0,Input!J24)","v":0}]
[11,{"$f":"Input!B25","v":"M1-4-24"},{"$f":"IF(B14=0,\"Z\",IF(T(B14)=\"\",CONCATENATE(\"Y\",B14),LEFT(B14,1)))","v":"M"},{"$f":"VALUE(MID(B14,LEN(C14)+1,SEARCH(\"-\",B14)-(LEN(C14)+1)))","v":1},{"$f":"VALUE(IF(LEN(F14)=1,F14,IF(AND(LEN(F14)>1,OR(CODE(MID(F14,2,1))<48,CODE(MID(F14,2,1))>57)),LEFT(F14,1),IF(LEN(F14)=2,F14,IF(OR(CODE(MID(F14,3,1))<48,CODE(MID(F14,3,1))>57),LEFT(F14,2),LEFT(F14,3))))))","v":4},{"$f":"LEFT(RIGHT(B14,LEN(B14)-SEARCH(\"-\",B14)),SEARCH(\"-\",RIGHT(B14,LEN(B14)-SEARCH(\"-\",B14)))-1)","v":"4"},{"$f":"MID(F14,LEN(E14)+1,LEN(F14)-LEN(E14))","v":""},{"$f":"VALUE(RIGHT(B14,LEN(B14)-SEARCH(\"-\",B14,LEN(C14)+LEN(D14)+2)))","v":24},{"$f":"Input!C25","v":"24\"x24\""},{"$f":"Input!D25","v":"U.S. ROUTE MARKER (Post and installation only)"},{"$f":"Input!E25","v":10},{"$f":"IF(COUNTBLANK(Input!$F$14:$J$14)=5,Input!F25,IF(Input!$F$14=0,0,Input!F25))","v":0},{"$f":"IF(Input!G$14=0,0,Input!G25)","v":0},{"$f":"IF(Input!H$14=0,0,Input!H25)","v":0},{"$f":"IF(Input!I$14=0,0,Input!I25)","v":0},{"$f":"IF(Input!J$14=0,0,Input!J25)","v":0}]
[12,{"$f":"Input!B26","v":"M1-5-24"},{"$f":"IF(B15=0,\"Z\",IF(T(B15)=\"\",CONCATENATE(\"Y\",B15),LEFT(B15,1)))","v":"M"},{"$f":"VALUE(MID(B15,LEN(C15)+1,SEARCH(\"-\",B15)-(LEN(C15)+1)))","v":1},{"$f":"VALUE(IF(LEN(F15)=1,F15,IF(AND(LEN(F15)>1,OR(CODE(MID(F15,2,1))<48,CODE(MID(F15,2,1))>57)),LEFT(F15,1),IF(LEN(F15)=2,F15,IF(OR(CODE(MID(F15,3,1))<48,CODE(MID(F15,3,1))>57),LEFT(F15,2),LEFT(F15,3))))))","v":5},{"$f":"LEFT(RIGHT(B15,LEN(B15)-SEARCH(\"-\",B15)),SEARCH(\"-\",RIGHT(B15,LEN(B15)-SEARCH(\"-\",B15)))-1)","v":"5"},{"$f":"MID(F15,LEN(E15)+1,LEN(F15)-LEN(E15))","v":""},{"$f":"VALUE(RIGHT(B15,LEN(B15)-SEARCH(\"-\",B15,LEN(C15)+LEN(D15)+2)))","v":24},{"$f":"Input!C26","v":"24\"x24\""},{"$f":"Input!D26","v":"STATE ROUTE MARKER (Post and installation only)"},{"$f":"Input!E26","v":10},{"$f":"IF(COUNTBLANK(Input!$F$14:$J$14)=5,Input!F26,IF(Input!$F$14=0,0,Input!F26))","v":0},{"$f":"IF(Input!G$14=0,0,Input!G26)","v":0},{"$f":"IF(Input!H$14=0,0,Input!H26)","v":0},{"$f":"IF(Input!I$14=0,0,Input!I26)","v":0},{"$f":"IF(Input!J$14=0,0,Input!J26)","v":0}]
[13,{"$f":"Input!B27","v":"M3-1-24"},{"$f":"IF(B16=0,\"Z\",IF(T(B16)=\"\",CONCATENATE(\"Y\",B16),LEFT(B16,1)))","v":"M"},{"$f":"VALUE(MID(B16,LEN(C16)+1,SEARCH(\"-\",B16)-(LEN(C16)+1)))","v":3},{"$f":"VALUE(IF(LEN(F16)=1,F16,IF(AND(LEN(F16)>1,OR(CODE(MID(F16,2,1))<48,CODE(MID(F16,2,1))>57)),LEFT(F16,1),IF(LEN(F16)=2,F16,IF(OR(CODE(MID(F16,3,1))<48,CODE(MID(F16,3,1))>57),LEFT(F16,2),LEFT(F16,3))))))","v":1},{"$f":"LEFT(RIGHT(B16,LEN(B16)-SEARCH(\"-\",B16)),SEARCH(\"-\",RIGHT(B16,LEN(B16)-SEARCH(\"-\",B16)))-1)","v":"1"},{"$f":"MID(F16,LEN(E16)+1,LEN(F16)-LEN(E16))","v":""},{"$f":"VALUE(RIGHT(B16,LEN(B16)-SEARCH(\"-\",B16,LEN(C16)+LEN(D16)+2)))","v":24},{"$f":"Input!C27","v":"24\"x12\""},{"$f":"Input!D27","v":"NORTH (Mounted on route marker post)"},{"$f":"Input!E27","v":7},{"$f":"IF(COUNTBLANK(Input!$F$14:$J$14)=5,Input!F27,IF(Input!$F$14=0,0,Input!F27))","v":0},{"$f":"IF(Input!G$14=0,0,Input!G27)","v":0},{"$f":"IF(Input!H$14=0,0,Input!H27)","v":0},{"$f":"IF(Input!I$14=0,0,Input!I27)","v":0},{"$f":"IF(Input!J$14=0,0,Input!J27)","v":0}]
[14,{"$f":"Input!B28","v":"M3-2-24"},{"$f":"IF(B17=0,\"Z\",IF(T(B17)=\"\",CONCATENATE(\"Y\",B17),LEFT(B17,1)))","v":"M"},{"$f":"VALUE(MID(B17,LEN(C17)+1,SEARCH(\"-\",B17)-(LEN(C17)+1)))","v":3},{"$f":"VALUE(IF(LEN(F17)=1,F17,IF(AND(LEN(F17)>1,OR(CODE(MID(F17,2,1))<48,CODE(MID(F17,2,1))>57)),LEFT(F17,1),IF(LEN(F17)=2,F17,IF(OR(CODE(MID(F17,3,1))<48,CODE(MID(F17,3,1))>57),LEFT(F17,2),LEFT(F17,3))))))","v":2},{"$f":"LEFT(RIGHT(B17,LEN(B17)-SEARCH(\"-\",B17)),SEARCH(\"-\",RIGHT(B17,LEN(B17)-SEARCH(\"-\",B17)))-1)","v":"2"},{"$f":"MID(F17,LEN(E17)+1,LEN(F17)-LEN(E17))","v":""},{"$f":"VALUE(RIGHT(B17,LEN(B17)-SEARCH(\"-\",B17,LEN(C17)+LEN(D17)+2)))","v":24},{"$f":"Input!C28","v":"24\"x12\""},{"$f":"Input!D28","v":"EAST (Mounted on route marker post)"},{"$f":"Input!E28","v":7},{"$f":"IF(COUNTBLANK(Input!$F$14:$J$14)=5,Input!F28,IF(Input!$F$14=0,0,Input!F28))","v":0},{"$f":"IF(Input!G$14=0,0,Input!G28)","v":0},{"$f":"IF(Input!H$14=0,0,Input!H28)","v":0},{"$f":"IF(Input!I$14=0,0,Input!I28)","v":0},{"$f":"IF(Input!J$14=0,0,Input!J28)","v":0}]
[15,{"$f":"Input!B29","v":"M3-3-24"},{"$f":"IF(B18=0,\"Z\",IF(T(B18)=\"\",CONCATENATE(\"Y\",B18),LEFT(B18,1)))","v":"M"},{"$f":"VALUE(MID(B18,LEN(C18)+1,SEARCH(\"-\",B18)-(LEN(C18)+1)))","v":3},{"$f":"VALUE(IF(LEN(F18)=1,F18,IF(AND(LEN(F18)>1,OR(CODE(MID(F18,2,1))<48,CODE(MID(F18,2,1))>57)),LEFT(F18,1),IF(LEN(F18)=2,F18,IF(OR(CODE(MID(F18,3,1))<48,CODE(MID(F18,3,1))>57),LEFT(F18,2),LEFT(F18,3))))))","v":3},{"$f":"LEFT(RIGHT(B18,LEN(B18)-SEARCH(\"-\",B18)),SEARCH(\"-\",RIGHT(B18,LEN(B18)-SEARCH(\"-\",B18)))-1)","v":"3"},{"$f":"MID(F18,LEN(E18)+1,LEN(F18)-LEN(E18))","v":""},{"$f":"VALUE(RIGHT(B18,LEN(B18)-SEARCH(\"-\",B18,LEN(C18)+LEN(D18)+2)))","v":24},{"$f":"Input!C29","v":"24\"x12\""},{"$f":"Input!D29","v":"SOUTH (Mounted on route marker post)"},{"$f":"Input!E29","v":7},{"$f":"IF(COUNTBLANK(Input!$F$14:$J$14)=5,Input!F29,IF(Input!$F$14=0,0,Input!F29))","v":0},{"$f":"IF(Input!G$14=0,0,Input!G29)","v":0},{"$f":"IF(Input!H$14=0,0,Input!H29)","v":0},{"$f":"IF(Input!I$14=0,0,Input!I29)","v":0},{"$f":"IF(Input!J$14=0,0,Input!J29)","v":0}]
[16,{"$f":"Input!B30","v":"M3-4-24"},{"$f":"IF(B19=0,\"Z\",IF(T(B19)=\"\",CONCATENATE(\"Y\",B19),LEFT(B19,1)))","v":"M"},{"$f":"VALUE(MID(B19,LEN(C19)+1,SEARCH(\"-\",B19)-(LEN(C19)+1)))","v":3},{"$f":"VALUE(IF(LEN(F19)=1,F19,IF(AND(LEN(F19)>1,OR(CODE(MID(F19,2,1))<48,CODE(MID(F19,2,1))>57)),LEFT(F19,1),IF(LEN(F19)=2,F19,IF(OR(CODE(MID(F19,3,1))<48,CODE(MID(F19,3,1))>57),LEFT(F19,2),LEFT(F19,3))))))","v":4},{"$f":"LEFT(RIGHT(B19,LEN(B19)-SEARCH(\"-\",B19)),SEARCH(\"-\",RIGHT(B19,LEN(B19)-SEARCH(\"-\",B19)))-1)","v":"4"},{"$f":"MID(F19,LEN(E19)+1,LEN(F19)-LEN(E19))","v":""},{"$f":"VALUE(RIGHT(B19,LEN(B19)-SEARCH(\"-\",B19,LEN(C19)+LEN(D19)+2)))","v":24},{"$f":"Input!C30","v":"24\"x12\""},{"$f":"Input!D30","v":"WEST (Mounted on route marker post)"},{"$f":"Input!E30","v":7},{"$f":"IF(COUNTBLANK(Input!$F$14:$J$14)=5,Input!F30,IF(Input!$F$14=0,0,Input!F30))","v":0},{"$f":"IF(Input!G$14=0,0,Input!G30)","v":0},{"$f":"IF(Input!H$14=0,0,Input!H30)","v":0},{"$f":"IF(Input!I$14=0,0,Input!I30)","v":0},{"$f":"IF(Input!J$14=0,0,Input!J30)","v":0}]
[17,{"$f":"Input!B31","v":"M4-8-24"},{"$f":"IF(B20=0,\"Z\",IF(T(B20)=\"\",CONCATENATE(\"Y\",B20),LEFT(B20,1)))","v":"M"},{"$f":"VALUE(MID(B20,LEN(C20)+1,SEARCH(\"-\",B20)-(LEN(C20)+1)))","v":4},{"$f":"VALUE(IF(LEN(F20)=1,F20,IF(AND(LEN(F20)>1,OR(CODE(MID(F20,2,1))<48,CODE(MID(F20,2,1))>57)),LEFT(F20,1),IF(LEN(F20)=2,F20,IF(OR(CODE(MID(F20,3,1))<48,CODE(MID(F20,3,1))>57),LEFT(F20,2),LEFT(F20,3))))))","v":8},{"$f":"LEFT(RIGHT(B20,LEN(B20)-SEARCH(\"-\",B20)),SEARCH(\"-\",RIGHT(B20,LEN(B20)-SEARCH(\"-\",B20)))-1)","v":"8"},{"$f":"MID(F20,LEN(E20)+1,LEN(F20)-LEN(E20))","v":""},{"$f":"VALUE(RIGHT(B20,LEN(B20)-SEARCH(\"-\",B20,LEN(C20)+LEN(D20)+2)))","v":24},{"$f":"Input!C31","v":"24\"x12\""},{"$f":"Input!D31","v":"DETOUR (Mounted on route marker post)"},{"$f":"Input!E31","v":7},{"$f":"IF(COUNTBLANK(Input!$F$14:$J$14)=5,Input!F31,IF(Input!$F$14=0,0,Input!F31))","v":0},{"$f":"IF(Input!G$14=0,0,Input!G31)","v":0},{"$f":"IF(Input!H$14=0,0,Input!H31)","v":0},{"$f":"IF(Input!I$14=0,0,Input!I31)","v":0},{"$f":"IF(Input!J$14=0,0,Input!J31)","v":0}]
[18,{"$f":"Input!B32","v":"M4-9-30"},{"$f":"IF(B21=0,\"Z\",IF(T(B21)=\"\",CONCATENATE(\"Y\",B21),LEFT(B21,1)))","v":"M"},{"$f":"VALUE(MID(B21,LEN(C21)+1,SEARCH(\"-\",B21)-(LEN(C21)+1)))","v":4},{"$f":"VALUE(IF(LEN(F21)=1,F21,IF(AND(LEN(F21)>1,OR(CODE(MID(F21,2,1))<48,CODE(MID(F21,2,1))>57)),LEFT(F21,1),IF(LEN(F21)=2,F21,IF(OR(CODE(MID(F21,3,1))<48,CODE(MID(F21,3,1))>57),LEFT(F21,2),LEFT(F21,3))))))","v":9},{"$f":"LEFT(RIGHT(B21,LEN(B21)-SEARCH(\"-\",B21)),SEARCH(\"-\",RIGHT(B21,LEN(B21)-SEARCH(\"-\",B21)))-1)","v":"9"},{"$f":"MID(F21,LEN(E21)+1,LEN(F21)-LEN(E21))","v":""},{"$f":"VALUE(RIGHT(B21,LEN(B21)-SEARCH(\"-\",B21,LEN(C21)+LEN(D21)+2)))","v":30},{"$f":"Input!C32","v":"30\"x24\""},{"$f":"Input!D32","v":"DETOUR ARROW RIGHT or LEFT/AHD AND RT or LT"},{"$f":"Input!E32","v":15},{"$f":"IF(COUNTBLANK(Input!$F$14:$J$14)=5,Input!F32,IF(Input!$F$14=0,0,Input!F32))","v":0},{"$f":"IF(Input!G$14=0,0,Input!G32)","v":0},{"$f":"IF(Input!H$14=0,0,Input!H32)","v":0},{"$f":"IF(Input!I$14=0,0,Input!I32)","v":0},{"$f":"IF(Input!J$14=0,0,Input!J32)","v":0}]
[19,{"$f":"Input!B33","v":"M4-10-48"},{"$f":"IF(B22=0,\"Z\",IF(T(B22)=\"\",CONCATENATE(\"Y\",B22),LEFT(B22,1)))","v":"M"},{"$f":"VALUE(MID(B22,LEN(C22)+1,SEARCH(\"-\",B22)-(LEN(C22)+1)))","v":4},{"$f":"VALUE(IF(LEN(F22)=1,F22,IF(AND(LEN(F22)>1,OR(CODE(MID(F22,2,1))<48,CODE(MID(F22,2,1))>57)),LEFT(F22,1),IF(LEN(F22)=2,F22,IF(OR(CODE(MID(F22,3,1))<48,CODE(MID(F22,3,1))>57),LEFT(F22,2),LEFT(F22,3))))))","v":10},{"$f":"LEFT(RIGHT(B22,LEN(B22)-SEARCH(\"-\",B22)),SEARCH(\"-\",RIGHT(B22,LEN(B22)-SEARCH(\"-\",B22)))-1)","v":"10"},{"$f":"MID(F22,LEN(E22)+1,LEN(F22)-LEN(E22))","v":""},{"$f":"VALUE(RIGHT(B22,LEN(B22)-SEARCH(\"-\",B22,LEN(C22)+LEN(D22)+2)))","v":48},{"$f":"Input!C33","v":"48\"x18\""},{"$f":"Input!D33","v":"DETOUR (INSIDE ARROW) RIGHT or LEFT (Mounted on barricade)"},{"$f":"Input!E33","v":7},{"$f":"IF(COUNTBLANK(Input!$F$14:$J$14)=5,Input!F33,IF(Input!$F$14=0,0,Input!F33))","v":0},{"$f":"IF(Input!G$14=0,0,Input!G33)","v":0},{"$f":"IF(Input!H$14=0,0,Input!H33)","v":0},{"$f":"IF(Input!I$14=0,0,Input!I33)","v":0},{"$f":"IF(Input!J$14=0,0,Input!J33)","v":0}]
[20,{"$f":"Input!B34","v":"M5-1-21"},{"$f":"IF(B23=0,\"Z\",IF(T(B23)=\"\",CONCATENATE(\"Y\",B23),LEFT(B23,1)))","v":"M"},{"$f":"VALUE(MID(B23,LEN(C23)+1,SEARCH(\"-\",B23)-(LEN(C23)+1)))","v":5},{"$f":"VALUE(IF(LEN(F23)=1,F23,IF(AND(LEN(F23)>1,OR(CODE(MID(F23,2,1))<48,CODE(MID(F23,2,1))>57)),LEFT(F23,1),IF(LEN(F23)=2,F23,IF(OR(CODE(MID(F23,3,1))<48,CODE(MID(F23,3,1))>57),LEFT(F23,2),LEFT(F23,3))))))","v":1},{"$f":"LEFT(RIGHT(B23,LEN(B23)-SEARCH(\"-\",B23)),SEARCH(\"-\",RIGHT(B23,LEN(B23)-SEARCH(\"-\",B23)))-1)","v":"1"},{"$f":"MID(F23,LEN(E23)+1,LEN(F23)-LEN(E23))","v":""},{"$f":"VALUE(RIGHT(B23,LEN(B23)-SEARCH(\"-\",B23,LEN(C23)+LEN(D23)+2)))","v":21},{"$f":"Input!C34","v":"21\"x15\""},{"$f":"Input!D34","v":"ADVANCE TURN ARROW RT or LT(Mounted on route marker post)"},{"$f":"Input!E34","v":7},{"$f":"IF(COUNTBLANK(Input!$F$14:$J$14)=5,Input!F34,IF(Input!$F$14=0,0,Input!F34))","v":0},{"$f":"IF(Input!G$14=0,0,Input!G34)","v":0},{"$f":"IF(Input!H$14=0,0,Input!H34)","v":0},{"$f":"IF(Input!I$14=0,0,Input!I34)","v":0},{"$f":"IF(Input!J$14=0,0,Input!J34)","v":0}]
[21,{"$f":"Input!B35","v":"M5-1-30"},{"$f":"IF(B24=0,\"Z\",IF(T(B24)=\"\",CONCATENATE(\"Y\",B24),LEFT(B24,1)))","v":"M"},{"$f":"VALUE(MID(B24,LEN(C24)+1,SEARCH(\"-\",B24)-(LEN(C24)+1)))","v":5},{"$f":"VALUE(IF(LEN(F24)=1,F24,IF(AND(LEN(F24)>1,OR(CODE(MID(F24,2,1))<48,CODE(MID(F24,2,1))>57)),LEFT(F24,1),IF(LEN(F24)=2,F24,IF(OR(CODE(MID(F24,3,1))<48,CODE(MID(F24,3,1))>57),LEFT(F24,2),LEFT(F24,3))))))","v":1},{"$f":"LEFT(RIGHT(B24,LEN(B24)-SEARCH(\"-\",B24)),SEARCH(\"-\",RIGHT(B24,LEN(B24)-SEARCH(\"-\",B24)))-1)","v":"1"},{"$f":"MID(F24,LEN(E24)+1,LEN(F24)-LEN(E24))","v":""},{"$f":"VALUE(RIGHT(B24,LEN(B24)-SEARCH(\"-\",B24,LEN(C24)+LEN(D24)+2)))","v":30},{"$f":"Input!C35","v":"30\"x21\""},{"$f":"Input!D35","v":"ADVANCE TURN ARROW RT or LT(Mounted on route marker post)"},{"$f":"Input!E35","v":9},{"$f":"IF(COUNTBLANK(Input!$F$14:$J$14)=5,Input!F35,IF(Input!$F$14=0,0,Input!F35))","v":0},{"$f":"IF(Input!G$14=0,0,Input!G35)","v":0},{"$f":"IF(Input!H$14=0,0,Input!H35)","v":0},{"$f":"IF(Input!I$14=0,0,Input!I35)","v":0},{"$f":"IF(Input!J$14=0,0,Input!J35)","v":0}]
[22,{"$f":"Input!B36","v":"M6-1-21"},{"$f":"IF(B25=0,\"Z\",IF(T(B25)=\"\",CONCATENATE(\"Y\",B25),LEFT(B25,1)))","v":"M"},{"$f":"VALUE(MID(B25,LEN(C25)+1,SEARCH(\"-\",B25)-(LEN(C25)+1)))","v":6},{"$f":"VALUE(IF(LEN(F25)=1,F25,IF(AND(LEN(F25)>1,OR(CODE(MID(F25,2,1))<48,CODE(MID(F25,2,1))>57)),LEFT(F25,1),IF(LEN(F25)=2,F25,IF(OR(CODE(MID(F25,3,1))<48,CODE(MID(F25,3,1))>57),LEFT(F25,2),LEFT(F25,3))))))","v":1},{"$f":"LEFT(RIGHT(B25,LEN(B25)-SEARCH(\"-\",B25)),SEARCH(\"-\",RIGHT(B25,LEN(B25)-SEARCH(\"-\",B25)))-1)","v":"1"},{"$f":"MID(F25,LEN(E25)+1,LEN(F25)-LEN(E25))","v":""},{"$f":"VALUE(RIGHT(B25,LEN(B25)-SEARCH(\"-\",B25,LEN(C25)+LEN(D25)+2)))","v":21},{"$f":"Input!C36","v":"21\"x15\""},{"$f":"Input!D36","v":"DIRECTIONAL ARROW RT or LT (Mounted on route marker post)"},{"$f":"Input!E36","v":7},{"$f":"IF(COUNTBLANK(Input!$F$14:$J$14)=5,Input!F36,IF(Input!$F$14=0,0,Input!F36))","v":0},{"$f":"IF(Input!G$14=0,0,Input!G36)","v":0},{"$f":"IF(Input!H$14=0,0,Input!H36)","v":0},{"$f":"IF(Input!I$14=0,0,Input!I36)","v":0},{"$f":"IF(Input!J$14=0,0,Input!J36)","v":0}]
[23,{"$f":"Input!B37","v":"M6-1-30"},{"$f":"IF(B26=0,\"Z\",IF(T(B26)=\"\",CONCATENATE(\"Y\",B26),LEFT(B26,1)))","v":"M"},{"$f":"VALUE(MID(B26,LEN(C26)+1,SEARCH(\"-\",B26)-(LEN(C26)+1)))","v":6},{"$f":"VALUE(IF(LEN(F26)=1,F26,IF(AND(LEN(F26)>1,OR(CODE(MID(F26,2,1))<48,CODE(MID(F26,2,1))>57)),LEFT(F26,1),IF(LEN(F26)=2,F26,IF(OR(CODE(MID(F26,3,1))<48,CODE(MID(F26,3,1))>57),LEFT(F26,2),LEFT(F26,3))))))","v":1},{"$f":"LEFT(RIGHT(B26,LEN(B26)-SEARCH(\"-\",B26)),SEARCH(\"-\",RIGHT(B26,LEN(B26)-SEARCH(\"-\",B26)))-1)","v":"1"},{"$f":"MID(F26,LEN(E26)+1,LEN(F26)-LEN(E26))","v":""},{"$f":"VALUE(RIGHT(B26,LEN(B26)-SEARCH(\"-\",B26,LEN(C26)+LEN(D26)+2)))","v":30},{"$f":"Input!C37","v":"30\"x21\""},{"$f":"Input!D37","v":"DIRECTIONAL ARROW RT or LT (Mounted on route marker post)"},{"$f":"Input!E37","v":9},{"$f":"IF(COUNTBLANK(Input!$F$14:$J$14)=5,Input!F37,IF(Input!$F$14=0,0,Input!F37))","v":0},{"$f":"IF(Input!G$14=0,0,Input!G37)","v":0},{"$f":"IF(Input!H$14=0,0,Input!H37)","v":0},{"$f":"IF(Input!I$14=0,0,Input!I37)","v":0},{"$f":"IF(Input!J$14=0,0,Input!J37)","v":0}]
[24,{"$f":"Input!B38","v":"M6-3-21"},{"$f":"IF(B27=0,\"Z\",IF(T(B27)=\"\",CONCATENATE(\"Y\",B27),LEFT(B27,1)))","v":"M"},{"$f":"VALUE(MID(B27,LEN(C27)+1,SEARCH(\"-\",B27)-(LEN(C27)+1)))","v":6},{"$f":"VALUE(IF(LEN(F27)=1,F27,IF(AND(LEN(F27)>1,OR(CODE(MID(F27,2,1))<48,CODE(MID(F27,2,1))>57)),LEFT(F27,1),IF(LEN(F27)=2,F27,IF(OR(CODE(MID(F27,3,1))<48,CODE(MID(F27,3,1))>57),LEFT(F27,2),LEFT(F27,3))))))","v":3},{"$f":"LEFT(RIGHT(B27,LEN(B27)-SEARCH(\"-\",B27)),SEARCH(\"-\",RIGHT(B27,LEN(B27)-SEARCH(\"-\",B27)))-1)","v":"3"},{"$f":"MID(F27,LEN(E27)+1,LEN(F27)-LEN(E27))","v":""},{"$f":"VALUE(RIGHT(B27,LEN(B27)-SEARCH(\"-\",B27,LEN(C27)+LEN(D27)+2)))","v":21},{"$f":"Input!C38","v":"21\"x15\""},{"$f":"Input!D38","v":"DIRECTIONAL ARROW UP (Mounted on route marker post)"},{"$f":"Input!E38","v":7},{"$f":"IF(COUNTBLANK(Input!$F$14:$J$14)=5,Input!F38,IF(Input!$F$14=0,0,Input!F38))","v":0},{"$f":"IF(Input!G$14=0,0,Input!G38)","v":0},{"$f":"IF(Input!H$14=0,0,Input!H38)","v":0},{"$f":"IF(Input!I$14=0,0,Input!I38)","v":0},{"$f":"IF(Input!J$14=0,0,Input!J38)","v":0}]
[25,{"$f":"Input!B39","v":"R1-1-48"},{"$f":"IF(B28=0,\"Z\",IF(T(B28)=\"\",CONCATENATE(\"Y\",B28),LEFT(B28,1)))","v":"R"},{"$f":"VALUE(MID(B28,LEN(C28)+1,SEARCH(\"-\",B28)-(LEN(C28)+1)))","v":1},{"$f":"VALUE(IF(LEN(F28)=1,F28,IF(AND(LEN(F28)>1,OR(CODE(MID(F28,2,1))<48,CODE(MID(F28,2,1))>57)),LEFT(F28,1),IF(LEN(F28)=2,F28,IF(OR(CODE(MID(F28,3,1))<48,CODE(MID(F28,3,1))>57),LEFT(F28,2),LEFT(F28,3))))))","v":1},{"$f":"LEFT(RIGHT(B28,LEN(B28)-SEARCH(\"-\",B28)),SEARCH(\"-\",RIGHT(B28,LEN(B28)-SEARCH(\"-\",B28)))-1)","v":"1"},{"$f":"MID(F28,LEN(E28)+1,LEN(F28)-LEN(E28))","v":""},{"$f":"VALUE(RIGHT(B28,LEN(B28)-SEARCH(\"-\",B28,LEN(C28)+LEN(D28)+2)))","v":48},{"$f":"Input!C39","v":"48\"x48\""},{"$f":"Input!D39","v":"STOP"},{"$f":"Input!E39","v":32},{"$f":"IF(COUNTBLANK(Input!$F$14:$J$14)=5,Input!F39,IF(Input!$F$14=0,0,Input!F39))","v":0},{"$f":"IF(Input!G$14=0,0,Input!G39)","v":0},{"$f":"IF(Input!H$14=0,0,Input!H39)","v":0},{"$f":"IF(Input!I$14=0,0,Input!I39)","v":0},{"$f":"IF(Input!J$14=0,0,Input!J39)","v":0}]
[26,{"$f":"Input!B40","v":"R1-2-60"},{"$f":"IF(B29=0,\"Z\",IF(T(B29)=\"\",CONCATENATE(\"Y\",B29),LEFT(B29,1)))","v":"R"},{"$f":"VALUE(MID(B29,LEN(C29)+1,SEARCH(\"-\",B29)-(LEN(C29)+1)))","v":1},{"$f":"VALUE(IF(LEN(F29)=1,F29,IF(AND(LEN(F29)>1,OR(CODE(MID(F29,2,1))<48,CODE(MID(F29,2,1))>57)),LEFT(F29,1),IF(LEN(F29)=2,F29,IF(OR(CODE(MID(F29,3,1))<48,CODE(MID(F29,3,1))>57),LEFT(F29,2),LEFT(F29,3))))))","v":2},{"$f":"LEFT(RIGHT(B29,LEN(B29)-SEARCH(\"-\",B29)),SEARCH(\"-\",RIGHT(B29,LEN(B29)-SEARCH(\"-\",B29)))-1)","v":"2"},{"$f":"MID(F29,LEN(E29)+1,LEN(F29)-LEN(E29))","v":""},{"$f":"VALUE(RIGHT(B29,LEN(B29)-SEARCH(\"-\",B29,LEN(C29)+LEN(D29)+2)))","v":60},{"$f":"Input!C40","v":"60\"x60\" "},{"$f":"Input!D40","v":"YIELD "},{"$f":"Input!E40","v":29},{"$f":"IF(COUNTBLANK(Input!$F$14:$J$14)=5,Input!F40,IF(Input!$F$14=0,0,Input!F40))","v":0},{"$f":"IF(Input!G$14=0,0,Input!G40)","v":0},{"$f":"IF(Input!H$14=0,0,Input!H40)","v":0},{"$f":"IF(Input!I$14=0,0,Input!I40)","v":0},{"$f":"IF(Input!J$14=0,0,Input!J40)","v":0}]
[27,{"$f":"Input!B41","v":"R2-1-36"},{"$f":"IF(B30=0,\"Z\",IF(T(B30)=\"\",CONCATENATE(\"Y\",B30),LEFT(B30,1)))","v":"R"},{"$f":"VALUE(MID(B30,LEN(C30)+1,SEARCH(\"-\",B30)-(LEN(C30)+1)))","v":2},{"$f":"VALUE(IF(LEN(F30)=1,F30,IF(AND(LEN(F30)>1,OR(CODE(MID(F30,2,1))<48,CODE(MID(F30,2,1))>57)),LEFT(F30,1),IF(LEN(F30)=2,F30,IF(OR(CODE(MID(F30,3,1))<48,CODE(MID(F30,3,1))>57),LEFT(F30,2),LEFT(F30,3))))))","v":1},{"$f":"LEFT(RIGHT(B30,LEN(B30)-SEARCH(\"-\",B30)),SEARCH(\"-\",RIGHT(B30,LEN(B30)-SEARCH(\"-\",B30)))-1)","v":"1"},{"$f":"MID(F30,LEN(E30)+1,LEN(F30)-LEN(E30))","v":""},{"$f":"VALUE(RIGHT(B30,LEN(B30)-SEARCH(\"-\",B30,LEN(C30)+LEN(D30)+2)))","v":36},{"$f":"Input!C41","v":"36\"x48\""},{"$f":"Input!D41","v":"SPEED LIMIT __ (Portable only)"},{"$f":"Input!E41","v":30},{"$f":"IF(COUNTBLANK(Input!$F$14:$J$14)=5,Input!F41,IF(Input!$F$14=0,0,Input!F41))","v":0},{"$f":"IF(Input!G$14=0,0,Input!G41)","v":0},{"$f":"IF(Input!H$14=0,0,Input!H41)","v":0},{"$f":"IF(Input!I$14=0,0,Input!I41)","v":0},{"$f":"IF(Input!J$14=0,0,Input!J41)","v":0}]
[28,{"$f":"Input!B42","v":"R2-1-48"},{"$f":"IF(B31=0,\"Z\",IF(T(B31)=\"\",CONCATENATE(\"Y\",B31),LEFT(B31,1)))","v":"R"},{"$f":"VALUE(MID(B31,LEN(C31)+1,SEARCH(\"-\",B31)-(LEN(C31)+1)))","v":2},{"$f":"VALUE(IF(LEN(F31)=1,F31,IF(AND(LEN(F31)>1,OR(CODE(MID(F31,2,1))<48,CODE(MID(F31,2,1))>57)),LEFT(F31,1),IF(LEN(F31)=2,F31,IF(OR(CODE(MID(F31,3,1))<48,CODE(MID(F31,3,1))>57),LEFT(F31,2),LEFT(F31,3))))))","v":1},{"$f":"LEFT(RIGHT(B31,LEN(B31)-SEARCH(\"-\",B31)),SEARCH(\"-\",RIGHT(B31,LEN(B31)-SEARCH(\"-\",B31)))-1)","v":"1"},{"$f":"MID(F31,LEN(E31)+1,LEN(F31)-LEN(E31))","v":""},{"$f":"VALUE(RIGHT(B31,LEN(B31)-SEARCH(\"-\",B31,LEN(C31)+LEN(D31)+2)))","v":48},{"$f":"Input!C42","v":"48\"x60\""},{"$f":"Input!D42","v":"SPEED LIMIT __"},{"$f":"Input!E42","v":39},{"$f":"IF(COUNTBLANK(Input!$F$14:$J$14)=5,Input!F42,IF(Input!$F$14=0,0,Input!F42))","v":0},{"$f":"IF(Input!G$14=0,0,Input!G42)","v":0},{"$f":"IF(Input!H$14=0,0,Input!H42)","v":0},{"$f":"IF(Input!I$14=0,0,Input!I42)","v":0},{"$f":"IF(Input!J$14=0,0,Input!J42)","v":0}]
[29,{"$f":"Input!B43","v":"R2-1aP-24"},{"$f":"IF(B32=0,\"Z\",IF(T(B32)=\"\",CONCATENATE(\"Y\",B32),LEFT(B32,1)))","v":"R"},{"$f":"VALUE(MID(B32,LEN(C32)+1,SEARCH(\"-\",B32)-(LEN(C32)+1)))","v":2},{"$f":"VALUE(IF(LEN(F32)=1,F32,IF(AND(LEN(F32)>1,OR(CODE(MID(F32,2,1))<48,CODE(MID(F32,2,1))>57)),LEFT(F32,1),IF(LEN(F32)=2,F32,IF(OR(CODE(MID(F32,3,1))<48,CODE(MID(F32,3,1))>57),LEFT(F32,2),LEFT(F32,3))))))","v":1},{"$f":"LEFT(RIGHT(B32,LEN(B32)-SEARCH(\"-\",B32)),SEARCH(\"-\",RIGHT(B32,LEN(B32)-SEARCH(\"-\",B32)))-1)","v":"1aP"},{"$f":"MID(F32,LEN(E32)+1,LEN(F32)-LEN(E32))","v":"aP"},{"$f":"VALUE(RIGHT(B32,LEN(B32)-SEARCH(\"-\",B32,LEN(C32)+LEN(D32)+2)))","v":24},{"$f":"Input!C43","v":"24\"x18\""},{"$f":"Input!D43","v":"MINIMUM FEE $150 (Mounted on Speed Limit post)"},{"$f":"Input!E43","v":10},{"$f":"IF(COUNTBLANK(Input!$F$14:$J$14)=5,Input!F43,IF(Input!$F$14=0,0,Input!F43))","v":0},{"$f":"IF(Input!G$14=0,0,Input!G43)","v":0},{"$f":"IF(Input!H$14=0,0,Input!H43)","v":0},{"$f":"IF(Input!I$14=0,0,Input!I43)","v":0},{"$f":"IF(Input!J$14=0,0,Input!J43)","v":0}]
[30,{"$f":"Input!B44","v":"R3-2-48"},{"$f":"IF(B33=0,\"Z\",IF(T(B33)=\"\",CONCATENATE(\"Y\",B33),LEFT(B33,1)))","v":"R"},{"$f":"VALUE(MID(B33,LEN(C33)+1,SEARCH(\"-\",B33)-(LEN(C33)+1)))","v":3},{"$f":"VALUE(IF(LEN(F33)=1,F33,IF(AND(LEN(F33)>1,OR(CODE(MID(F33,2,1))<48,CODE(MID(F33,2,1))>57)),LEFT(F33,1),IF(LEN(F33)=2,F33,IF(OR(CODE(MID(F33,3,1))<48,CODE(MID(F33,3,1))>57),LEFT(F33,2),LEFT(F33,3))))))","v":2},{"$f":"LEFT(RIGHT(B33,LEN(B33)-SEARCH(\"-\",B33)),SEARCH(\"-\",RIGHT(B33,LEN(B33)-SEARCH(\"-\",B33)))-1)","v":"2"},{"$f":"MID(F33,LEN(E33)+1,LEN(F33)-LEN(E33))","v":""},{"$f":"VALUE(RIGHT(B33,LEN(B33)-SEARCH(\"-\",B33,LEN(C33)+LEN(D33)+2)))","v":48},{"$f":"Input!C44","v":"48\"x48\""},{"$f":"Input!D44","v":"NO LEFT TURN"},{"$f":"Input!E44","v":35},{"$f":"IF(COUNTBLANK(Input!$F$14:$J$14)=5,Input!F44,IF(Input!$F$14=0,0,Input!F44))","v":0},{"$f":"IF(Input!G$14=0,0,Input!G44)","v":0},{"$f":"IF(Input!H$14=0,0,Input!H44)","v":0},{"$f":"IF(Input!I$14=0,0,Input!I44)","v":0},{"$f":"IF(Input!J$14=0,0,Input!J44)","v":0}]
[31,{"$f":"Input!B45","v":"R4-1-48"},{"$f":"IF(B34=0,\"Z\",IF(T(B34)=\"\",CONCATENATE(\"Y\",B34),LEFT(B34,1)))","v":"R"},{"$f":"VALUE(MID(B34,LEN(C34)+1,SEARCH(\"-\",B34)-(LEN(C34)+1)))","v":4},{"$f":"VALUE(IF(LEN(F34)=1,F34,IF(AND(LEN(F34)>1,OR(CODE(MID(F34,2,1))<48,CODE(MID(F34,2,1))>57)),LEFT(F34,1),IF(LEN(F34)=2,F34,IF(OR(CODE(MID(F34,3,1))<48,CODE(MID(F34,3,1))>57),LEFT(F34,2),LEFT(F34,3))))))","v":1},{"$f":"LEFT(RIGHT(B34,LEN(B34)-SEARCH(\"-\",B34)),SEARCH(\"-\",RIGHT(B34,LEN(B34)-SEARCH(\"-\",B34)))-1)","v":"1"},{"$f":"MID(F34,LEN(E34)+1,LEN(F34)-LEN(E34))","v":""},{"$f":"VALUE(RIGHT(B34,LEN(B34)-SEARCH(\"-\",B34,LEN(C34)+LEN(D34)+2)))","v":48},{"$f":"Input!C45","v":"48\"x60\""},{"$f":"Input!D45","v":"DO NOT PASS"},{"$f":"Input!E45","v":39},{"$f":"IF(COUNTBLANK(Input!$F$14:$J$14)=5,Input!F45,IF(Input!$F$14=0,0,Input!F45))","v":0},{"$f":"IF(Input!G$14=0,0,Input!G45)","v":0},{"$f":"IF(Input!H$14=0,0,Input!H45)","v":0},{"$f":"IF(Input!I$14=0,0,Input!I45)","v":0},{"$f":"IF(Input!J$14=0,0,Input!J45)","v":0}]
[32,{"$f":"Input!B46","v":"R4-7-48"},{"$f":"IF(B35=0,\"Z\",IF(T(B35)=\"\",CONCATENATE(\"Y\",B35),LEFT(B35,1)))","v":"R"},{"$f":"VALUE(MID(B35,LEN(C35)+1,SEARCH(\"-\",B35)-(LEN(C35)+1)))","v":4},{"$f":"VALUE(IF(LEN(F35)=1,F35,IF(AND(LEN(F35)>1,OR(CODE(MID(F35,2,1))<48,CODE(MID(F35,2,1))>57)),LEFT(F35,1),IF(LEN(F35)=2,F35,IF(OR(CODE(MID(F35,3,1))<48,CODE(MID(F35,3,1))>57),LEFT(F35,2),LEFT(F35,3))))))","v":7},{"$f":"LEFT(RIGHT(B35,LEN(B35)-SEARCH(\"-\",B35)),SEARCH(\"-\",RIGHT(B35,LEN(B35)-SEARCH(\"-\",B35)))-1)","v":"7"},{"$f":"MID(F35,LEN(E35)+1,LEN(F35)-LEN(E35))","v":""},{"$f":"VALUE(RIGHT(B35,LEN(B35)-SEARCH(\"-\",B35,LEN(C35)+LEN(D35)+2)))","v":48},{"$f":"Input!C46","v":"48\"x60\""},{"$f":"Input!D46","v":"KEEP RIGHT"},{"$f":"Input!E46","v":39},{"$f":"IF(COUNTBLANK(Input!$F$14:$J$14)=5,Input!F46,IF(Input!$F$14=0,0,Input!F46))","v":0},{"$f":"IF(Input!G$14=0,0,Input!G46)","v":0},{"$f":"IF(Input!H$14=0,0,Input!H46)","v":0},{"$f":"IF(Input!I$14=0,0,Input!I46)","v":0},{"$f":"IF(Input!J$14=0,0,Input!J46)","v":0}]
[33,{"$f":"Input!B47","v":"R5-1-48"},{"$f":"IF(B36=0,\"Z\",IF(T(B36)=\"\",CONCATENATE(\"Y\",B36),LEFT(B36,1)))","v":"R"},{"$f":"VALUE(MID(B36,LEN(C36)+1,SEARCH(\"-\",B36)-(LEN(C36)+1)))","v":5},{"$f":"VALUE(IF(LEN(F36)=1,F36,IF(AND(LEN(F36)>1,OR(CODE(MID(F36,2,1))<48,CODE(MID(F36,2,1))>57)),LEFT(F36,1),IF(LEN(F36)=2,F36,IF(OR(CODE(MID(F36,3,1))<48,CODE(MID(F36,3,1))>57),LEFT(F36,2),LEFT(F36,3))))))","v":1},{"$f":"LEFT(RIGHT(B36,LEN(B36)-SEARCH(\"-\",B36)),SEARCH(\"-\",RIGHT(B36,LEN(B36)-SEARCH(\"-\",B36)))-1)","v":"1"},{"$f":"MID(F36,LEN(E36)+1,LEN(F36)-LEN(E36))","v":""},{"$f":"VALUE(RIGHT(B36,LEN(B36)-SEARCH(\"-\",B36,LEN(C36)+LEN(D36)+2)))","v":48},{"$f":"Input!C47","v":"48\"x48\""},{"$f":"Input!D47","v":"DO NOT ENTER"},{"$f":"Input!E47","v":35},{"$f":"IF(COUNTBLANK(Input!$F$14:$J$14)=5,Input!F47,IF(Input!$F$14=0,0,Input!F47))","v":0},{"$f":"IF(Input!G$14=0,0,Input!G47)","v":0},{"$f":"IF(Input!H$14=0,0,Input!H47)","v":0},{"$f":"IF(Input!I$14=0,0,Input!I47)","v":0},{"$f":"IF(Input!J$14=0,0,Input!J47)","v":0}]
[34,{"$f":"Input!B48","v":"R6-1-54"},{"$f":"IF(B37=0,\"Z\",IF(T(B37)=\"\",CONCATENATE(\"Y\",B37),LEFT(B37,1)))","v":"R"},{"$f":"VALUE(MID(B37,LEN(C37)+1,SEARCH(\"-\",B37)-(LEN(C37)+1)))","v":6},{"$f":"VALUE(IF(LEN(F37)=1,F37,IF(AND(LEN(F37)>1,OR(CODE(MID(F37,2,1))<48,CODE(MID(F37,2,1))>57)),LEFT(F37,1),IF(LEN(F37)=2,F37,IF(OR(CODE(MID(F37,3,1))<48,CODE(MID(F37,3,1))>57),LEFT(F37,2),LEFT(F37,3))))))","v":1},{"$f":"LEFT(RIGHT(B37,LEN(B37)-SEARCH(\"-\",B37)),SEARCH(\"-\",RIGHT(B37,LEN(B37)-SEARCH(\"-\",B37)))-1)","v":"1"},{"$f":"MID(F37,LEN(E37)+1,LEN(F37)-LEN(E37))","v":""},{"$f":"VALUE(RIGHT(B37,LEN(B37)-SEARCH(\"-\",B37,LEN(C37)+LEN(D37)+2)))","v":54},{"$f":"Input!C48","v":"54\"x18\""},{"$f":"Input!D48","v":"ONE WAY RIGHT or LEFT (Mounted on STOP or DO NOT ENTER  post)"},{"$f":"Input!E48","v":14},{"$f":"IF(COUNTBLANK(Input!$F$14:$J$14)=5,Input!F48,IF(Input!$F$14=0,0,Input!F48))","v":0},{"$f":"IF(Input!G$14=0,0,Input!G48)","v":0},{"$f":"IF(Input!H$14=0,0,Input!H48)","v":0},{"$f":"IF(Input!I$14=0,0,Input!I48)","v":0},{"$f":"IF(Input!J$14=0,0,Input!J48)","v":0}]
[35,{"$f":"Input!B49","v":"R7-1-12"},{"$f":"IF(B38=0,\"Z\",IF(T(B38)=\"\",CONCATENATE(\"Y\",B38),LEFT(B38,1)))","v":"R"},{"$f":"VALUE(MID(B38,LEN(C38)+1,SEARCH(\"-\",B38)-(LEN(C38)+1)))","v":7},{"$f":"VALUE(IF(LEN(F38)=1,F38,IF(AND(LEN(F38)>1,OR(CODE(MID(F38,2,1))<48,CODE(MID(F38,2,1))>57)),LEFT(F38,1),IF(LEN(F38)=2,F38,IF(OR(CODE(MID(F38,3,1))<48,CODE(MID(F38,3,1))>57),LEFT(F38,2),LEFT(F38,3))))))","v":1},{"$f":"LEFT(RIGHT(B38,LEN(B38)-SEARCH(\"-\",B38)),SEARCH(\"-\",RIGHT(B38,LEN(B38)-SEARCH(\"-\",B38)))-1)","v":"1"},{"$f":"MID(F38,LEN(E38)+1,LEN(F38)-LEN(E38))","v":""},{"$f":"VALUE(RIGHT(B38,LEN(B38)-SEARCH(\"-\",B38,LEN(C38)+LEN(D38)+2)))","v":12},{"$f":"Input!C49","v":"12\"x18\""},{"$f":"Input!D49","v":"NO PARKING ANY TIME"},{"$f":"Input!E49","v":11},{"$f":"IF(COUNTBLANK(Input!$F$14:$J$14)=5,Input!F49,IF(Input!$F$14=0,0,Input!F49))","v":0},{"$f":"IF(Input!G$14=0,0,Input!G49)","v":0},{"$f":"IF(Input!H$14=0,0,Input!H49)","v":0},{"$f":"IF(Input!I$14=0,0,Input!I49)","v":0},{"$f":"IF(Input!J$14=0,0,Input!J49)","v":0}]
[36,{"$f":"Input!B50","v":"R10-6-24"},{"$f":"IF(B39=0,\"Z\",IF(T(B39)=\"\",CONCATENATE(\"Y\",B39),LEFT(B39,1)))","v":"R"},{"$f":"VALUE(MID(B39,LEN(C39)+1,SEARCH(\"-\",B39)-(LEN(C39)+1)))","v":10},{"$f":"VALUE(IF(LEN(F39)=1,F39,IF(AND(LEN(F39)>1,OR(CODE(MID(F39,2,1))<48,CODE(MID(F39,2,1))>57)),LEFT(F39,1),IF(LEN(F39)=2,F39,IF(OR(CODE(MID(F39,3,1))<48,CODE(MID(F39,3,1))>57),LEFT(F39,2),LEFT(F39,3))))))","v":6},{"$f":"LEFT(RIGHT(B39,LEN(B39)-SEARCH(\"-\",B39)),SEARCH(\"-\",RIGHT(B39,LEN(B39)-SEARCH(\"-\",B39)))-1)","v":"6"},{"$f":"MID(F39,LEN(E39)+1,LEN(F39)-LEN(E39))","v":""},{"$f":"VALUE(RIGHT(B39,LEN(B39)-SEARCH(\"-\",B39,LEN(C39)+LEN(D39)+2)))","v":24},{"$f":"Input!C50","v":"24\"x36\""},{"$f":"Input!D50","v":"STOP HERE ON RED"},{"$f":"Input!E50","v":16},{"$f":"IF(COUNTBLANK(Input!$F$14:$J$14)=5,Input!F50,IF(Input!$F$14=0,0,Input!F50))","v":0},{"$f":"IF(Input!G$14=0,0,Input!G50)","v":0},{"$f":"IF(Input!H$14=0,0,Input!H50)","v":0},{"$f":"IF(Input!I$14=0,0,Input!I50)","v":0},{"$f":"IF(Input!J$14=0,0,Input!J50)","v":0}]
[37,{"$f":"Input!B51","v":"R11-2-48"},{"$f":"IF(B40=0,\"Z\",IF(T(B40)=\"\",CONCATENATE(\"Y\",B40),LEFT(B40,1)))","v":"R"},{"$f":"VALUE(MID(B40,LEN(C40)+1,SEARCH(\"-\",B40)-(LEN(C40)+1)))","v":11},{"$f":"VALUE(IF(LEN(F40)=1,F40,IF(AND(LEN(F40)>1,OR(CODE(MID(F40,2,1))<48,CODE(MID(F40,2,1))>57)),LEFT(F40,1),IF(LEN(F40)=2,F40,IF(OR(CODE(MID(F40,3,1))<48,CODE(MID(F40,3,1))>57),LEFT(F40,2),LEFT(F40,3))))))","v":2},{"$f":"LEFT(RIGHT(B40,LEN(B40)-SEARCH(\"-\",B40)),SEARCH(\"-\",RIGHT(B40,LEN(B40)-SEARCH(\"-\",B40)))-1)","v":"2"},{"$f":"MID(F40,LEN(E40)+1,LEN(F40)-LEN(E40))","v":""},{"$f":"VALUE(RIGHT(B40,LEN(B40)-SEARCH(\"-\",B40,LEN(C40)+LEN(D40)+2)))","v":48},{"$f":"Input!C51","v":"48\"x30\""},{"$f":"Input!D51","v":"ROAD CLOSED (Mounted on barricade)"},{"$f":"Input!E51","v":12},{"$f":"IF(COUNTBLANK(Input!$F$14:$J$14)=5,Input!F51,IF(Input!$F$14=0,0,Input!F51))","v":0},{"$f":"IF(Input!G$14=0,0,Input!G51)","v":0},{"$f":"IF(Input!H$14=0,0,Input!H51)","v":0},{"$f":"IF(Input!I$14=0,0,Input!I51)","v":0},{"$f":"IF(Input!J$14=0,0,Input!J51)","v":0}]
[38,{"$f":"Input!B52","v":"R11-2a-48"},{"$f":"IF(B41=0,\"Z\",IF(T(B41)=\"\",CONCATENATE(\"Y\",B41),LEFT(B41,1)))","v":"R"},{"$f":"VALUE(MID(B41,LEN(C41)+1,SEARCH(\"-\",B41)-(LEN(C41)+1)))","v":11},{"$f":"VALUE(IF(LEN(F41)=1,F41,IF(AND(LEN(F41)>1,OR(CODE(MID(F41,2,1))<48,CODE(MID(F41,2,1))>57)),LEFT(F41,1),IF(LEN(F41)=2,F41,IF(OR(CODE(MID(F41,3,1))<48,CODE(MID(F41,3,1))>57),LEFT(F41,2),LEFT(F41,3))))))","v":2},{"$f":"LEFT(RIGHT(B41,LEN(B41)-SEARCH(\"-\",B41)),SEARCH(\"-\",RIGHT(B41,LEN(B41)-SEARCH(\"-\",B41)))-1)","v":"2a"},{"$f":"MID(F41,LEN(E41)+1,LEN(F41)-LEN(E41))","v":"a"},{"$f":"VALUE(RIGHT(B41,LEN(B41)-SEARCH(\"-\",B41,LEN(C41)+LEN(D41)+2)))","v":48},{"$f":"Input!C52","v":"48\"x30\""},{"$f":"Input!D52","v":"STREET CLOSED (Mounted on barricade)"},{"$f":"Input!E52","v":12},{"$f":"IF(COUNTBLANK(Input!$F$14:$J$14)=5,Input!F52,IF(Input!$F$14=0,0,Input!F52))","v":0},{"$f":"IF(Input!G$14=0,0,Input!G52)","v":0},{"$f":"IF(Input!H$14=0,0,Input!H52)","v":0},{"$f":"IF(Input!I$14=0,0,Input!I52)","v":0},{"$f":"IF(Input!J$14=0,0,Input!J52)","v":0}]
[39,{"$f":"Input!B53","v":"R11-3a-60"},{"$f":"IF(B42=0,\"Z\",IF(T(B42)=\"\",CONCATENATE(\"Y\",B42),LEFT(B42,1)))","v":"R"},{"$f":"VALUE(MID(B42,LEN(C42)+1,SEARCH(\"-\",B42)-(LEN(C42)+1)))","v":11},{"$f":"VALUE(IF(LEN(F42)=1,F42,IF(AND(LEN(F42)>1,OR(CODE(MID(F42,2,1))<48,CODE(MID(F42,2,1))>57)),LEFT(F42,1),IF(LEN(F42)=2,F42,IF(OR(CODE(MID(F42,3,1))<48,CODE(MID(F42,3,1))>57),LEFT(F42,2),LEFT(F42,3))))))","v":3},{"$f":"LEFT(RIGHT(B42,LEN(B42)-SEARCH(\"-\",B42)),SEARCH(\"-\",RIGHT(B42,LEN(B42)-SEARCH(\"-\",B42)))-1)","v":"3a"},{"$f":"MID(F42,LEN(E42)+1,LEN(F42)-LEN(E42))","v":"a"},{"$f":"VALUE(RIGHT(B42,LEN(B42)-SEARCH(\"-\",B42,LEN(C42)+LEN(D42)+2)))","v":60},{"$f":"Input!C53","v":"60\"x30\""},{"$f":"Input!D53","v":"ROAD CLOSED __ MILES AHEAD LOCAL TRAFFIC ONLY (Mtd on barricade)"},{"$f":"Input!E53","v":15},{"$f":"IF(COUNTBLANK(Input!$F$14:$J$14)=5,Input!F53,IF(Input!$F$14=0,0,Input!F53))","v":0},{"$f":"IF(Input!G$14=0,0,Input!G53)","v":0},{"$f":"IF(Input!H$14=0,0,Input!H53)","v":0},{"$f":"IF(Input!I$14=0,0,Input!I53)","v":0},{"$f":"IF(Input!J$14=0,0,Input!J53)","v":0}]
[40,{"$f":"Input!B54","v":"R11-3c-60"},{"$f":"IF(B43=0,\"Z\",IF(T(B43)=\"\",CONCATENATE(\"Y\",B43),LEFT(B43,1)))","v":"R"},{"$f":"VALUE(MID(B43,LEN(C43)+1,SEARCH(\"-\",B43)-(LEN(C43)+1)))","v":11},{"$f":"VALUE(IF(LEN(F43)=1,F43,IF(AND(LEN(F43)>1,OR(CODE(MID(F43,2,1))<48,CODE(MID(F43,2,1))>57)),LEFT(F43,1),IF(LEN(F43)=2,F43,IF(OR(CODE(MID(F43,3,1))<48,CODE(MID(F43,3,1))>57),LEFT(F43,2),LEFT(F43,3))))))","v":3},{"$f":"LEFT(RIGHT(B43,LEN(B43)-SEARCH(\"-\",B43)),SEARCH(\"-\",RIGHT(B43,LEN(B43)-SEARCH(\"-\",B43)))-1)","v":"3c"},{"$f":"MID(F43,LEN(E43)+1,LEN(F43)-LEN(E43))","v":"c"},{"$f":"VALUE(RIGHT(B43,LEN(B43)-SEARCH(\"-\",B43,LEN(C43)+LEN(D43)+2)))","v":60},{"$f":"Input!C54","v":"60\"x30\""},{"$f":"Input!D54","v":"STREET CLOSED __ MILES AHEAD LOCAL TRAFFIC ONLY (Mtd on barricade)"},{"$f":"Input!E54","v":15},{"$f":"IF(COUNTBLANK(Input!$F$14:$J$14)=5,Input!F54,IF(Input!$F$14=0,0,Input!F54))","v":0},{"$f":"IF(Input!G$14=0,0,Input!G54)","v":0},{"$f":"IF(Input!H$14=0,0,Input!H54)","v":0},{"$f":"IF(Input!I$14=0,0,Input!I54)","v":0},{"$f":"IF(Input!J$14=0,0,Input!J54)","v":0}]
[41,{"$f":"Input!B55","v":"R11-4a-60"},{"$f":"IF(B44=0,\"Z\",IF(T(B44)=\"\",CONCATENATE(\"Y\",B44),LEFT(B44,1)))","v":"R"},{"$f":"VALUE(MID(B44,LEN(C44)+1,SEARCH(\"-\",B44)-(LEN(C44)+1)))","v":11},{"$f":"VALUE(IF(LEN(F44)=1,F44,IF(AND(LEN(F44)>1,OR(CODE(MID(F44,2,1))<48,CODE(MID(F44,2,1))>57)),LEFT(F44,1),IF(LEN(F44)=2,F44,IF(OR(CODE(MID(F44,3,1))<48,CODE(MID(F44,3,1))>57),LEFT(F44,2),LEFT(F44,3))))))","v":4},{"$f":"LEFT(RIGHT(B44,LEN(B44)-SEARCH(\"-\",B44)),SEARCH(\"-\",RIGHT(B44,LEN(B44)-SEARCH(\"-\",B44)))-1)","v":"4a"},{"$f":"MID(F44,LEN(E44)+1,LEN(F44)-LEN(E44))","v":"a"},{"$f":"VALUE(RIGHT(B44,LEN(B44)-SEARCH(\"-\",B44,LEN(C44)+LEN(D44)+2)))","v":60},{"$f":"Input!C55","v":"60\"x30\""},{"$f":"Input!D55","v":"STREET CLOSED TO THRU TRAFFIC (Mounted on barricade)"},{"$f":"Input!E55","v":15},{"$f":"IF(COUNTBLANK(Input!$F$14:$J$14)=5,Input!F55,IF(Input!$F$14=0,0,Input!F55))","v":0},{"$f":"IF(Input!G$14=0,0,Input!G55)","v":0},{"$f":"IF(Input!H$14=0,0,Input!H55)","v":0},{"$f":"IF(Input!I$14=0,0,Input!I55)","v":0},{"$f":"IF(Input!J$14=0,0,Input!J55)","v":0}]
[42,{"$f":"Input!B56","v":"W1-3-48"},{"$f":"IF(B45=0,\"Z\",IF(T(B45)=\"\",CONCATENATE(\"Y\",B45),LEFT(B45,1)))","v":"W"},{"$f":"VALUE(MID(B45,LEN(C45)+1,SEARCH(\"-\",B45)-(LEN(C45)+1)))","v":1},{"$f":"VALUE(IF(LEN(F45)=1,F45,IF(AND(LEN(F45)>1,OR(CODE(MID(F45,2,1))<48,CODE(MID(F45,2,1))>57)),LEFT(F45,1),IF(LEN(F45)=2,F45,IF(OR(CODE(MID(F45,3,1))<48,CODE(MID(F45,3,1))>57),LEFT(F45,2),LEFT(F45,3))))))","v":3},{"$f":"LEFT(RIGHT(B45,LEN(B45)-SEARCH(\"-\",B45)),SEARCH(\"-\",RIGHT(B45,LEN(B45)-SEARCH(\"-\",B45)))-1)","v":"3"},{"$f":"MID(F45,LEN(E45)+1,LEN(F45)-LEN(E45))","v":""},{"$f":"VALUE(RIGHT(B45,LEN(B45)-SEARCH(\"-\",B45,LEN(C45)+LEN(D45)+2)))","v":48},{"$f":"Input!C56","v":"48\"x48\""},{"$f":"Input!D56","v":"REVERSE TURN RIGHT or LEFT"},{"$f":"Input!E56","v":35},{"$f":"IF(COUNTBLANK(Input!$F$14:$J$14)=5,Input!F56,IF(Input!$F$14=0,0,Input!F56))","v":0},{"$f":"IF(Input!G$14=0,0,Input!G56)","v":0},{"$f":"IF(Input!H$14=0,0,Input!H56)","v":0},{"$f":"IF(Input!I$14=0,0,Input!I56)","v":0},{"$f":"IF(Input!J$14=0,0,Input!J56)","v":0}]
[43,{"$f":"Input!B57","v":"W1-4-48"},{"$f":"IF(B46=0,\"Z\",IF(T(B46)=\"\",CONCATENATE(\"Y\",B46),LEFT(B46,1)))","v":"W"},{"$f":"VALUE(MID(B46,LEN(C46)+1,SEARCH(\"-\",B46)-(LEN(C46)+1)))","v":1},{"$f":"VALUE(IF(LEN(F46)=1,F46,IF(AND(LEN(F46)>1,OR(CODE(MID(F46,2,1))<48,CODE(MID(F46,2,1))>57)),LEFT(F46,1),IF(LEN(F46)=2,F46,IF(OR(CODE(MID(F46,3,1))<48,CODE(MID(F46,3,1))>57),LEFT(F46,2),LEFT(F46,3))))))","v":4},{"$f":"LEFT(RIGHT(B46,LEN(B46)-SEARCH(\"-\",B46)),SEARCH(\"-\",RIGHT(B46,LEN(B46)-SEARCH(\"-\",B46)))-1)","v":"4"},{"$f":"MID(F46,LEN(E46)+1,LEN(F46)-LEN(E46))","v":""},{"$f":"VALUE(RIGHT(B46,LEN(B46)-SEARCH(\"-\",B46,LEN(C46)+LEN(D46)+2)))","v":48},{"$f":"Input!C57","v":"48\"x48\""},{"$f":"Input!D57","v":"REVERSE CURVE RIGHT or LEFT"},{"$f":"Input!E57","v":35},{"$f":"IF(COUNTBLANK(Input!$F$14:$J$14)=5,Input!F57,IF(Input!$F$14=0,0,Input!F57))","v":0},{"$f":"IF(Input!G$14=0,0,Input!G57)","v":0},{"$f":"IF(Input!H$14=0,0,Input!H57)","v":0},{"$f":"IF(Input!I$14=0,0,Input!I57)","v":0},{"$f":"IF(Input!J$14=0,0,Input!J57)","v":0}]
[44,{"$f":"Input!B58","v":"W1-4b-48"},{"$f":"IF(B47=0,\"Z\",IF(T(B47)=\"\",CONCATENATE(\"Y\",B47),LEFT(B47,1)))","v":"W"},{"$f":"VALUE(MID(B47,LEN(C47)+1,SEARCH(\"-\",B47)-(LEN(C47)+1)))","v":1},{"$f":"VALUE(IF(LEN(F47)=1,F47,IF(AND(LEN(F47)>1,OR(CODE(MID(F47,2,1))<48,CODE(MID(F47,2,1))>57)),LEFT(F47,1),IF(LEN(F47)=2,F47,IF(OR(CODE(MID(F47,3,1))<48,CODE(MID(F47,3,1))>57),LEFT(F47,2),LEFT(F47,3))))))","v":4},{"$f":"LEFT(RIGHT(B47,LEN(B47)-SEARCH(\"-\",B47)),SEARCH(\"-\",RIGHT(B47,LEN(B47)-SEARCH(\"-\",B47)))-1)","v":"4b"},{"$f":"MID(F47,LEN(E47)+1,LEN(F47)-LEN(E47))","v":"b"},{"$f":"VALUE(RIGHT(B47,LEN(B47)-SEARCH(\"-\",B47,LEN(C47)+LEN(D47)+2)))","v":48},{"$f":"Input!C58","v":"48\"x48\""},{"$f":"Input!D58","v":"TWO LANE REVERSE CURVE RIGHT or LEFT"},{"$f":"Input!E58","v":35},{"$f":"IF(COUNTBLANK(Input!$F$14:$J$14)=5,Input!F58,IF(Input!$F$14=0,0,Input!F58))","v":0},{"$f":"IF(Input!G$14=0,0,Input!G58)","v":0},{"$f":"IF(Input!H$14=0,0,Input!H58)","v":0},{"$f":"IF(Input!I$14=0,0,Input!I58)","v":0},{"$f":"IF(Input!J$14=0,0,Input!J58)","v":0}]
[45,{"$f":"Input!B59","v":"W1-6-48"},{"$f":"IF(B48=0,\"Z\",IF(T(B48)=\"\",CONCATENATE(\"Y\",B48),LEFT(B48,1)))","v":"W"},{"$f":"VALUE(MID(B48,LEN(C48)+1,SEARCH(\"-\",B48)-(LEN(C48)+1)))","v":1},{"$f":"VALUE(IF(LEN(F48)=1,F48,IF(AND(LEN(F48)>1,OR(CODE(MID(F48,2,1))<48,CODE(MID(F48,2,1))>57)),LEFT(F48,1),IF(LEN(F48)=2,F48,IF(OR(CODE(MID(F48,3,1))<48,CODE(MID(F48,3,1))>57),LEFT(F48,2),LEFT(F48,3))))))","v":6},{"$f":"LEFT(RIGHT(B48,LEN(B48)-SEARCH(\"-\",B48)),SEARCH(\"-\",RIGHT(B48,LEN(B48)-SEARCH(\"-\",B48)))-1)","v":"6"},{"$f":"MID(F48,LEN(E48)+1,LEN(F48)-LEN(E48))","v":""},{"$f":"VALUE(RIGHT(B48,LEN(B48)-SEARCH(\"-\",B48,LEN(C48)+LEN(D48)+2)))","v":48},{"$f":"Input!C59","v":"48\"x24\""},{"$f":"Input!D59","v":"ONE DIRECTION LARGE ARROW"},{"$f":"Input!E59","v":26},{"$f":"IF(COUNTBLANK(Input!$F$14:$J$14)=5,Input!F59,IF(Input!$F$14=0,0,Input!F59))","v":0},{"$f":"IF(Input!G$14=0,0,Input!G59)","v":0},{"$f":"IF(Input!H$14=0,0,Input!H59)","v":0},{"$f":"IF(Input!I$14=0,0,Input!I59)","v":0},{"$f":"IF(Input!J$14=0,0,Input!J59)","v":0}]
[46,{"$f":"Input!B60","v":"W3-1-48"},{"$f":"IF(B49=0,\"Z\",IF(T(B49)=\"\",CONCATENATE(\"Y\",B49),LEFT(B49,1)))","v":"W"},{"$f":"VALUE(MID(B49,LEN(C49)+1,SEARCH(\"-\",B49)-(LEN(C49)+1)))","v":3},{"$f":"VALUE(IF(LEN(F49)=1,F49,IF(AND(LEN(F49)>1,OR(CODE(MID(F49,2,1))<48,CODE(MID(F49,2,1))>57)),LEFT(F49,1),IF(LEN(F49)=2,F49,IF(OR(CODE(MID(F49,3,1))<48,CODE(MID(F49,3,1))>57),LEFT(F49,2),LEFT(F49,3))))))","v":1},{"$f":"LEFT(RIGHT(B49,LEN(B49)-SEARCH(\"-\",B49)),SEARCH(\"-\",RIGHT(B49,LEN(B49)-SEARCH(\"-\",B49)))-1)","v":"1"},{"$f":"MID(F49,LEN(E49)+1,LEN(F49)-LEN(E49))","v":""},{"$f":"VALUE(RIGHT(B49,LEN(B49)-SEARCH(\"-\",B49,LEN(C49)+LEN(D49)+2)))","v":48},{"$f":"Input!C60","v":"48\"x48\""},{"$f":"Input!D60","v":"STOP AHEAD"},{"$f":"Input!E60","v":35},{"$f":"IF(COUNTBLANK(Input!$F$14:$J$14)=5,Input!F60,IF(Input!$F$14=0,0,Input!F60))","v":0},{"$f":"IF(Input!G$14=0,0,Input!G60)","v":0},{"$f":"IF(Input!H$14=0,0,Input!H60)","v":0},{"$f":"IF(Input!I$14=0,0,Input!I60)","v":0},{"$f":"IF(Input!J$14=0,0,Input!J60)","v":0}]
[47,{"$f":"Input!B61","v":"W3-3-48"},{"$f":"IF(B50=0,\"Z\",IF(T(B50)=\"\",CONCATENATE(\"Y\",B50),LEFT(B50,1)))","v":"W"},{"$f":"VALUE(MID(B50,LEN(C50)+1,SEARCH(\"-\",B50)-(LEN(C50)+1)))","v":3},{"$f":"VALUE(IF(LEN(F50)=1,F50,IF(AND(LEN(F50)>1,OR(CODE(MID(F50,2,1))<48,CODE(MID(F50,2,1))>57)),LEFT(F50,1),IF(LEN(F50)=2,F50,IF(OR(CODE(MID(F50,3,1))<48,CODE(MID(F50,3,1))>57),LEFT(F50,2),LEFT(F50,3))))))","v":3},{"$f":"LEFT(RIGHT(B50,LEN(B50)-SEARCH(\"-\",B50)),SEARCH(\"-\",RIGHT(B50,LEN(B50)-SEARCH(\"-\",B50)))-1)","v":"3"},{"$f":"MID(F50,LEN(E50)+1,LEN(F50)-LEN(E50))","v":""},{"$f":"VALUE(RIGHT(B50,LEN(B50)-SEARCH(\"-\",B50,LEN(C50)+LEN(D50)+2)))","v":48},{"$f":"Input!C61","v":"48\"x48\""},{"$f":"Input!D61","v":"SIGNAL AHEAD"},{"$f":"Input!E61","v":35},{"$f":"IF(COUNTBLANK(Input!$F$14:$J$14)=5,Input!F61,IF(Input!$F$14=0,0,Input!F61))","v":0},{"$f":"IF(Input!G$14=0,0,Input!G61)","v":0},{"$f":"IF(Input!H$14=0,0,Input!H61)","v":0},{"$f":"IF(Input!I$14=0,0,Input!I61)","v":0},{"$f":"IF(Input!J$14=0,0,Input!J61)","v":0}]
[48,{"$f":"Input!B62","v":"W3-4-48"},{"$f":"IF(B51=0,\"Z\",IF(T(B51)=\"\",CONCATENATE(\"Y\",B51),LEFT(B51,1)))","v":"W"},{"$f":"VALUE(MID(B51,LEN(C51)+1,SEARCH(\"-\",B51)-(LEN(C51)+1)))","v":3},{"$f":"VALUE(IF(LEN(F51)=1,F51,IF(AND(LEN(F51)>1,OR(CODE(MID(F51,2,1))<48,CODE(MID(F51,2,1))>57)),LEFT(F51,1),IF(LEN(F51)=2,F51,IF(OR(CODE(MID(F51,3,1))<48,CODE(MID(F51,3,1))>57),LEFT(F51,2),LEFT(F51,3))))))","v":4},{"$f":"LEFT(RIGHT(B51,LEN(B51)-SEARCH(\"-\",B51)),SEARCH(\"-\",RIGHT(B51,LEN(B51)-SEARCH(\"-\",B51)))-1)","v":"4"},{"$f":"MID(F51,LEN(E51)+1,LEN(F51)-LEN(E51))","v":""},{"$f":"VALUE(RIGHT(B51,LEN(B51)-SEARCH(\"-\",B51,LEN(C51)+LEN(D51)+2)))","v":48},{"$f":"Input!C62","v":"48\"x48\""},{"$f":"Input!D62","v":"BE PREPARED TO STOP"},{"$f":"Input!E62","v":35},{"$f":"IF(COUNTBLANK(Input!$F$14:$J$14)=5,Input!F62,IF(Input!$F$14=0,0,Input!F62))","v":0},{"$f":"IF(Input!G$14=0,0,Input!G62)","v":0},{"$f":"IF(Input!H$14=0,0,Input!H62)","v":0},{"$f":"IF(Input!I$14=0,0,Input!I62)","v":0},{"$f":"IF(Input!J$14=0,0,Input!J62)","v":0}]
[49,{"$f":"Input!B63","v":"W3-5-48"},{"$f":"IF(B52=0,\"Z\",IF(T(B52)=\"\",CONCATENATE(\"Y\",B52),LEFT(B52,1)))","v":"W"},{"$f":"VALUE(MID(B52,LEN(C52)+1,SEARCH(\"-\",B52)-(LEN(C52)+1)))","v":3},{"$f":"VALUE(IF(LEN(F52)=1,F52,IF(AND(LEN(F52)>1,OR(CODE(MID(F52,2,1))<48,CODE(MID(F52,2,1))>57)),LEFT(F52,1),IF(LEN(F52)=2,F52,IF(OR(CODE(MID(F52,3,1))<48,CODE(MID(F52,3,1))>57),LEFT(F52,2),LEFT(F52,3))))))","v":5},{"$f":"LEFT(RIGHT(B52,LEN(B52)-SEARCH(\"-\",B52)),SEARCH(\"-\",RIGHT(B52,LEN(B52)-SEARCH(\"-\",B52)))-1)","v":"5"},{"$f":"MID(F52,LEN(E52)+1,LEN(F52)-LEN(E52))","v":""},{"$f":"VALUE(RIGHT(B52,LEN(B52)-SEARCH(\"-\",B52,LEN(C52)+LEN(D52)+2)))","v":48},{"$f":"Input!C63","v":"48\"x48\""},{"$f":"Input!D63","v":"SPEED REDUCTION AHEAD"},{"$f":"Input!E63","v":35},{"$f":"IF(COUNTBLANK(Input!$F$14:$J$14)=5,Input!F63,IF(Input!$F$14=0,0,Input!F63))","v":0},{"$f":"IF(Input!G$14=0,0,Input!G63)","v":0},{"$f":"IF(Input!H$14=0,0,Input!H63)","v":0},{"$f":"IF(Input!I$14=0,0,Input!I63)","v":0},{"$f":"IF(Input!J$14=0,0,Input!J63)","v":0}]
[50,{"$f":"Input!B64","v":"W4-2-48"},{"$f":"IF(B53=0,\"Z\",IF(T(B53)=\"\",CONCATENATE(\"Y\",B53),LEFT(B53,1)))","v":"W"},{"$f":"VALUE(MID(B53,LEN(C53)+1,SEARCH(\"-\",B53)-(LEN(C53)+1)))","v":4},{"$f":"VALUE(IF(LEN(F53)=1,F53,IF(AND(LEN(F53)>1,OR(CODE(MID(F53,2,1))<48,CODE(MID(F53,2,1))>57)),LEFT(F53,1),IF(LEN(F53)=2,F53,IF(OR(CODE(MID(F53,3,1))<48,CODE(MID(F53,3,1))>57),LEFT(F53,2),LEFT(F53,3))))))","v":2},{"$f":"LEFT(RIGHT(B53,LEN(B53)-SEARCH(\"-\",B53)),SEARCH(\"-\",RIGHT(B53,LEN(B53)-SEARCH(\"-\",B53)))-1)","v":"2"},{"$f":"MID(F53,LEN(E53)+1,LEN(F53)-LEN(E53))","v":""},{"$f":"VALUE(RIGHT(B53,LEN(B53)-SEARCH(\"-\",B53,LEN(C53)+LEN(D53)+2)))","v":48},{"$f":"Input!C64","v":"48\"x48\""},{"$f":"Input!D64","v":"LANE ENDS RIGHT or LEFT"},{"$f":"Input!E64","v":35},{"$f":"IF(COUNTBLANK(Input!$F$14:$J$14)=5,Input!F64,IF(Input!$F$14=0,0,Input!F64))","v":0},{"$f":"IF(Input!G$14=0,0,Input!G64)","v":0},{"$f":"IF(Input!H$14=0,0,Input!H64)","v":0},{"$f":"IF(Input!I$14=0,0,Input!I64)","v":0},{"$f":"IF(Input!J$14=0,0,Input!J64)","v":0}]
[51,{"$f":"Input!B65","v":"W5-1-48"},{"$f":"IF(B54=0,\"Z\",IF(T(B54)=\"\",CONCATENATE(\"Y\",B54),LEFT(B54,1)))","v":"W"},{"$f":"VALUE(MID(B54,LEN(C54)+1,SEARCH(\"-\",B54)-(LEN(C54)+1)))","v":5},{"$f":"VALUE(IF(LEN(F54)=1,F54,IF(AND(LEN(F54)>1,OR(CODE(MID(F54,2,1))<48,CODE(MID(F54,2,1))>57)),LEFT(F54,1),IF(LEN(F54)=2,F54,IF(OR(CODE(MID(F54,3,1))<48,CODE(MID(F54,3,1))>57),LEFT(F54,2),LEFT(F54,3))))))","v":1},{"$f":"LEFT(RIGHT(B54,LEN(B54)-SEARCH(\"-\",B54)),SEARCH(\"-\",RIGHT(B54,LEN(B54)-SEARCH(\"-\",B54)))-1)","v":"1"},{"$f":"MID(F54,LEN(E54)+1,LEN(F54)-LEN(E54))","v":""},{"$f":"VALUE(RIGHT(B54,LEN(B54)-SEARCH(\"-\",B54,LEN(C54)+LEN(D54)+2)))","v":48},{"$f":"Input!C65","v":"48\"x48\""},{"$f":"Input!D65","v":"ROAD NARROWS"},{"$f":"Input!E65","v":35},{"$f":"IF(COUNTBLANK(Input!$F$14:$J$14)=5,Input!F65,IF(Input!$F$14=0,0,Input!F65))","v":0},{"$f":"IF(Input!G$14=0,0,Input!G65)","v":0},{"$f":"IF(Input!H$14=0,0,Input!H65)","v":0},{"$f":"IF(Input!I$14=0,0,Input!I65)","v":0},{"$f":"IF(Input!J$14=0,0,Input!J65)","v":0}]
[52,{"$f":"Input!B66","v":"W5-8-48"},{"$f":"IF(B55=0,\"Z\",IF(T(B55)=\"\",CONCATENATE(\"Y\",B55),LEFT(B55,1)))","v":"W"},{"$f":"VALUE(MID(B55,LEN(C55)+1,SEARCH(\"-\",B55)-(LEN(C55)+1)))","v":5},{"$f":"VALUE(IF(LEN(F55)=1,F55,IF(AND(LEN(F55)>1,OR(CODE(MID(F55,2,1))<48,CODE(MID(F55,2,1))>57)),LEFT(F55,1),IF(LEN(F55)=2,F55,IF(OR(CODE(MID(F55,3,1))<48,CODE(MID(F55,3,1))>57),LEFT(F55,2),LEFT(F55,3))))))","v":8},{"$f":"LEFT(RIGHT(B55,LEN(B55)-SEARCH(\"-\",B55)),SEARCH(\"-\",RIGHT(B55,LEN(B55)-SEARCH(\"-\",B55)))-1)","v":"8"},{"$f":"MID(F55,LEN(E55)+1,LEN(F55)-LEN(E55))","v":""},{"$f":"VALUE(RIGHT(B55,LEN(B55)-SEARCH(\"-\",B55,LEN(C55)+LEN(D55)+2)))","v":48},{"$f":"Input!C66","v":"48\"x48\""},{"$f":"Input!D66","v":"THRU TRAFFIC RIGHT LANE"},{"$f":"Input!E66","v":35},{"$f":"IF(COUNTBLANK(Input!$F$14:$J$14)=5,Input!F66,IF(Input!$F$14=0,0,Input!F66))","v":0},{"$f":"IF(Input!G$14=0,0,Input!G66)","v":0},{"$f":"IF(Input!H$14=0,0,Input!H66)","v":0},{"$f":"IF(Input!I$14=0,0,Input!I66)","v":0},{"$f":"IF(Input!J$14=0,0,Input!J66)","v":0}]
[53,{"$f":"Input!B67","v":"W5-9-48"},{"$f":"IF(B56=0,\"Z\",IF(T(B56)=\"\",CONCATENATE(\"Y\",B56),LEFT(B56,1)))","v":"W"},{"$f":"VALUE(MID(B56,LEN(C56)+1,SEARCH(\"-\",B56)-(LEN(C56)+1)))","v":5},{"$f":"VALUE(IF(LEN(F56)=1,F56,IF(AND(LEN(F56)>1,OR(CODE(MID(F56,2,1))<48,CODE(MID(F56,2,1))>57)),LEFT(F56,1),IF(LEN(F56)=2,F56,IF(OR(CODE(MID(F56,3,1))<48,CODE(MID(F56,3,1))>57),LEFT(F56,2),LEFT(F56,3))))))","v":9},{"$f":"LEFT(RIGHT(B56,LEN(B56)-SEARCH(\"-\",B56)),SEARCH(\"-\",RIGHT(B56,LEN(B56)-SEARCH(\"-\",B56)))-1)","v":"9"},{"$f":"MID(F56,LEN(E56)+1,LEN(F56)-LEN(E56))","v":""},{"$f":"VALUE(RIGHT(B56,LEN(B56)-SEARCH(\"-\",B56,LEN(C56)+LEN(D56)+2)))","v":48},{"$f":"Input!C67","v":"48\"x48\""},{"$f":"Input!D67","v":"ROAD WORK TRAFFIC ONLY DOWN & LT or RT ARROW"},{"$f":"Input!E67","v":35},{"$f":"IF(COUNTBLANK(Input!$F$14:$J$14)=5,Input!F67,IF(Input!$F$14=0,0,Input!F67))","v":0},{"$f":"IF(Input!G$14=0,0,Input!G67)","v":0},{"$f":"IF(Input!H$14=0,0,Input!H67)","v":0},{"$f":"IF(Input!I$14=0,0,Input!I67)","v":0},{"$f":"IF(Input!J$14=0,0,Input!J67)","v":0}]
[54,{"$f":"Input!B68","v":"W6-3-48"},{"$f":"IF(B57=0,\"Z\",IF(T(B57)=\"\",CONCATENATE(\"Y\",B57),LEFT(B57,1)))","v":"W"},{"$f":"VALUE(MID(B57,LEN(C57)+1,SEARCH(\"-\",B57)-(LEN(C57)+1)))","v":6},{"$f":"VALUE(IF(LEN(F57)=1,F57,IF(AND(LEN(F57)>1,OR(CODE(MID(F57,2,1))<48,CODE(MID(F57,2,1))>57)),LEFT(F57,1),IF(LEN(F57)=2,F57,IF(OR(CODE(MID(F57,3,1))<48,CODE(MID(F57,3,1))>57),LEFT(F57,2),LEFT(F57,3))))))","v":3},{"$f":"LEFT(RIGHT(B57,LEN(B57)-SEARCH(\"-\",B57)),SEARCH(\"-\",RIGHT(B57,LEN(B57)-SEARCH(\"-\",B57)))-1)","v":"3"},{"$f":"MID(F57,LEN(E57)+1,LEN(F57)-LEN(E57))","v":""},{"$f":"VALUE(RIGHT(B57,LEN(B57)-SEARCH(\"-\",B57,LEN(C57)+LEN(D57)+2)))","v":48},{"$f":"Input!C68","v":"48\"x48\""},{"$f":"Input!D68","v":"TWO WAY TRAFFIC"},{"$f":"Input!E68","v":35},{"$f":"IF(COUNTBLANK(Input!$F$14:$J$14)=5,Input!F68,IF(Input!$F$14=0,0,Input!F68))","v":0},{"$f":"IF(Input!G$14=0,0,Input!G68)","v":0},{"$f":"IF(Input!H$14=0,0,Input!H68)","v":0},{"$f":"IF(Input!I$14=0,0,Input!I68)","v":0},{"$f":"IF(Input!J$14=0,0,Input!J68)","v":0}]
[55,{"$f":"Input!B69","v":"W8-1-48"},{"$f":"IF(B58=0,\"Z\",IF(T(B58)=\"\",CONCATENATE(\"Y\",B58),LEFT(B58,1)))","v":"W"},{"$f":"VALUE(MID(B58,LEN(C58)+1,SEARCH(\"-\",B58)-(LEN(C58)+1)))","v":8},{"$f":"VALUE(IF(LEN(F58)=1,F58,IF(AND(LEN(F58)>1,OR(CODE(MID(F58,2,1))<48,CODE(MID(F58,2,1))>57)),LEFT(F58,1),IF(LEN(F58)=2,F58,IF(OR(CODE(MID(F58,3,1))<48,CODE(MID(F58,3,1))>57),LEFT(F58,2),LEFT(F58,3))))))","v":1},{"$f":"LEFT(RIGHT(B58,LEN(B58)-SEARCH(\"-\",B58)),SEARCH(\"-\",RIGHT(B58,LEN(B58)-SEARCH(\"-\",B58)))-1)","v":"1"},{"$f":"MID(F58,LEN(E58)+1,LEN(F58)-LEN(E58))","v":""},{"$f":"VALUE(RIGHT(B58,LEN(B58)-SEARCH(\"-\",B58,LEN(C58)+LEN(D58)+2)))","v":48},{"$f":"Input!C69","v":"48\"x48\""},{"$f":"Input!D69","v":"BUMP"},{"$f":"Input!E69","v":35},{"$f":"IF(COUNTBLANK(Input!$F$14:$J$14)=5,Input!F69,IF(Input!$F$14=0,0,Input!F69))","v":0},{"$f":"IF(Input!G$14=0,0,Input!G69)","v":0},{"$f":"IF(Input!H$14=0,0,Input!H69)","v":0},{"$f":"IF(Input!I$14=0,0,Input!I69)","v":0},{"$f":"IF(Input!J$14=0,0,Input!J69)","v":0}]
[56,{"$f":"Input!B70","v":"W8-3-48"},{"$f":"IF(B59=0,\"Z\",IF(T(B59)=\"\",CONCATENATE(\"Y\",B59),LEFT(B59,1)))","v":"W"},{"$f":"VALUE(MID(B59,LEN(C59)+1,SEARCH(\"-\",B59)-(LEN(C59)+1)))","v":8},{"$f":"VALUE(IF(LEN(F59)=1,F59,IF(AND(LEN(F59)>1,OR(CODE(MID(F59,2,1))<48,CODE(MID(F59,2,1))>57)),LEFT(F59,1),IF(LEN(F59)=2,F59,IF(OR(CODE(MID(F59,3,1))<48,CODE(MID(F59,3,1))>57),LEFT(F59,2),LEFT(F59,3))))))","v":3},{"$f":"LEFT(RIGHT(B59,LEN(B59)-SEARCH(\"-\",B59)),SEARCH(\"-\",RIGHT(B59,LEN(B59)-SEARCH(\"-\",B59)))-1)","v":"3"},{"$f":"MID(F59,LEN(E59)+1,LEN(F59)-LEN(E59))","v":""},{"$f":"VALUE(RIGHT(B59,LEN(B59)-SEARCH(\"-\",B59,LEN(C59)+LEN(D59)+2)))","v":48},{"$f":"Input!C70","v":"48\"x48\""},{"$f":"Input!D70","v":"PAVEMENT ENDS"},{"$f":"Input!E70","v":35},{"$f":"IF(COUNTBLANK(Input!$F$14:$J$14)=5,Input!F70,IF(Input!$F$14=0,0,Input!F70))","v":0},{"$f":"IF(Input!G$14=0,0,Input!G70)","v":0},{"$f":"IF(Input!H$14=0,0,Input!H70)","v":0},{"$f":"IF(Input!I$14=0,0,Input!I70)","v":0},{"$f":"IF(Input!J$14=0,0,Input!J70)","v":0}]
[57,{"$f":"Input!B71","v":"W8-7-48"},{"$f":"IF(B60=0,\"Z\",IF(T(B60)=\"\",CONCATENATE(\"Y\",B60),LEFT(B60,1)))","v":"W"},{"$f":"VALUE(MID(B60,LEN(C60)+1,SEARCH(\"-\",B60)-(LEN(C60)+1)))","v":8},{"$f":"VALUE(IF(LEN(F60)=1,F60,IF(AND(LEN(F60)>1,OR(CODE(MID(F60,2,1))<48,CODE(MID(F60,2,1))>57)),LEFT(F60,1),IF(LEN(F60)=2,F60,IF(OR(CODE(MID(F60,3,1))<48,CODE(MID(F60,3,1))>57),LEFT(F60,2),LEFT(F60,3))))))","v":7},{"$f":"LEFT(RIGHT(B60,LEN(B60)-SEARCH(\"-\",B60)),SEARCH(\"-\",RIGHT(B60,LEN(B60)-SEARCH(\"-\",B60)))-1)","v":"7"},{"$f":"MID(F60,LEN(E60)+1,LEN(F60)-LEN(E60))","v":""},{"$f":"VALUE(RIGHT(B60,LEN(B60)-SEARCH(\"-\",B60,LEN(C60)+LEN(D60)+2)))","v":48},{"$f":"Input!C71","v":"48\"x48\""},{"$f":"Input!D71","v":"LOOSE GRAVEL"},{"$f":"Input!E71","v":35},{"$f":"IF(COUNTBLANK(Input!$F$14:$J$14)=5,Input!F71,IF(Input!$F$14=0,0,Input!F71))","v":0},{"$f":"IF(Input!G$14=0,0,Input!G71)","v":0},{"$f":"IF(Input!H$14=0,0,Input!H71)","v":0},{"$f":"IF(Input!I$14=0,0,Input!I71)","v":0},{"$f":"IF(Input!J$14=0,0,Input!J71)","v":0}]
[59,{"$f":"Input!B73","v":"W8-11-48"},{"$f":"IF(B61=0,\"Z\",IF(T(B61)=\"\",CONCATENATE(\"Y\",B61),LEFT(B61,1)))","v":"W"},{"$f":"VALUE(MID(B61,LEN(C61)+1,SEARCH(\"-\",B61)-(LEN(C61)+1)))","v":8},{"$f":"VALUE(IF(LEN(F61)=1,F61,IF(AND(LEN(F61)>1,OR(CODE(MID(F61,2,1))<48,CODE(MID(F61,2,1))>57)),LEFT(F61,1),IF(LEN(F61)=2,F61,IF(OR(CODE(MID(F61,3,1))<48,CODE(MID(F61,3,1))>57),LEFT(F61,2),LEFT(F61,3))))))","v":11},{"$f":"LEFT(RIGHT(B61,LEN(B61)-SEARCH(\"-\",B61)),SEARCH(\"-\",RIGHT(B61,LEN(B61)-SEARCH(\"-\",B61)))-1)","v":"11"},{"$f":"MID(F61,LEN(E61)+1,LEN(F61)-LEN(E61))","v":""},{"$f":"VALUE(RIGHT(B61,LEN(B61)-SEARCH(\"-\",B61,LEN(C61)+LEN(D61)+2)))","v":48},{"$f":"Input!C73","v":"48\"x48\""},{"$f":"Input!D73","v":"UNEVEN LANES"},{"$f":"Input!E73","v":35},{"$f":"IF(COUNTBLANK(Input!$F$14:$J$14)=5,Input!F73,IF(Input!$F$14=0,0,Input!F73))","v":0},{"$f":"IF(Input!G$14=0,0,Input!G73)","v":0},{"$f":"IF(Input!H$14=0,0,Input!H73)","v":0},{"$f":"IF(Input!I$14=0,0,Input!I73)","v":0},{"$f":"IF(Input!J$14=0,0,Input!J73)","v":0}]
[60,{"$f":"Input!B74","v":"W8-12-48"},{"$f":"IF(B62=0,\"Z\",IF(T(B62)=\"\",CONCATENATE(\"Y\",B62),LEFT(B62,1)))","v":"W"},{"$f":"VALUE(MID(B62,LEN(C62)+1,SEARCH(\"-\",B62)-(LEN(C62)+1)))","v":8},{"$f":"VALUE(IF(LEN(F62)=1,F62,IF(AND(LEN(F62)>1,OR(CODE(MID(F62,2,1))<48,CODE(MID(F62,2,1))>57)),LEFT(F62,1),IF(LEN(F62)=2,F62,IF(OR(CODE(MID(F62,3,1))<48,CODE(MID(F62,3,1))>57),LEFT(F62,2),LEFT(F62,3))))))","v":12},{"$f":"LEFT(RIGHT(B62,LEN(B62)-SEARCH(\"-\",B62)),SEARCH(\"-\",RIGHT(B62,LEN(B62)-SEARCH(\"-\",B62)))-1)","v":"12"},{"$f":"MID(F62,LEN(E62)+1,LEN(F62)-LEN(E62))","v":""},{"$f":"VALUE(RIGHT(B62,LEN(B62)-SEARCH(\"-\",B62,LEN(C62)+LEN(D62)+2)))","v":48},{"$f":"Input!C74","v":"48\"x48\""},{"$f":"Input!D74","v":"NO CENTER LINE"},{"$f":"Input!E74","v":35},{"$f":"IF(COUNTBLANK(Input!$F$14:$J$14)=5,Input!F74,IF(Input!$F$14=0,0,Input!F74))","v":0},{"$f":"IF(Input!G$14=0,0,Input!G74)","v":0},{"$f":"IF(Input!H$14=0,0,Input!H74)","v":0},{"$f":"IF(Input!I$14=0,0,Input!I74)","v":0},{"$f":"IF(Input!J$14=0,0,Input!J74)","v":0}]
[58,{"$f":"Input!B72","v":"W8-17-48"},{"$f":"IF(B63=0,\"Z\",IF(T(B63)=\"\",CONCATENATE(\"Y\",B63),LEFT(B63,1)))","v":"W"},{"$f":"VALUE(MID(B63,LEN(C63)+1,SEARCH(\"-\",B63)-(LEN(C63)+1)))","v":8},{"$f":"VALUE(IF(LEN(F63)=1,F63,IF(AND(LEN(F63)>1,OR(CODE(MID(F63,2,1))<48,CODE(MID(F63,2,1))>57)),LEFT(F63,1),IF(LEN(F63)=2,F63,IF(OR(CODE(MID(F63,3,1))<48,CODE(MID(F63,3,1))>57),LEFT(F63,2),LEFT(F63,3))))))","v":17},{"$f":"LEFT(RIGHT(B63,LEN(B63)-SEARCH(\"-\",B63)),SEARCH(\"-\",RIGHT(B63,LEN(B63)-SEARCH(\"-\",B63)))-1)","v":"17"},{"$f":"MID(F63,LEN(E63)+1,LEN(F63)-LEN(E63))","v":""},{"$f":"VALUE(RIGHT(B63,LEN(B63)-SEARCH(\"-\",B63,LEN(C63)+LEN(D63)+2)))","v":48},{"$f":"Input!C72","v":"48\"x48\""},{"$f":"Input!D72","v":"SHOULDER DROP-OFF SYMBOL"},{"$f":"Input!E72","v":35},{"$f":"IF(COUNTBLANK(Input!$F$14:$J$14)=5,Input!F72,IF(Input!$F$14=0,0,Input!F72))","v":0},{"$f":"IF(Input!G$14=0,0,Input!G72)","v":0},{"$f":"IF(Input!H$14=0,0,Input!H72)","v":0},{"$f":"IF(Input!I$14=0,0,Input!I72)","v":0},{"$f":"IF(Input!J$14=0,0,Input!J72)","v":0}]
[61,{"$f":"Input!B75","v":"W8-53-48"},{"$f":"IF(B64=0,\"Z\",IF(T(B64)=\"\",CONCATENATE(\"Y\",B64),LEFT(B64,1)))","v":"W"},{"$f":"VALUE(MID(B64,LEN(C64)+1,SEARCH(\"-\",B64)-(LEN(C64)+1)))","v":8},{"$f":"VALUE(IF(LEN(F64)=1,F64,IF(AND(LEN(F64)>1,OR(CODE(MID(F64,2,1))<48,CODE(MID(F64,2,1))>57)),LEFT(F64,1),IF(LEN(F64)=2,F64,IF(OR(CODE(MID(F64,3,1))<48,CODE(MID(F64,3,1))>57),LEFT(F64,2),LEFT(F64,3))))))","v":53},{"$f":"LEFT(RIGHT(B64,LEN(B64)-SEARCH(\"-\",B64)),SEARCH(\"-\",RIGHT(B64,LEN(B64)-SEARCH(\"-\",B64)))-1)","v":"53"},{"$f":"MID(F64,LEN(E64)+1,LEN(F64)-LEN(E64))","v":""},{"$f":"VALUE(RIGHT(B64,LEN(B64)-SEARCH(\"-\",B64,LEN(C64)+LEN(D64)+2)))","v":48},{"$f":"Input!C75","v":"48\"x48\""},{"$f":"Input!D75","v":"TRUCKS ENTERING HIGHWAY"},{"$f":"Input!E75","v":35},{"$f":"IF(COUNTBLANK(Input!$F$14:$J$14)=5,Input!F75,IF(Input!$F$14=0,0,Input!F75))","v":0},{"$f":"IF(Input!G$14=0,0,Input!G75)","v":0},{"$f":"IF(Input!H$14=0,0,Input!H75)","v":0},{"$f":"IF(Input!I$14=0,0,Input!I75)","v":0},{"$f":"IF(Input!J$14=0,0,Input!J75)","v":0}]
[62,{"$f":"Input!B76","v":"W8-54-48"},{"$f":"IF(B65=0,\"Z\",IF(T(B65)=\"\",CONCATENATE(\"Y\",B65),LEFT(B65,1)))","v":"W"},{"$f":"VALUE(MID(B65,LEN(C65)+1,SEARCH(\"-\",B65)-(LEN(C65)+1)))","v":8},{"$f":"VALUE(IF(LEN(F65)=1,F65,IF(AND(LEN(F65)>1,OR(CODE(MID(F65,2,1))<48,CODE(MID(F65,2,1))>57)),LEFT(F65,1),IF(LEN(F65)=2,F65,IF(OR(CODE(MID(F65,3,1))<48,CODE(MID(F65,3,1))>57),LEFT(F65,2),LEFT(F65,3))))))","v":54},{"$f":"LEFT(RIGHT(B65,LEN(B65)-SEARCH(\"-\",B65)),SEARCH(\"-\",RIGHT(B65,LEN(B65)-SEARCH(\"-\",B65)))-1)","v":"54"},{"$f":"MID(F65,LEN(E65)+1,LEN(F65)-LEN(E65))","v":""},{"$f":"VALUE(RIGHT(B65,LEN(B65)-SEARCH(\"-\",B65,LEN(C65)+LEN(D65)+2)))","v":48},{"$f":"Input!C76","v":"48\"x48\""},{"$f":"Input!D76","v":"TRUCKS ENTERING AHEAD or __ FT or _ MILE"},{"$f":"Input!E76","v":35},{"$f":"IF(COUNTBLANK(Input!$F$14:$J$14)=5,Input!F76,IF(Input!$F$14=0,0,Input!F76))","v":0},{"$f":"IF(Input!G$14=0,0,Input!G76)","v":0},{"$f":"IF(Input!H$14=0,0,Input!H76)","v":0},{"$f":"IF(Input!I$14=0,0,Input!I76)","v":0},{"$f":"IF(Input!J$14=0,0,Input!J76)","v":0}]
[63,{"$f":"Input!B77","v":"W8-55-48"},{"$f":"IF(B66=0,\"Z\",IF(T(B66)=\"\",CONCATENATE(\"Y\",B66),LEFT(B66,1)))","v":"W"},{"$f":"VALUE(MID(B66,LEN(C66)+1,SEARCH(\"-\",B66)-(LEN(C66)+1)))","v":8},{"$f":"VALUE(IF(LEN(F66)=1,F66,IF(AND(LEN(F66)>1,OR(CODE(MID(F66,2,1))<48,CODE(MID(F66,2,1))>57)),LEFT(F66,1),IF(LEN(F66)=2,F66,IF(OR(CODE(MID(F66,3,1))<48,CODE(MID(F66,3,1))>57),LEFT(F66,2),LEFT(F66,3))))))","v":55},{"$f":"LEFT(RIGHT(B66,LEN(B66)-SEARCH(\"-\",B66)),SEARCH(\"-\",RIGHT(B66,LEN(B66)-SEARCH(\"-\",B66)))-1)","v":"55"},{"$f":"MID(F66,LEN(E66)+1,LEN(F66)-LEN(E66))","v":""},{"$f":"VALUE(RIGHT(B66,LEN(B66)-SEARCH(\"-\",B66,LEN(C66)+LEN(D66)+2)))","v":48},{"$f":"Input!C77","v":"48\"x48\""},{"$f":"Input!D77","v":"TRUCKS CROSSING AHEAD or __ FT or _ MILE"},{"$f":"Input!E77","v":35},{"$f":"IF(COUNTBLANK(Input!$F$14:$J$14)=5,Input!F77,IF(Input!$F$14=0,0,Input!F77))","v":0},{"$f":"IF(Input!G$14=0,0,Input!G77)","v":0},{"$f":"IF(Input!H$14=0,0,Input!H77)","v":0},{"$f":"IF(Input!I$14=0,0,Input!I77)","v":0},{"$f":"IF(Input!J$14=0,0,Input!J77)","v":0}]
[64,{"$f":"Input!B78","v":"W8-56-48"},{"$f":"IF(B67=0,\"Z\",IF(T(B67)=\"\",CONCATENATE(\"Y\",B67),LEFT(B67,1)))","v":"W"},{"$f":"VALUE(MID(B67,LEN(C67)+1,SEARCH(\"-\",B67)-(LEN(C67)+1)))","v":8},{"$f":"VALUE(IF(LEN(F67)=1,F67,IF(AND(LEN(F67)>1,OR(CODE(MID(F67,2,1))<48,CODE(MID(F67,2,1))>57)),LEFT(F67,1),IF(LEN(F67)=2,F67,IF(OR(CODE(MID(F67,3,1))<48,CODE(MID(F67,3,1))>57),LEFT(F67,2),LEFT(F67,3))))))","v":56},{"$f":"LEFT(RIGHT(B67,LEN(B67)-SEARCH(\"-\",B67)),SEARCH(\"-\",RIGHT(B67,LEN(B67)-SEARCH(\"-\",B67)))-1)","v":"56"},{"$f":"MID(F67,LEN(E67)+1,LEN(F67)-LEN(E67))","v":""},{"$f":"VALUE(RIGHT(B67,LEN(B67)-SEARCH(\"-\",B67,LEN(C67)+LEN(D67)+2)))","v":48},{"$f":"Input!C78","v":"48\"x48\""},{"$f":"Input!D78","v":"TRUCKS EXITING HIGHWAY"},{"$f":"Input!E78","v":35},{"$f":"IF(COUNTBLANK(Input!$F$14:$J$14)=5,Input!F78,IF(Input!$F$14=0,0,Input!F78))","v":0},{"$f":"IF(Input!G$14=0,0,Input!G78)","v":0},{"$f":"IF(Input!H$14=0,0,Input!H78)","v":0},{"$f":"IF(Input!I$14=0,0,Input!I78)","v":0},{"$f":"IF(Input!J$14=0,0,Input!J78)","v":0}]
[65,{"$f":"Input!B79","v":"W9-3a-48"},{"$f":"IF(B68=0,\"Z\",IF(T(B68)=\"\",CONCATENATE(\"Y\",B68),LEFT(B68,1)))","v":"W"},{"$f":"VALUE(MID(B68,LEN(C68)+1,SEARCH(\"-\",B68)-(LEN(C68)+1)))","v":9},{"$f":"VALUE(IF(LEN(F68)=1,F68,IF(AND(LEN(F68)>1,OR(CODE(MID(F68,2,1))<48,CODE(MID(F68,2,1))>57)),LEFT(F68,1),IF(LEN(F68)=2,F68,IF(OR(CODE(MID(F68,3,1))<48,CODE(MID(F68,3,1))>57),LEFT(F68,2),LEFT(F68,3))))))","v":3},{"$f":"LEFT(RIGHT(B68,LEN(B68)-SEARCH(\"-\",B68)),SEARCH(\"-\",RIGHT(B68,LEN(B68)-SEARCH(\"-\",B68)))-1)","v":"3a"},{"$f":"MID(F68,LEN(E68)+1,LEN(F68)-LEN(E68))","v":"a"},{"$f":"VALUE(RIGHT(B68,LEN(B68)-SEARCH(\"-\",B68,LEN(C68)+LEN(D68)+2)))","v":48},{"$f":"Input!C79","v":"48\"x48\""},{"$f":"Input!D79","v":"CENTER LANE CLOSED SYMBOL"},{"$f":"Input!E79","v":35},{"$f":"IF(COUNTBLANK(Input!$F$14:$J$14)=5,Input!F79,IF(Input!$F$14=0,0,Input!F79))","v":0},{"$f":"IF(Input!G$14=0,0,Input!G79)","v":0},{"$f":"IF(Input!H$14=0,0,Input!H79)","v":0},{"$f":"IF(Input!I$14=0,0,Input!I79)","v":0},{"$f":"IF(Input!J$14=0,0,Input!J79)","v":0}]
[66,{"$f":"Input!B80","v":"W13-1P-30"},{"$f":"IF(B69=0,\"Z\",IF(T(B69)=\"\",CONCATENATE(\"Y\",B69),LEFT(B69,1)))","v":"W"},{"$f":"VALUE(MID(B69,LEN(C69)+1,SEARCH(\"-\",B69)-(LEN(C69)+1)))","v":13},{"$f":"VALUE(IF(LEN(F69)=1,F69,IF(AND(LEN(F69)>1,OR(CODE(MID(F69,2,1))<48,CODE(MID(F69,2,1))>57)),LEFT(F69,1),IF(LEN(F69)=2,F69,IF(OR(CODE(MID(F69,3,1))<48,CODE(MID(F69,3,1))>57),LEFT(F69,2),LEFT(F69,3))))))","v":1},{"$f":"LEFT(RIGHT(B69,LEN(B69)-SEARCH(\"-\",B69)),SEARCH(\"-\",RIGHT(B69,LEN(B69)-SEARCH(\"-\",B69)))-1)","v":"1P"},{"$f":"MID(F69,LEN(E69)+1,LEN(F69)-LEN(E69))","v":"P"},{"$f":"VALUE(RIGHT(B69,LEN(B69)-SEARCH(\"-\",B69,LEN(C69)+LEN(D69)+2)))","v":30},{"$f":"Input!C80","v":"30\"x30\""},{"$f":"Input!D80","v":"__ MPH ADVISORY SPEED PLAQUE (Mounted on warning sign post)"},{"$f":"Input!E80","v":14},{"$f":"IF(COUNTBLANK(Input!$F$14:$J$14)=5,Input!F80,IF(Input!$F$14=0,0,Input!F80))","v":0},{"$f":"IF(Input!G$14=0,0,Input!G80)","v":0},{"$f":"IF(Input!H$14=0,0,Input!H80)","v":0},{"$f":"IF(Input!I$14=0,0,Input!I80)","v":0},{"$f":"IF(Input!J$14=0,0,Input!J80)","v":0}]
[67,{"$f":"Input!B81","v":"W14-3-64"},{"$f":"IF(B70=0,\"Z\",IF(T(B70)=\"\",CONCATENATE(\"Y\",B70),LEFT(B70,1)))","v":"W"},{"$f":"VALUE(MID(B70,LEN(C70)+1,SEARCH(\"-\",B70)-(LEN(C70)+1)))","v":14},{"$f":"VALUE(IF(LEN(F70)=1,F70,IF(AND(LEN(F70)>1,OR(CODE(MID(F70,2,1))<48,CODE(MID(F70,2,1))>57)),LEFT(F70,1),IF(LEN(F70)=2,F70,IF(OR(CODE(MID(F70,3,1))<48,CODE(MID(F70,3,1))>57),LEFT(F70,2),LEFT(F70,3))))))","v":3},{"$f":"LEFT(RIGHT(B70,LEN(B70)-SEARCH(\"-\",B70)),SEARCH(\"-\",RIGHT(B70,LEN(B70)-SEARCH(\"-\",B70)))-1)","v":"3"},{"$f":"MID(F70,LEN(E70)+1,LEN(F70)-LEN(E70))","v":""},{"$f":"VALUE(RIGHT(B70,LEN(B70)-SEARCH(\"-\",B70,LEN(C70)+LEN(D70)+2)))","v":64},{"$f":"Input!C81","v":"64\"x48\""},{"$f":"Input!D81","v":"NO PASSING ZONE"},{"$f":"Input!E81","v":28},{"$f":"IF(COUNTBLANK(Input!$F$14:$J$14)=5,Input!F81,IF(Input!$F$14=0,0,Input!F81))","v":0},{"$f":"IF(Input!G$14=0,0,Input!G81)","v":0},{"$f":"IF(Input!H$14=0,0,Input!H81)","v":0},{"$f":"IF(Input!I$14=0,0,Input!I81)","v":0},{"$f":"IF(Input!J$14=0,0,Input!J81)","v":0}]
[68,{"$f":"Input!B82","v":"W16-2P-30"},{"$f":"IF(B71=0,\"Z\",IF(T(B71)=\"\",CONCATENATE(\"Y\",B71),LEFT(B71,1)))","v":"W"},{"$f":"VALUE(MID(B71,LEN(C71)+1,SEARCH(\"-\",B71)-(LEN(C71)+1)))","v":16},{"$f":"VALUE(IF(LEN(F71)=1,F71,IF(AND(LEN(F71)>1,OR(CODE(MID(F71,2,1))<48,CODE(MID(F71,2,1))>57)),LEFT(F71,1),IF(LEN(F71)=2,F71,IF(OR(CODE(MID(F71,3,1))<48,CODE(MID(F71,3,1))>57),LEFT(F71,2),LEFT(F71,3))))))","v":2},{"$f":"LEFT(RIGHT(B71,LEN(B71)-SEARCH(\"-\",B71)),SEARCH(\"-\",RIGHT(B71,LEN(B71)-SEARCH(\"-\",B71)))-1)","v":"2P"},{"$f":"MID(F71,LEN(E71)+1,LEN(F71)-LEN(E71))","v":"P"},{"$f":"VALUE(RIGHT(B71,LEN(B71)-SEARCH(\"-\",B71,LEN(C71)+LEN(D71)+2)))","v":30},{"$f":"Input!C82","v":"30\"x24\""},{"$f":"Input!D82","v":"__ FEET PLAQUE (Mounted on warning sign post)"},{"$f":"Input!E82","v":10},{"$f":"IF(COUNTBLANK(Input!$F$14:$J$14)=5,Input!F82,IF(Input!$F$14=0,0,Input!F82))","v":0},{"$f":"IF(Input!G$14=0,0,Input!G82)","v":0},{"$f":"IF(Input!H$14=0,0,Input!H82)","v":0},{"$f":"IF(Input!I$14=0,0,Input!I82)","v":0},{"$f":"IF(Input!J$14=0,0,Input!J82)","v":0}]
[69,{"$f":"Input!B83","v":"W20-1-48"},{"$f":"IF(B72=0,\"Z\",IF(T(B72)=\"\",CONCATENATE(\"Y\",B72),LEFT(B72,1)))","v":"W"},{"$f":"VALUE(MID(B72,LEN(C72)+1,SEARCH(\"-\",B72)-(LEN(C72)+1)))","v":20},{"$f":"VALUE(IF(LEN(F72)=1,F72,IF(AND(LEN(F72)>1,OR(CODE(MID(F72,2,1))<48,CODE(MID(F72,2,1))>57)),LEFT(F72,1),IF(LEN(F72)=2,F72,IF(OR(CODE(MID(F72,3,1))<48,CODE(MID(F72,3,1))>57),LEFT(F72,2),LEFT(F72,3))))))","v":1},{"$f":"LEFT(RIGHT(B72,LEN(B72)-SEARCH(\"-\",B72)),SEARCH(\"-\",RIGHT(B72,LEN(B72)-SEARCH(\"-\",B72)))-1)","v":"1"},{"$f":"MID(F72,LEN(E72)+1,LEN(F72)-LEN(E72))","v":""},{"$f":"VALUE(RIGHT(B72,LEN(B72)-SEARCH(\"-\",B72,LEN(C72)+LEN(D72)+2)))","v":48},{"$f":"Input!C83","v":"48\"x48\""},{"$f":"Input!D83","v":"ROAD WORK AHEAD or _FT or _ MILE"},{"$f":"Input!E83","v":35},{"$f":"IF(COUNTBLANK(Input!$F$14:$J$14)=5,Input!F83,IF(Input!$F$14=0,0,Input!F83))","v":0},{"$f":"IF(Input!G$14=0,0,Input!G83)","v":0},{"$f":"IF(Input!H$14=0,0,Input!H83)","v":0},{"$f":"IF(Input!I$14=0,0,Input!I83)","v":0},{"$f":"IF(Input!J$14=0,0,Input!J83)","v":0}]
[70,{"$f":"Input!B84","v":"W20-2-48"},{"$f":"IF(B73=0,\"Z\",IF(T(B73)=\"\",CONCATENATE(\"Y\",B73),LEFT(B73,1)))","v":"W"},{"$f":"VALUE(MID(B73,LEN(C73)+1,SEARCH(\"-\",B73)-(LEN(C73)+1)))","v":20},{"$f":"VALUE(IF(LEN(F73)=1,F73,IF(AND(LEN(F73)>1,OR(CODE(MID(F73,2,1))<48,CODE(MID(F73,2,1))>57)),LEFT(F73,1),IF(LEN(F73)=2,F73,IF(OR(CODE(MID(F73,3,1))<48,CODE(MID(F73,3,1))>57),LEFT(F73,2),LEFT(F73,3))))))","v":2},{"$f":"LEFT(RIGHT(B73,LEN(B73)-SEARCH(\"-\",B73)),SEARCH(\"-\",RIGHT(B73,LEN(B73)-SEARCH(\"-\",B73)))-1)","v":"2"},{"$f":"MID(F73,LEN(E73)+1,LEN(F73)-LEN(E73))","v":""},{"$f":"VALUE(RIGHT(B73,LEN(B73)-SEARCH(\"-\",B73,LEN(C73)+LEN(D73)+2)))","v":48},{"$f":"Input!C84","v":"48\"x48\""},{"$f":"Input!D84","v":"DETOUR AHEAD or __ FT or _ MILE"},{"$f":"Input!E84","v":35},{"$f":"IF(COUNTBLANK(Input!$F$14:$J$14)=5,Input!F84,IF(Input!$F$14=0,0,Input!F84))","v":0},{"$f":"IF(Input!G$14=0,0,Input!G84)","v":0},{"$f":"IF(Input!H$14=0,0,Input!H84)","v":0},{"$f":"IF(Input!I$14=0,0,Input!I84)","v":0},{"$f":"IF(Input!J$14=0,0,Input!J84)","v":0}]
[71,{"$f":"Input!B85","v":"W20-3-48"},{"$f":"IF(B74=0,\"Z\",IF(T(B74)=\"\",CONCATENATE(\"Y\",B74),LEFT(B74,1)))","v":"W"},{"$f":"VALUE(MID(B74,LEN(C74)+1,SEARCH(\"-\",B74)-(LEN(C74)+1)))","v":20},{"$f":"VALUE(IF(LEN(F74)=1,F74,IF(AND(LEN(F74)>1,OR(CODE(MID(F74,2,1))<48,CODE(MID(F74,2,1))>57)),LEFT(F74,1),IF(LEN(F74)=2,F74,IF(OR(CODE(MID(F74,3,1))<48,CODE(MID(F74,3,1))>57),LEFT(F74,2),LEFT(F74,3))))))","v":3},{"$f":"LEFT(RIGHT(B74,LEN(B74)-SEARCH(\"-\",B74)),SEARCH(\"-\",RIGHT(B74,LEN(B74)-SEARCH(\"-\",B74)))-1)","v":"3"},{"$f":"MID(F74,LEN(E74)+1,LEN(F74)-LEN(E74))","v":""},{"$f":"VALUE(RIGHT(B74,LEN(B74)-SEARCH(\"-\",B74,LEN(C74)+LEN(D74)+2)))","v":48},{"$f":"Input!C85","v":"48\"x48\""},{"$f":"Input!D85","v":"ROAD or STREET CLOSED AHEAD or __ FT or _ MILE"},{"$f":"Input!E85","v":35},{"$f":"IF(COUNTBLANK(Input!$F$14:$J$14)=5,Input!F85,IF(Input!$F$14=0,0,Input!F85))","v":0},{"$f":"IF(Input!G$14=0,0,Input!G85)","v":0},{"$f":"IF(Input!H$14=0,0,Input!H85)","v":0},{"$f":"IF(Input!I$14=0,0,Input!I85)","v":0},{"$f":"IF(Input!J$14=0,0,Input!J85)","v":0}]
[72,{"$f":"Input!B86","v":"W20-4-48"},{"$f":"IF(B75=0,\"Z\",IF(T(B75)=\"\",CONCATENATE(\"Y\",B75),LEFT(B75,1)))","v":"W"},{"$f":"VALUE(MID(B75,LEN(C75)+1,SEARCH(\"-\",B75)-(LEN(C75)+1)))","v":20},{"$f":"VALUE(IF(LEN(F75)=1,F75,IF(AND(LEN(F75)>1,OR(CODE(MID(F75,2,1))<48,CODE(MID(F75,2,1))>57)),LEFT(F75,1),IF(LEN(F75)=2,F75,IF(OR(CODE(MID(F75,3,1))<48,CODE(MID(F75,3,1))>57),LEFT(F75,2),LEFT(F75,3))))))","v":4},{"$f":"LEFT(RIGHT(B75,LEN(B75)-SEARCH(\"-\",B75)),SEARCH(\"-\",RIGHT(B75,LEN(B75)-SEARCH(\"-\",B75)))-1)","v":"4"},{"$f":"MID(F75,LEN(E75)+1,LEN(F75)-LEN(E75))","v":""},{"$f":"VALUE(RIGHT(B75,LEN(B75)-SEARCH(\"-\",B75,LEN(C75)+LEN(D75)+2)))","v":48},{"$f":"Input!C86","v":"48\"x48\""},{"$f":"Input!D86","v":"ONE LANE ROAD AHEAD or __ FT or _ MILE"},{"$f":"Input!E86","v":35},{"$f":"IF(COUNTBLANK(Input!$F$14:$J$14)=5,Input!F86,IF(Input!$F$14=0,0,Input!F86))","v":0},{"$f":"IF(Input!G$14=0,0,Input!G86)","v":0},{"$f":"IF(Input!H$14=0,0,Input!H86)","v":0},{"$f":"IF(Input!I$14=0,0,Input!I86)","v":0},{"$f":"IF(Input!J$14=0,0,Input!J86)","v":0}]
[73,{"$f":"Input!B87","v":"W20-5-48"},{"$f":"IF(B76=0,\"Z\",IF(T(B76)=\"\",CONCATENATE(\"Y\",B76),LEFT(B76,1)))","v":"W"},{"$f":"VALUE(MID(B76,LEN(C76)+1,SEARCH(\"-\",B76)-(LEN(C76)+1)))","v":20},{"$f":"VALUE(IF(LEN(F76)=1,F76,IF(AND(LEN(F76)>1,OR(CODE(MID(F76,2,1))<48,CODE(MID(F76,2,1))>57)),LEFT(F76,1),IF(LEN(F76)=2,F76,IF(OR(CODE(MID(F76,3,1))<48,CODE(MID(F76,3,1))>57),LEFT(F76,2),LEFT(F76,3))))))","v":5},{"$f":"LEFT(RIGHT(B76,LEN(B76)-SEARCH(\"-\",B76)),SEARCH(\"-\",RIGHT(B76,LEN(B76)-SEARCH(\"-\",B76)))-1)","v":"5"},{"$f":"MID(F76,LEN(E76)+1,LEN(F76)-LEN(E76))","v":""},{"$f":"VALUE(RIGHT(B76,LEN(B76)-SEARCH(\"-\",B76,LEN(C76)+LEN(D76)+2)))","v":48},{"$f":"Input!C87","v":"48\"x48\""},{"$f":"Input!D87","v":"RIGHT or CENTER or LEFT LANE CLOSED AHEAD or __ FT or _ MILE"},{"$f":"Input!E87","v":35},{"$f":"IF(COUNTBLANK(Input!$F$14:$J$14)=5,Input!F87,IF(Input!$F$14=0,0,Input!F87))","v":0},{"$f":"IF(Input!G$14=0,0,Input!G87)","v":0},{"$f":"IF(Input!H$14=0,0,Input!H87)","v":0},{"$f":"IF(Input!I$14=0,0,Input!I87)","v":0},{"$f":"IF(Input!J$14=0,0,Input!J87)","v":0}]
[74,{"$f":"Input!B88","v":"W20-7-48"},{"$f":"IF(B77=0,\"Z\",IF(T(B77)=\"\",CONCATENATE(\"Y\",B77),LEFT(B77,1)))","v":"W"},{"$f":"VALUE(MID(B77,LEN(C77)+1,SEARCH(\"-\",B77)-(LEN(C77)+1)))","v":20},{"$f":"VALUE(IF(LEN(F77)=1,F77,IF(AND(LEN(F77)>1,OR(CODE(MID(F77,2,1))<48,CODE(MID(F77,2,1))>57)),LEFT(F77,1),IF(LEN(F77)=2,F77,IF(OR(CODE(MID(F77,3,1))<48,CODE(MID(F77,3,1))>57),LEFT(F77,2),LEFT(F77,3))))))","v":7},{"$f":"LEFT(RIGHT(B77,LEN(B77)-SEARCH(\"-\",B77)),SEARCH(\"-\",RIGHT(B77,LEN(B77)-SEARCH(\"-\",B77)))-1)","v":"7"},{"$f":"MID(F77,LEN(E77)+1,LEN(F77)-LEN(E77))","v":""},{"$f":"VALUE(RIGHT(B77,LEN(B77)-SEARCH(\"-\",B77,LEN(C77)+LEN(D77)+2)))","v":48},{"$f":"Input!C88","v":"48\"x48\""},{"$f":"Input!D88","v":"FLAGGER"},{"$f":"Input!E88","v":35},{"$f":"IF(COUNTBLANK(Input!$F$14:$J$14)=5,Input!F88,IF(Input!$F$14=0,0,Input!F88))","v":0},{"$f":"IF(Input!G$14=0,0,Input!G88)","v":0},{"$f":"IF(Input!H$14=0,0,Input!H88)","v":0},{"$f":"IF(Input!I$14=0,0,Input!I88)","v":0},{"$f":"IF(Input!J$14=0,0,Input!J88)","v":0}]
[75,{"$f":"Input!B89","v":"W20-8-18"},{"$f":"IF(B78=0,\"Z\",IF(T(B78)=\"\",CONCATENATE(\"Y\",B78),LEFT(B78,1)))","v":"W"},{"$f":"VALUE(MID(B78,LEN(C78)+1,SEARCH(\"-\",B78)-(LEN(C78)+1)))","v":20},{"$f":"VALUE(IF(LEN(F78)=1,F78,IF(AND(LEN(F78)>1,OR(CODE(MID(F78,2,1))<48,CODE(MID(F78,2,1))>57)),LEFT(F78,1),IF(LEN(F78)=2,F78,IF(OR(CODE(MID(F78,3,1))<48,CODE(MID(F78,3,1))>57),LEFT(F78,2),LEFT(F78,3))))))","v":8},{"$f":"LEFT(RIGHT(B78,LEN(B78)-SEARCH(\"-\",B78)),SEARCH(\"-\",RIGHT(B78,LEN(B78)-SEARCH(\"-\",B78)))-1)","v":"8"},{"$f":"MID(F78,LEN(E78)+1,LEN(F78)-LEN(E78))","v":""},{"$f":"VALUE(RIGHT(B78,LEN(B78)-SEARCH(\"-\",B78,LEN(C78)+LEN(D78)+2)))","v":18},{"$f":"Input!C89","v":"18\"x18\""},{"$f":"Input!D89","v":"STOP - SLOW PADDLE Back to Back"},{"$f":"Input!E89","v":5},{"$f":"IF(COUNTBLANK(Input!$F$14:$J$14)=5,Input!F89,IF(Input!$F$14=0,0,Input!F89))","v":0},{"$f":"IF(Input!G$14=0,0,Input!G89)","v":0},{"$f":"IF(Input!H$14=0,0,Input!H89)","v":0},{"$f":"IF(Input!I$14=0,0,Input!I89)","v":0},{"$f":"IF(Input!J$14=0,0,Input!J89)","v":0}]
[76,{"$f":"Input!B90","v":"W20-52P-54"},{"$f":"IF(B79=0,\"Z\",IF(T(B79)=\"\",CONCATENATE(\"Y\",B79),LEFT(B79,1)))","v":"W"},{"$f":"VALUE(MID(B79,LEN(C79)+1,SEARCH(\"-\",B79)-(LEN(C79)+1)))","v":20},{"$f":"VALUE(IF(LEN(F79)=1,F79,IF(AND(LEN(F79)>1,OR(CODE(MID(F79,2,1))<48,CODE(MID(F79,2,1))>57)),LEFT(F79,1),IF(LEN(F79)=2,F79,IF(OR(CODE(MID(F79,3,1))<48,CODE(MID(F79,3,1))>57),LEFT(F79,2),LEFT(F79,3))))))","v":52},{"$f":"LEFT(RIGHT(B79,LEN(B79)-SEARCH(\"-\",B79)),SEARCH(\"-\",RIGHT(B79,LEN(B79)-SEARCH(\"-\",B79)))-1)","v":"52P"},{"$f":"MID(F79,LEN(E79)+1,LEN(F79)-LEN(E79))","v":"P"},{"$f":"VALUE(RIGHT(B79,LEN(B79)-SEARCH(\"-\",B79,LEN(C79)+LEN(D79)+2)))","v":54},{"$f":"Input!C90","v":"54\"x12\""},{"$f":"Input!D90","v":"NEXT __ MILES (Mounted on warning sign post)"},{"$f":"Input!E90","v":12},{"$f":"IF(COUNTBLANK(Input!$F$14:$J$14)=5,Input!F90,IF(Input!$F$14=0,0,Input!F90))","v":0},{"$f":"IF(Input!G$14=0,0,Input!G90)","v":0},{"$f":"IF(Input!H$14=0,0,Input!H90)","v":0},{"$f":"IF(Input!I$14=0,0,Input!I90)","v":0},{"$f":"IF(Input!J$14=0,0,Input!J90)","v":0}]
[77,{"$f":"Input!B91","v":"W21-1-48"},{"$f":"IF(B80=0,\"Z\",IF(T(B80)=\"\",CONCATENATE(\"Y\",B80),LEFT(B80,1)))","v":"W"},{"$f":"VALUE(MID(B80,LEN(C80)+1,SEARCH(\"-\",B80)-(LEN(C80)+1)))","v":21},{"$f":"VALUE(IF(LEN(F80)=1,F80,IF(AND(LEN(F80)>1,OR(CODE(MID(F80,2,1))<48,CODE(MID(F80,2,1))>57)),LEFT(F80,1),IF(LEN(F80)=2,F80,IF(OR(CODE(MID(F80,3,1))<48,CODE(MID(F80,3,1))>57),LEFT(F80,2),LEFT(F80,3))))))","v":1},{"$f":"LEFT(RIGHT(B80,LEN(B80)-SEARCH(\"-\",B80)),SEARCH(\"-\",RIGHT(B80,LEN(B80)-SEARCH(\"-\",B80)))-1)","v":"1"},{"$f":"MID(F80,LEN(E80)+1,LEN(F80)-LEN(E80))","v":""},{"$f":"VALUE(RIGHT(B80,LEN(B80)-SEARCH(\"-\",B80,LEN(C80)+LEN(D80)+2)))","v":48},{"$f":"Input!C91","v":"48\"x48\""},{"$f":"Input!D91","v":"WORKERS"},{"$f":"Input!E91","v":35},{"$f":"IF(COUNTBLANK(Input!$F$14:$J$14)=5,Input!F91,IF(Input!$F$14=0,0,Input!F91))","v":0},{"$f":"IF(Input!G$14=0,0,Input!G91)","v":0},{"$f":"IF(Input!H$14=0,0,Input!H91)","v":0},{"$f":"IF(Input!I$14=0,0,Input!I91)","v":0},{"$f":"IF(Input!J$14=0,0,Input!J91)","v":0}]
[78,{"$f":"Input!B92","v":"W21-2-48"},{"$f":"IF(B81=0,\"Z\",IF(T(B81)=\"\",CONCATENATE(\"Y\",B81),LEFT(B81,1)))","v":"W"},{"$f":"VALUE(MID(B81,LEN(C81)+1,SEARCH(\"-\",B81)-(LEN(C81)+1)))","v":21},{"$f":"VALUE(IF(LEN(F81)=1,F81,IF(AND(LEN(F81)>1,OR(CODE(MID(F81,2,1))<48,CODE(MID(F81,2,1))>57)),LEFT(F81,1),IF(LEN(F81)=2,F81,IF(OR(CODE(MID(F81,3,1))<48,CODE(MID(F81,3,1))>57),LEFT(F81,2),LEFT(F81,3))))))","v":2},{"$f":"LEFT(RIGHT(B81,LEN(B81)-SEARCH(\"-\",B81)),SEARCH(\"-\",RIGHT(B81,LEN(B81)-SEARCH(\"-\",B81)))-1)","v":"2"},{"$f":"MID(F81,LEN(E81)+1,LEN(F81)-LEN(E81))","v":""},{"$f":"VALUE(RIGHT(B81,LEN(B81)-SEARCH(\"-\",B81,LEN(C81)+LEN(D81)+2)))","v":48},{"$f":"Input!C92","v":"48\"x48\""},{"$f":"Input!D92","v":"FRESH OIL"},{"$f":"Input!E92","v":35},{"$f":"IF(COUNTBLANK(Input!$F$14:$J$14)=5,Input!F92,IF(Input!$F$14=0,0,Input!F92))","v":0},{"$f":"IF(Input!G$14=0,0,Input!G92)","v":0},{"$f":"IF(Input!H$14=0,0,Input!H92)","v":0},{"$f":"IF(Input!I$14=0,0,Input!I92)","v":0},{"$f":"IF(Input!J$14=0,0,Input!J92)","v":0}]
[79,{"$f":"Input!B93","v":"W21-3-48"},{"$f":"IF(B82=0,\"Z\",IF(T(B82)=\"\",CONCATENATE(\"Y\",B82),LEFT(B82,1)))","v":"W"},{"$f":"VALUE(MID(B82,LEN(C82)+1,SEARCH(\"-\",B82)-(LEN(C82)+1)))","v":21},{"$f":"VALUE(IF(LEN(F82)=1,F82,IF(AND(LEN(F82)>1,OR(CODE(MID(F82,2,1))<48,CODE(MID(F82,2,1))>57)),LEFT(F82,1),IF(LEN(F82)=2,F82,IF(OR(CODE(MID(F82,3,1))<48,CODE(MID(F82,3,1))>57),LEFT(F82,2),LEFT(F82,3))))))","v":3},{"$f":"LEFT(RIGHT(B82,LEN(B82)-SEARCH(\"-\",B82)),SEARCH(\"-\",RIGHT(B82,LEN(B82)-SEARCH(\"-\",B82)))-1)","v":"3"},{"$f":"MID(F82,LEN(E82)+1,LEN(F82)-LEN(E82))","v":""},{"$f":"VALUE(RIGHT(B82,LEN(B82)-SEARCH(\"-\",B82,LEN(C82)+LEN(D82)+2)))","v":48},{"$f":"Input!C93","v":"48\"x48\""},{"$f":"Input!D93","v":"ROAD MACHINERY AHEAD  or __ FT or _ MILE"},{"$f":"Input!E93","v":35},{"$f":"IF(COUNTBLANK(Input!$F$14:$J$14)=5,Input!F93,IF(Input!$F$14=0,0,Input!F93))","v":0},{"$f":"IF(Input!G$14=0,0,Input!G93)","v":0},{"$f":"IF(Input!H$14=0,0,Input!H93)","v":0},{"$f":"IF(Input!I$14=0,0,Input!I93)","v":0},{"$f":"IF(Input!J$14=0,0,Input!J93)","v":0}]
[80,{"$f":"Input!B94","v":"W21-5-48"},{"$f":"IF(B83=0,\"Z\",IF(T(B83)=\"\",CONCATENATE(\"Y\",B83),LEFT(B83,1)))","v":"W"},{"$f":"VALUE(MID(B83,LEN(C83)+1,SEARCH(\"-\",B83)-(LEN(C83)+1)))","v":21},{"$f":"VALUE(IF(LEN(F83)=1,F83,IF(AND(LEN(F83)>1,OR(CODE(MID(F83,2,1))<48,CODE(MID(F83,2,1))>57)),LEFT(F83,1),IF(LEN(F83)=2,F83,IF(OR(CODE(MID(F83,3,1))<48,CODE(MID(F83,3,1))>57),LEFT(F83,2),LEFT(F83,3))))))","v":5},{"$f":"LEFT(RIGHT(B83,LEN(B83)-SEARCH(\"-\",B83)),SEARCH(\"-\",RIGHT(B83,LEN(B83)-SEARCH(\"-\",B83)))-1)","v":"5"},{"$f":"MID(F83,LEN(E83)+1,LEN(F83)-LEN(E83))","v":""},{"$f":"VALUE(RIGHT(B83,LEN(B83)-SEARCH(\"-\",B83,LEN(C83)+LEN(D83)+2)))","v":48},{"$f":"Input!C94","v":"48\"x48\""},{"$f":"Input!D94","v":"SHOULDER WORK"},{"$f":"Input!E94","v":35},{"$f":"IF(COUNTBLANK(Input!$F$14:$J$14)=5,Input!F94,IF(Input!$F$14=0,0,Input!F94))","v":0},{"$f":"IF(Input!G$14=0,0,Input!G94)","v":0},{"$f":"IF(Input!H$14=0,0,Input!H94)","v":0},{"$f":"IF(Input!I$14=0,0,Input!I94)","v":0},{"$f":"IF(Input!J$14=0,0,Input!J94)","v":0}]
[81,{"$f":"Input!B95","v":"W21-5a-48"},{"$f":"IF(B84=0,\"Z\",IF(T(B84)=\"\",CONCATENATE(\"Y\",B84),LEFT(B84,1)))","v":"W"},{"$f":"VALUE(MID(B84,LEN(C84)+1,SEARCH(\"-\",B84)-(LEN(C84)+1)))","v":21},{"$f":"VALUE(IF(LEN(F84)=1,F84,IF(AND(LEN(F84)>1,OR(CODE(MID(F84,2,1))<48,CODE(MID(F84,2,1))>57)),LEFT(F84,1),IF(LEN(F84)=2,F84,IF(OR(CODE(MID(F84,3,1))<48,CODE(MID(F84,3,1))>57),LEFT(F84,2),LEFT(F84,3))))))","v":5},{"$f":"LEFT(RIGHT(B84,LEN(B84)-SEARCH(\"-\",B84)),SEARCH(\"-\",RIGHT(B84,LEN(B84)-SEARCH(\"-\",B84)))-1)","v":"5a"},{"$f":"MID(F84,LEN(E84)+1,LEN(F84)-LEN(E84))","v":"a"},{"$f":"VALUE(RIGHT(B84,LEN(B84)-SEARCH(\"-\",B84,LEN(C84)+LEN(D84)+2)))","v":48},{"$f":"Input!C95","v":"48\"x48\""},{"$f":"Input!D95","v":"RIGHT or LEFT SHOULDER CLOSED"},{"$f":"Input!E95","v":35},{"$f":"IF(COUNTBLANK(Input!$F$14:$J$14)=5,Input!F95,IF(Input!$F$14=0,0,Input!F95))","v":0},{"$f":"IF(Input!G$14=0,0,Input!G95)","v":0},{"$f":"IF(Input!H$14=0,0,Input!H95)","v":0},{"$f":"IF(Input!I$14=0,0,Input!I95)","v":0},{"$f":"IF(Input!J$14=0,0,Input!J95)","v":0}]
[82,{"$f":"Input!B96","v":"W21-5b-48"},{"$f":"IF(B85=0,\"Z\",IF(T(B85)=\"\",CONCATENATE(\"Y\",B85),LEFT(B85,1)))","v":"W"},{"$f":"VALUE(MID(B85,LEN(C85)+1,SEARCH(\"-\",B85)-(LEN(C85)+1)))","v":21},{"$f":"VALUE(IF(LEN(F85)=1,F85,IF(AND(LEN(F85)>1,OR(CODE(MID(F85,2,1))<48,CODE(MID(F85,2,1))>57)),LEFT(F85,1),IF(LEN(F85)=2,F85,IF(OR(CODE(MID(F85,3,1))<48,CODE(MID(F85,3,1))>57),LEFT(F85,2),LEFT(F85,3))))))","v":5},{"$f":"LEFT(RIGHT(B85,LEN(B85)-SEARCH(\"-\",B85)),SEARCH(\"-\",RIGHT(B85,LEN(B85)-SEARCH(\"-\",B85)))-1)","v":"5b"},{"$f":"MID(F85,LEN(E85)+1,LEN(F85)-LEN(E85))","v":"b"},{"$f":"VALUE(RIGHT(B85,LEN(B85)-SEARCH(\"-\",B85,LEN(C85)+LEN(D85)+2)))","v":48},{"$f":"Input!C96","v":"48\"x48\""},{"$f":"Input!D96","v":"RIGHT or LEFT SHOULDER CLOSED AHEAD or __ FT or _ MILE"},{"$f":"Input!E96","v":35},{"$f":"IF(COUNTBLANK(Input!$F$14:$J$14)=5,Input!F96,IF(Input!$F$14=0,0,Input!F96))","v":0},{"$f":"IF(Input!G$14=0,0,Input!G96)","v":0},{"$f":"IF(Input!H$14=0,0,Input!H96)","v":0},{"$f":"IF(Input!I$14=0,0,Input!I96)","v":0},{"$f":"IF(Input!J$14=0,0,Input!J96)","v":0}]
[83,{"$f":"Input!B97","v":"W21-6-48"},{"$f":"IF(B86=0,\"Z\",IF(T(B86)=\"\",CONCATENATE(\"Y\",B86),LEFT(B86,1)))","v":"W"},{"$f":"VALUE(MID(B86,LEN(C86)+1,SEARCH(\"-\",B86)-(LEN(C86)+1)))","v":21},{"$f":"VALUE(IF(LEN(F86)=1,F86,IF(AND(LEN(F86)>1,OR(CODE(MID(F86,2,1))<48,CODE(MID(F86,2,1))>57)),LEFT(F86,1),IF(LEN(F86)=2,F86,IF(OR(CODE(MID(F86,3,1))<48,CODE(MID(F86,3,1))>57),LEFT(F86,2),LEFT(F86,3))))))","v":6},{"$f":"LEFT(RIGHT(B86,LEN(B86)-SEARCH(\"-\",B86)),SEARCH(\"-\",RIGHT(B86,LEN(B86)-SEARCH(\"-\",B86)))-1)","v":"6"},{"$f":"MID(F86,LEN(E86)+1,LEN(F86)-LEN(E86))","v":""},{"$f":"VALUE(RIGHT(B86,LEN(B86)-SEARCH(\"-\",B86,LEN(C86)+LEN(D86)+2)))","v":48},{"$f":"Input!C97","v":"48\"x48\""},{"$f":"Input!D97","v":"SURVEY CREW"},{"$f":"Input!E97","v":35},{"$f":"IF(COUNTBLANK(Input!$F$14:$J$14)=5,Input!F97,IF(Input!$F$14=0,0,Input!F97))","v":0},{"$f":"IF(Input!G$14=0,0,Input!G97)","v":0},{"$f":"IF(Input!H$14=0,0,Input!H97)","v":0},{"$f":"IF(Input!I$14=0,0,Input!I97)","v":0},{"$f":"IF(Input!J$14=0,0,Input!J97)","v":0}]
[84,{"$f":"Input!B98","v":"W21-50-48"},{"$f":"IF(B87=0,\"Z\",IF(T(B87)=\"\",CONCATENATE(\"Y\",B87),LEFT(B87,1)))","v":"W"},{"$f":"VALUE(MID(B87,LEN(C87)+1,SEARCH(\"-\",B87)-(LEN(C87)+1)))","v":21},{"$f":"VALUE(IF(LEN(F87)=1,F87,IF(AND(LEN(F87)>1,OR(CODE(MID(F87,2,1))<48,CODE(MID(F87,2,1))>57)),LEFT(F87,1),IF(LEN(F87)=2,F87,IF(OR(CODE(MID(F87,3,1))<48,CODE(MID(F87,3,1))>57),LEFT(F87,2),LEFT(F87,3))))))","v":50},{"$f":"LEFT(RIGHT(B87,LEN(B87)-SEARCH(\"-\",B87)),SEARCH(\"-\",RIGHT(B87,LEN(B87)-SEARCH(\"-\",B87)))-1)","v":"50"},{"$f":"MID(F87,LEN(E87)+1,LEN(F87)-LEN(E87))","v":""},{"$f":"VALUE(RIGHT(B87,LEN(B87)-SEARCH(\"-\",B87,LEN(C87)+LEN(D87)+2)))","v":48},{"$f":"Input!C98","v":"48\"x48\""},{"$f":"Input!D98","v":"BRIDGE PAINTING AHEAD or __ FT"},{"$f":"Input!E98","v":35},{"$f":"IF(COUNTBLANK(Input!$F$14:$J$14)=5,Input!F98,IF(Input!$F$14=0,0,Input!F98))","v":0},{"$f":"IF(Input!G$14=0,0,Input!G98)","v":0},{"$f":"IF(Input!H$14=0,0,Input!H98)","v":0},{"$f":"IF(Input!I$14=0,0,Input!I98)","v":0},{"$f":"IF(Input!J$14=0,0,Input!J98)","v":0}]
[85,{"$f":"Input!B99","v":"W21-51-48"},{"$f":"IF(B88=0,\"Z\",IF(T(B88)=\"\",CONCATENATE(\"Y\",B88),LEFT(B88,1)))","v":"W"},{"$f":"VALUE(MID(B88,LEN(C88)+1,SEARCH(\"-\",B88)-(LEN(C88)+1)))","v":21},{"$f":"VALUE(IF(LEN(F88)=1,F88,IF(AND(LEN(F88)>1,OR(CODE(MID(F88,2,1))<48,CODE(MID(F88,2,1))>57)),LEFT(F88,1),IF(LEN(F88)=2,F88,IF(OR(CODE(MID(F88,3,1))<48,CODE(MID(F88,3,1))>57),LEFT(F88,2),LEFT(F88,3))))))","v":51},{"$f":"LEFT(RIGHT(B88,LEN(B88)-SEARCH(\"-\",B88)),SEARCH(\"-\",RIGHT(B88,LEN(B88)-SEARCH(\"-\",B88)))-1)","v":"51"},{"$f":"MID(F88,LEN(E88)+1,LEN(F88)-LEN(E88))","v":""},{"$f":"VALUE(RIGHT(B88,LEN(B88)-SEARCH(\"-\",B88,LEN(C88)+LEN(D88)+2)))","v":48},{"$f":"Input!C99","v":"48\"x48\""},{"$f":"Input!D99","v":"MATERIAL ON ROADWAY"},{"$f":"Input!E99","v":35},{"$f":"IF(COUNTBLANK(Input!$F$14:$J$14)=5,Input!F99,IF(Input!$F$14=0,0,Input!F99))","v":0},{"$f":"IF(Input!G$14=0,0,Input!G99)","v":0},{"$f":"IF(Input!H$14=0,0,Input!H99)","v":0},{"$f":"IF(Input!I$14=0,0,Input!I99)","v":0},{"$f":"IF(Input!J$14=0,0,Input!J99)","v":0}]
[86,{"$f":"Input!B100","v":"W21-52-48"},{"$f":"IF(B89=0,\"Z\",IF(T(B89)=\"\",CONCATENATE(\"Y\",B89),LEFT(B89,1)))","v":"W"},{"$f":"VALUE(MID(B89,LEN(C89)+1,SEARCH(\"-\",B89)-(LEN(C89)+1)))","v":21},{"$f":"VALUE(IF(LEN(F89)=1,F89,IF(AND(LEN(F89)>1,OR(CODE(MID(F89,2,1))<48,CODE(MID(F89,2,1))>57)),LEFT(F89,1),IF(LEN(F89)=2,F89,IF(OR(CODE(MID(F89,3,1))<48,CODE(MID(F89,3,1))>57),LEFT(F89,2),LEFT(F89,3))))))","v":52},{"$f":"LEFT(RIGHT(B89,LEN(B89)-SEARCH(\"-\",B89)),SEARCH(\"-\",RIGHT(B89,LEN(B89)-SEARCH(\"-\",B89)))-1)","v":"52"},{"$f":"MID(F89,LEN(E89)+1,LEN(F89)-LEN(E89))","v":""},{"$f":"VALUE(RIGHT(B89,LEN(B89)-SEARCH(\"-\",B89,LEN(C89)+LEN(D89)+2)))","v":48},{"$f":"Input!C100","v":"48\"x48\""},{"$f":"Input!D100","v":"PAVEMENT BREAKS"},{"$f":"Input!E100","v":35},{"$f":"IF(COUNTBLANK(Input!$F$14:$J$14)=5,Input!F100,IF(Input!$F$14=0,0,Input!F100))","v":0},{"$f":"IF(Input!G$14=0,0,Input!G100)","v":0},{"$f":"IF(Input!H$14=0,0,Input!H100)","v":0},{"$f":"IF(Input!I$14=0,0,Input!I100)","v":0},{"$f":"IF(Input!J$14=0,0,Input!J100)","v":0}]
[87,{"$f":"Input!B101","v":"W21-53-48"},{"$f":"IF(B90=0,\"Z\",IF(T(B90)=\"\",CONCATENATE(\"Y\",B90),LEFT(B90,1)))","v":"W"},{"$f":"VALUE(MID(B90,LEN(C90)+1,SEARCH(\"-\",B90)-(LEN(C90)+1)))","v":21},{"$f":"VALUE(IF(LEN(F90)=1,F90,IF(AND(LEN(F90)>1,OR(CODE(MID(F90,2,1))<48,CODE(MID(F90,2,1))>57)),LEFT(F90,1),IF(LEN(F90)=2,F90,IF(OR(CODE(MID(F90,3,1))<48,CODE(MID(F90,3,1))>57),LEFT(F90,2),LEFT(F90,3))))))","v":53},{"$f":"LEFT(RIGHT(B90,LEN(B90)-SEARCH(\"-\",B90)),SEARCH(\"-\",RIGHT(B90,LEN(B90)-SEARCH(\"-\",B90)))-1)","v":"53"},{"$f":"MID(F90,LEN(E90)+1,LEN(F90)-LEN(E90))","v":""},{"$f":"VALUE(RIGHT(B90,LEN(B90)-SEARCH(\"-\",B90,LEN(C90)+LEN(D90)+2)))","v":48},{"$f":"Input!C101","v":"48\"x48\""},{"$f":"Input!D101","v":"RUMBLE STRIPS AHEAD"},{"$f":"Input!E101","v":35},{"$f":"IF(COUNTBLANK(Input!$F$14:$J$14)=5,Input!F101,IF(Input!$F$14=0,0,Input!F101))","v":0},{"$f":"IF(Input!G$14=0,0,Input!G101)","v":0},{"$f":"IF(Input!H$14=0,0,Input!H101)","v":0},{"$f":"IF(Input!I$14=0,0,Input!I101)","v":0},{"$f":"IF(Input!J$14=0,0,Input!J101)","v":0}]
[88,{"$f":"Input!B102","v":"W22-8-48"},{"$f":"IF(B91=0,\"Z\",IF(T(B91)=\"\",CONCATENATE(\"Y\",B91),LEFT(B91,1)))","v":"W"},{"$f":"VALUE(MID(B91,LEN(C91)+1,SEARCH(\"-\",B91)-(LEN(C91)+1)))","v":22},{"$f":"VALUE(IF(LEN(F91)=1,F91,IF(AND(LEN(F91)>1,OR(CODE(MID(F91,2,1))<48,CODE(MID(F91,2,1))>57)),LEFT(F91,1),IF(LEN(F91)=2,F91,IF(OR(CODE(MID(F91,3,1))<48,CODE(MID(F91,3,1))>57),LEFT(F91,2),LEFT(F91,3))))))","v":8},{"$f":"LEFT(RIGHT(B91,LEN(B91)-SEARCH(\"-\",B91)),SEARCH(\"-\",RIGHT(B91,LEN(B91)-SEARCH(\"-\",B91)))-1)","v":"8"},{"$f":"MID(F91,LEN(E91)+1,LEN(F91)-LEN(E91))","v":""},{"$f":"VALUE(RIGHT(B91,LEN(B91)-SEARCH(\"-\",B91,LEN(C91)+LEN(D91)+2)))","v":48},{"$f":"Input!C102","v":"48\"x48\""},{"$f":"Input!D102","v":"FRESH OIL LOOSE ROCK"},{"$f":"Input!E102","v":35},{"$f":"IF(COUNTBLANK(Input!$F$14:$J$14)=5,Input!F102,IF(Input!$F$14=0,0,Input!F102))","v":0},{"$f":"IF(Input!G$14=0,0,Input!G102)","v":0},{"$f":"IF(Input!H$14=0,0,Input!H102)","v":0},{"$f":"IF(Input!I$14=0,0,Input!I102)","v":0},{"$f":"IF(Input!J$14=0,0,Input!J102)","v":0}]
[89,{"$f":"Input!B103","v":"W24-1-48"},{"$f":"IF(B92=0,\"Z\",IF(T(B92)=\"\",CONCATENATE(\"Y\",B92),LEFT(B92,1)))","v":"W"},{"$f":"VALUE(MID(B92,LEN(C92)+1,SEARCH(\"-\",B92)-(LEN(C92)+1)))","v":24},{"$f":"VALUE(IF(LEN(F92)=1,F92,IF(AND(LEN(F92)>1,OR(CODE(MID(F92,2,1))<48,CODE(MID(F92,2,1))>57)),LEFT(F92,1),IF(LEN(F92)=2,F92,IF(OR(CODE(MID(F92,3,1))<48,CODE(MID(F92,3,1))>57),LEFT(F92,2),LEFT(F92,3))))))","v":1},{"$f":"LEFT(RIGHT(B92,LEN(B92)-SEARCH(\"-\",B92)),SEARCH(\"-\",RIGHT(B92,LEN(B92)-SEARCH(\"-\",B92)))-1)","v":"1"},{"$f":"MID(F92,LEN(E92)+1,LEN(F92)-LEN(E92))","v":""},{"$f":"VALUE(RIGHT(B92,LEN(B92)-SEARCH(\"-\",B92,LEN(C92)+LEN(D92)+2)))","v":48},{"$f":"Input!C103","v":"48\"x48\""},{"$f":"Input!D103","v":"DOUBLE REVERSE CURVE"},{"$f":"Input!E103","v":35},{"$f":"IF(COUNTBLANK(Input!$F$14:$J$14)=5,Input!F103,IF(Input!$F$14=0,0,Input!F103))","v":0},{"$f":"IF(Input!G$14=0,0,Input!G103)","v":0},{"$f":"IF(Input!H$14=0,0,Input!H103)","v":0},{"$f":"IF(Input!I$14=0,0,Input!I103)","v":0},{"$f":"IF(Input!J$14=0,0,Input!J103)","v":0}]
[90,{"$f":"Input!B104","v":0},{"$f":"IF(B93=0,\"Z\",IF(T(B93)=\"\",CONCATENATE(\"Y\",B93),LEFT(B93,1)))","v":"Z"},{"$f":"VALUE(MID(B93,LEN(C93)+1,SEARCH(\"-\",B93)-(LEN(C93)+1)))","v":{"$error":"#VALUE!"}},{"$f":"VALUE(IF(LEN(F93)=1,F93,IF(AND(LEN(F93)>1,OR(CODE(MID(F93,2,1))<48,CODE(MID(F93,2,1))>57)),LEFT(F93,1),IF(LEN(F93)=2,F93,IF(OR(CODE(MID(F93,3,1))<48,CODE(MID(F93,3,1))>57),LEFT(F93,2),LEFT(F93,3))))))","v":{"$error":"#VALUE!"}},{"$f":"LEFT(RIGHT(B93,LEN(B93)-SEARCH(\"-\",B93)),SEARCH(\"-\",RIGHT(B93,LEN(B93)-SEARCH(\"-\",B93)))-1)","v":{"$error":"#VALUE!"}},{"$f":"MID(F93,LEN(E93)+1,LEN(F93)-LEN(E93))","v":{"$error":"#VALUE!"}},{"$f":"VALUE(RIGHT(B93,LEN(B93)-SEARCH(\"-\",B93,LEN(C93)+LEN(D93)+2)))","v":{"$error":"#VALUE!"}},{"$f":"Input!C104","v":0},{"$f":"Input!D104","v":0},{"$f":"Input!E104","v":0},{"$f":"IF(COUNTBLANK(Input!$F$14:$J$14)=5,Input!F104,IF(Input!$F$14=0,0,Input!F104))","v":0},{"$f":"IF(Input!G$14=0,0,Input!G104)","v":0},{"$f":"IF(Input!H$14=0,0,Input!H104)","v":0},{"$f":"IF(Input!I$14=0,0,Input!I104)","v":0},{"$f":"IF(Input!J$14=0,0,Input!J104)","v":0}]
[91,{"$f":"Input!B105","v":0},{"$f":"IF(B94=0,\"Z\",IF(T(B94)=\"\",CONCATENATE(\"Y\",B94),LEFT(B94,1)))","v":"Z"},{"$f":"VALUE(MID(B94,LEN(C94)+1,SEARCH(\"-\",B94)-(LEN(C94)+1)))","v":{"$error":"#VALUE!"}},{"$f":"VALUE(IF(LEN(F94)=1,F94,IF(AND(LEN(F94)>1,OR(CODE(MID(F94,2,1))<48,CODE(MID(F94,2,1))>57)),LEFT(F94,1),IF(LEN(F94)=2,F94,IF(OR(CODE(MID(F94,3,1))<48,CODE(MID(F94,3,1))>57),LEFT(F94,2),LEFT(F94,3))))))","v":{"$error":"#VALUE!"}},{"$f":"LEFT(RIGHT(B94,LEN(B94)-SEARCH(\"-\",B94)),SEARCH(\"-\",RIGHT(B94,LEN(B94)-SEARCH(\"-\",B94)))-1)","v":{"$error":"#VALUE!"}},{"$f":"MID(F94,LEN(E94)+1,LEN(F94)-LEN(E94))","v":{"$error":"#VALUE!"}},{"$f":"VALUE(RIGHT(B94,LEN(B94)-SEARCH(\"-\",B94,LEN(C94)+LEN(D94)+2)))","v":{"$error":"#VALUE!"}},{"$f":"Input!C105","v":0},{"$f":"Input!D105","v":0},{"$f":"Input!E105","v":0},{"$f":"IF(COUNTBLANK(Input!$F$14:$J$14)=5,Input!F105,IF(Input!$F$14=0,0,Input!F105))","v":0},{"$f":"IF(Input!G$14=0,0,Input!G105)","v":0},{"$f":"IF(Input!H$14=0,0,Input!H105)","v":0},{"$f":"IF(Input!I$14=0,0,Input!I105)","v":0},{"$f":"IF(Input!J$14=0,0,Input!J105)","v":0}]
[92,{"$f":"Input!B106","v":0},{"$f":"IF(B95=0,\"Z\",IF(T(B95)=\"\",CONCATENATE(\"Y\",B95),LEFT(B95,1)))","v":"Z"},{"$f":"VALUE(MID(B95,LEN(C95)+1,SEARCH(\"-\",B95)-(LEN(C95)+1)))","v":{"$error":"#VALUE!"}},{"$f":"VALUE(IF(LEN(F95)=1,F95,IF(AND(LEN(F95)>1,OR(CODE(MID(F95,2,1))<48,CODE(MID(F95,2,1))>57)),LEFT(F95,1),IF(LEN(F95)=2,F95,IF(OR(CODE(MID(F95,3,1))<48,CODE(MID(F95,3,1))>57),LEFT(F95,2),LEFT(F95,3))))))","v":{"$error":"#VALUE!"}},{"$f":"LEFT(RIGHT(B95,LEN(B95)-SEARCH(\"-\",B95)),SEARCH(\"-\",RIGHT(B95,LEN(B95)-SEARCH(\"-\",B95)))-1)","v":{"$error":"#VALUE!"}},{"$f":"MID(F95,LEN(E95)+1,LEN(F95)-LEN(E95))","v":{"$error":"#VALUE!"}},{"$f":"VALUE(RIGHT(B95,LEN(B95)-SEARCH(\"-\",B95,LEN(C95)+LEN(D95)+2)))","v":{"$error":"#VALUE!"}},{"$f":"Input!C106","v":0},{"$f":"Input!D106","v":0},{"$f":"Input!E106","v":0},{"$f":"IF(COUNTBLANK(Input!$F$14:$J$14)=5,Input!F106,IF(Input!$F$14=0,0,Input!F106))","v":0},{"$f":"IF(Input!G$14=0,0,Input!G106)","v":0},{"$f":"IF(Input!H$14=0,0,Input!H106)","v":0},{"$f":"IF(Input!I$14=0,0,Input!I106)","v":0},{"$f":"IF(Input!J$14=0,0,Input!J106)","v":0}]
[93,{"$f":"Input!B107","v":0},{"$f":"IF(B96=0,\"Z\",IF(T(B96)=\"\",CONCATENATE(\"Y\",B96),LEFT(B96,1)))","v":"Z"},{"$f":"VALUE(MID(B96,LEN(C96)+1,SEARCH(\"-\",B96)-(LEN(C96)+1)))","v":{"$error":"#VALUE!"}},{"$f":"VALUE(IF(LEN(F96)=1,F96,IF(AND(LEN(F96)>1,OR(CODE(MID(F96,2,1))<48,CODE(MID(F96,2,1))>57)),LEFT(F96,1),IF(LEN(F96)=2,F96,IF(OR(CODE(MID(F96,3,1))<48,CODE(MID(F96,3,1))>57),LEFT(F96,2),LEFT(F96,3))))))","v":{"$error":"#VALUE!"}},{"$f":"LEFT(RIGHT(B96,LEN(B96)-SEARCH(\"-\",B96)),SEARCH(\"-\",RIGHT(B96,LEN(B96)-SEARCH(\"-\",B96)))-1)","v":{"$error":"#VALUE!"}},{"$f":"MID(F96,LEN(E96)+1,LEN(F96)-LEN(E96))","v":{"$error":"#VALUE!"}},{"$f":"VALUE(RIGHT(B96,LEN(B96)-SEARCH(\"-\",B96,LEN(C96)+LEN(D96)+2)))","v":{"$error":"#VALUE!"}},{"$f":"Input!C107","v":0},{"$f":"Input!D107","v":0},{"$f":"Input!E107","v":0},{"$f":"IF(COUNTBLANK(Input!$F$14:$J$14)=5,Input!F107,IF(Input!$F$14=0,0,Input!F107))","v":0},{"$f":"IF(Input!G$14=0,0,Input!G107)","v":0},{"$f":"IF(Input!H$14=0,0,Input!H107)","v":0},{"$f":"IF(Input!I$14=0,0,Input!I107)","v":0},{"$f":"IF(Input!J$14=0,0,Input!J107)","v":0}]
[94,{"$f":"Input!B108","v":0},{"$f":"IF(B97=0,\"Z\",IF(T(B97)=\"\",CONCATENATE(\"Y\",B97),LEFT(B97,1)))","v":"Z"},{"$f":"VALUE(MID(B97,LEN(C97)+1,SEARCH(\"-\",B97)-(LEN(C97)+1)))","v":{"$error":"#VALUE!"}},{"$f":"VALUE(IF(LEN(F97)=1,F97,IF(AND(LEN(F97)>1,OR(CODE(MID(F97,2,1))<48,CODE(MID(F97,2,1))>57)),LEFT(F97,1),IF(LEN(F97)=2,F97,IF(OR(CODE(MID(F97,3,1))<48,CODE(MID(F97,3,1))>57),LEFT(F97,2),LEFT(F97,3))))))","v":{"$error":"#VALUE!"}},{"$f":"LEFT(RIGHT(B97,LEN(B97)-SEARCH(\"-\",B97)),SEARCH(\"-\",RIGHT(B97,LEN(B97)-SEARCH(\"-\",B97)))-1)","v":{"$error":"#VALUE!"}},{"$f":"MID(F97,LEN(E97)+1,LEN(F97)-LEN(E97))","v":{"$error":"#VALUE!"}},{"$f":"VALUE(RIGHT(B97,LEN(B97)-SEARCH(\"-\",B97,LEN(C97)+LEN(D97)+2)))","v":{"$error":"#VALUE!"}},{"$f":"Input!C108","v":0},{"$f":"Input!D108","v":0},{"$f":"Input!E108","v":0},{"$f":"IF(COUNTBLANK(Input!$F$14:$J$14)=5,Input!F108,IF(Input!$F$14=0,0,Input!F108))","v":0},{"$f":"IF(Input!G$14=0,0,Input!G108)","v":0},{"$f":"IF(Input!H$14=0,0,Input!H108)","v":0},{"$f":"IF(Input!I$14=0,0,Input!I108)","v":0},{"$f":"IF(Input!J$14=0,0,Input!J108)","v":0}]
[95,{"$f":"Input!B109","v":0},{"$f":"IF(B98=0,\"Z\",IF(T(B98)=\"\",CONCATENATE(\"Y\",B98),LEFT(B98,1)))","v":"Z"},{"$f":"VALUE(MID(B98,LEN(C98)+1,SEARCH(\"-\",B98)-(LEN(C98)+1)))","v":{"$error":"#VALUE!"}},{"$f":"VALUE(IF(LEN(F98)=1,F98,IF(AND(LEN(F98)>1,OR(CODE(MID(F98,2,1))<48,CODE(MID(F98,2,1))>57)),LEFT(F98,1),IF(LEN(F98)=2,F98,IF(OR(CODE(MID(F98,3,1))<48,CODE(MID(F98,3,1))>57),LEFT(F98,2),LEFT(F98,3))))))","v":{"$error":"#VALUE!"}},{"$f":"LEFT(RIGHT(B98,LEN(B98)-SEARCH(\"-\",B98)),SEARCH(\"-\",RIGHT(B98,LEN(B98)-SEARCH(\"-\",B98)))-1)","v":{"$error":"#VALUE!"}},{"$f":"MID(F98,LEN(E98)+1,LEN(F98)-LEN(E98))","v":{"$error":"#VALUE!"}},{"$f":"VALUE(RIGHT(B98,LEN(B98)-SEARCH(\"-\",B98,LEN(C98)+LEN(D98)+2)))","v":{"$error":"#VALUE!"}},{"$f":"Input!C109","v":0},{"$f":"Input!D109","v":0},{"$f":"Input!E109","v":0},{"$f":"IF(COUNTBLANK(Input!$F$14:$J$14)=5,Input!F109,IF(Input!$F$14=0,0,Input!F109))","v":0},{"$f":"IF(Input!G$14=0,0,Input!G109)","v":0},{"$f":"IF(Input!H$14=0,0,Input!H109)","v":0},{"$f":"IF(Input!I$14=0,0,Input!I109)","v":0},{"$f":"IF(Input!J$14=0,0,Input!J109)","v":0}]
[96,{"$f":"Input!B110","v":0},{"$f":"IF(B99=0,\"Z\",IF(T(B99)=\"\",CONCATENATE(\"Y\",B99),LEFT(B99,1)))","v":"Z"},{"$f":"VALUE(MID(B99,LEN(C99)+1,SEARCH(\"-\",B99)-(LEN(C99)+1)))","v":{"$error":"#VALUE!"}},{"$f":"VALUE(IF(LEN(F99)=1,F99,IF(AND(LEN(F99)>1,OR(CODE(MID(F99,2,1))<48,CODE(MID(F99,2,1))>57)),LEFT(F99,1),IF(LEN(F99)=2,F99,IF(OR(CODE(MID(F99,3,1))<48,CODE(MID(F99,3,1))>57),LEFT(F99,2),LEFT(F99,3))))))","v":{"$error":"#VALUE!"}},{"$f":"LEFT(RIGHT(B99,LEN(B99)-SEARCH(\"-\",B99)),SEARCH(\"-\",RIGHT(B99,LEN(B99)-SEARCH(\"-\",B99)))-1)","v":{"$error":"#VALUE!"}},{"$f":"MID(F99,LEN(E99)+1,LEN(F99)-LEN(E99))","v":{"$error":"#VALUE!"}},{"$f":"VALUE(RIGHT(B99,LEN(B99)-SEARCH(\"-\",B99,LEN(C99)+LEN(D99)+2)))","v":{"$error":"#VALUE!"}},{"$f":"Input!C110","v":0},{"$f":"Input!D110","v":0},{"$f":"Input!E110","v":0},{"$f":"IF(COUNTBLANK(Input!$F$14:$J$14)=5,Input!F110,IF(Input!$F$14=0,0,Input!F110))","v":0},{"$f":"IF(Input!G$14=0,0,Input!G110)","v":0},{"$f":"IF(Input!H$14=0,0,Input!H110)","v":0},{"$f":"IF(Input!I$14=0,0,Input!I110)","v":0},{"$f":"IF(Input!J$14=0,0,Input!J110)","v":0}]
[97,{"$f":"Input!B111","v":0},{"$f":"IF(B100=0,\"Z\",IF(T(B100)=\"\",CONCATENATE(\"Y\",B100),LEFT(B100,1)))","v":"Z"},{"$f":"VALUE(MID(B100,LEN(C100)+1,SEARCH(\"-\",B100)-(LEN(C100)+1)))","v":{"$error":"#VALUE!"}},{"$f":"VALUE(IF(LEN(F100)=1,F100,IF(AND(LEN(F100)>1,OR(CODE(MID(F100,2,1))<48,CODE(MID(F100,2,1))>57)),LEFT(F100,1),IF(LEN(F100)=2,F100,IF(OR(CODE(MID(F100,3,1))<48,CODE(MID(F100,3,1))>57),LEFT(F100,2),LEFT(F100,3))))))","v":{"$error":"#VALUE!"}},{"$f":"LEFT(RIGHT(B100,LEN(B100)-SEARCH(\"-\",B100)),SEARCH(\"-\",RIGHT(B100,LEN(B100)-SEARCH(\"-\",B100)))-1)","v":{"$error":"#VALUE!"}},{"$f":"MID(F100,LEN(E100)+1,LEN(F100)-LEN(E100))","v":{"$error":"#VALUE!"}},{"$f":"VALUE(RIGHT(B100,LEN(B100)-SEARCH(\"-\",B100,LEN(C100)+LEN(D100)+2)))","v":{"$error":"#VALUE!"}},{"$f":"Input!C111","v":0},{"$f":"Input!D111","v":0},{"$f":"Input!E111","v":0},{"$f":"IF(COUNTBLANK(Input!$F$14:$J$14)=5,Input!F111,IF(Input!$F$14=0,0,Input!F111))","v":0},{"$f":"IF(Input!G$14=0,0,Input!G111)","v":0},{"$f":"IF(Input!H$14=0,0,Input!H111)","v":0},{"$f":"IF(Input!I$14=0,0,Input!I111)","v":0},{"$f":"IF(Input!J$14=0,0,Input!J111)","v":0}]
[98,{"$f":"Input!B112","v":0},{"$f":"IF(B101=0,\"Z\",IF(T(B101)=\"\",CONCATENATE(\"Y\",B101),LEFT(B101,1)))","v":"Z"},{"$f":"VALUE(MID(B101,LEN(C101)+1,SEARCH(\"-\",B101)-(LEN(C101)+1)))","v":{"$error":"#VALUE!"}},{"$f":"VALUE(IF(LEN(F101)=1,F101,IF(AND(LEN(F101)>1,OR(CODE(MID(F101,2,1))<48,CODE(MID(F101,2,1))>57)),LEFT(F101,1),IF(LEN(F101)=2,F101,IF(OR(CODE(MID(F101,3,1))<48,CODE(MID(F101,3,1))>57),LEFT(F101,2),LEFT(F101,3))))))","v":{"$error":"#VALUE!"}},{"$f":"LEFT(RIGHT(B101,LEN(B101)-SEARCH(\"-\",B101)),SEARCH(\"-\",RIGHT(B101,LEN(B101)-SEARCH(\"-\",B101)))-1)","v":{"$error":"#VALUE!"}},{"$f":"MID(F101,LEN(E101)+1,LEN(F101)-LEN(E101))","v":{"$error":"#VALUE!"}},{"$f":"VALUE(RIGHT(B101,LEN(B101)-SEARCH(\"-\",B101,LEN(C101)+LEN(D101)+2)))","v":{"$error":"#VALUE!"}},{"$f":"Input!C112","v":0},{"$f":"Input!D112","v":0},{"$f":"Input!E112","v":0},{"$f":"IF(COUNTBLANK(Input!$F$14:$J$14)=5,Input!F112,IF(Input!$F$14=0,0,Input!F112))","v":0},{"$f":"IF(Input!G$14=0,0,Input!G112)","v":0},{"$f":"IF(Input!H$14=0,0,Input!H112)","v":0},{"$f":"IF(Input!I$14=0,0,Input!I112)","v":0},{"$f":"IF(Input!J$14=0,0,Input!J112)","v":0}]
[99,{"$f":"Input!B113","v":0},{"$f":"IF(B102=0,\"Z\",IF(T(B102)=\"\",CONCATENATE(\"Y\",B102),LEFT(B102,1)))","v":"Z"},{"$f":"VALUE(MID(B102,LEN(C102)+1,SEARCH(\"-\",B102)-(LEN(C102)+1)))","v":{"$error":"#VALUE!"}},{"$f":"VALUE(IF(LEN(F102)=1,F102,IF(AND(LEN(F102)>1,OR(CODE(MID(F102,2,1))<48,CODE(MID(F102,2,1))>57)),LEFT(F102,1),IF(LEN(F102)=2,F102,IF(OR(CODE(MID(F102,3,1))<48,CODE(MID(F102,3,1))>57),LEFT(F102,2),LEFT(F102,3))))))","v":{"$error":"#VALUE!"}},{"$f":"LEFT(RIGHT(B102,LEN(B102)-SEARCH(\"-\",B102)),SEARCH(\"-\",RIGHT(B102,LEN(B102)-SEARCH(\"-\",B102)))-1)","v":{"$error":"#VALUE!"}},{"$f":"MID(F102,LEN(E102)+1,LEN(F102)-LEN(E102))","v":{"$error":"#VALUE!"}},{"$f":"VALUE(RIGHT(B102,LEN(B102)-SEARCH(\"-\",B102,LEN(C102)+LEN(D102)+2)))","v":{"$error":"#VALUE!"}},{"$f":"Input!C113","v":0},{"$f":"Input!D113","v":0},{"$f":"Input!E113","v":0},{"$f":"IF(COUNTBLANK(Input!$F$14:$J$14)=5,Input!F113,IF(Input!$F$14=0,0,Input!F113))","v":0},{"$f":"IF(Input!G$14=0,0,Input!G113)","v":0},{"$f":"IF(Input!H$14=0,0,Input!H113)","v":0},{"$f":"IF(Input!I$14=0,0,Input!I113)","v":0},{"$f":"IF(Input!J$14=0,0,Input!J113)","v":0}]
[100,{"$f":"Input!B114","v":0},{"$f":"IF(B103=0,\"Z\",IF(T(B103)=\"\",CONCATENATE(\"Y\",B103),LEFT(B103,1)))","v":"Z"},{"$f":"VALUE(MID(B103,LEN(C103)+1,SEARCH(\"-\",B103)-(LEN(C103)+1)))","v":{"$error":"#VALUE!"}},{"$f":"VALUE(IF(LEN(F103)=1,F103,IF(AND(LEN(F103)>1,OR(CODE(MID(F103,2,1))<48,CODE(MID(F103,2,1))>57)),LEFT(F103,1),IF(LEN(F103)=2,F103,IF(OR(CODE(MID(F103,3,1))<48,CODE(MID(F103,3,1))>57),LEFT(F103,2),LEFT(F103,3))))))","v":{"$error":"#VALUE!"}},{"$f":"LEFT(RIGHT(B103,LEN(B103)-SEARCH(\"-\",B103)),SEARCH(\"-\",RIGHT(B103,LEN(B103)-SEARCH(\"-\",B103)))-1)","v":{"$error":"#VALUE!"}},{"$f":"MID(F103,LEN(E103)+1,LEN(F103)-LEN(E103))","v":{"$error":"#VALUE!"}},{"$f":"VALUE(RIGHT(B103,LEN(B103)-SEARCH(\"-\",B103,LEN(C103)+LEN(D103)+2)))","v":{"$error":"#VALUE!"}},{"$f":"Input!C114","v":0},{"$f":"Input!D114","v":0},{"$f":"Input!E114","v":0},{"$f":"IF(COUNTBLANK(Input!$F$14:$J$14)=5,Input!F114,IF(Input!$F$14=0,0,Input!F114))","v":0},{"$f":"IF(Input!G$14=0,0,Input!G114)","v":0},{"$f":"IF(Input!H$14=0,0,Input!H114)","v":0},{"$f":"IF(Input!I$14=0,0,Input!I114)","v":0},{"$f":"IF(Input!J$14=0,0,Input!J114)","v":0}]
[101,{"$f":"Input!B115","v":0},{"$f":"IF(B104=0,\"Z\",IF(T(B104)=\"\",CONCATENATE(\"Y\",B104),LEFT(B104,1)))","v":"Z"},{"$f":"VALUE(MID(B104,LEN(C104)+1,SEARCH(\"-\",B104)-(LEN(C104)+1)))","v":{"$error":"#VALUE!"}},{"$f":"VALUE(IF(LEN(F104)=1,F104,IF(AND(LEN(F104)>1,OR(CODE(MID(F104,2,1))<48,CODE(MID(F104,2,1))>57)),LEFT(F104,1),IF(LEN(F104)=2,F104,IF(OR(CODE(MID(F104,3,1))<48,CODE(MID(F104,3,1))>57),LEFT(F104,2),LEFT(F104,3))))))","v":{"$error":"#VALUE!"}},{"$f":"LEFT(RIGHT(B104,LEN(B104)-SEARCH(\"-\",B104)),SEARCH(\"-\",RIGHT(B104,LEN(B104)-SEARCH(\"-\",B104)))-1)","v":{"$error":"#VALUE!"}},{"$f":"MID(F104,LEN(E104)+1,LEN(F104)-LEN(E104))","v":{"$error":"#VALUE!"}},{"$f":"VALUE(RIGHT(B104,LEN(B104)-SEARCH(\"-\",B104,LEN(C104)+LEN(D104)+2)))","v":{"$error":"#VALUE!"}},{"$f":"Input!C115","v":0},{"$f":"Input!D115","v":0},{"$f":"Input!E115","v":0},{"$f":"IF(COUNTBLANK(Input!$F$14:$J$14)=5,Input!F115,IF(Input!$F$14=0,0,Input!F115))","v":0},{"$f":"IF(Input!G$14=0,0,Input!G115)","v":0},{"$f":"IF(Input!H$14=0,0,Input!H115)","v":0},{"$f":"IF(Input!I$14=0,0,Input!I115)","v":0},{"$f":"IF(Input!J$14=0,0,Input!J115)","v":0}]
[102,{"$f":"Input!B116","v":0},{"$f":"IF(B105=0,\"Z\",IF(T(B105)=\"\",CONCATENATE(\"Y\",B105),LEFT(B105,1)))","v":"Z"},{"$f":"VALUE(MID(B105,LEN(C105)+1,SEARCH(\"-\",B105)-(LEN(C105)+1)))","v":{"$error":"#VALUE!"}},{"$f":"VALUE(IF(LEN(F105)=1,F105,IF(AND(LEN(F105)>1,OR(CODE(MID(F105,2,1))<48,CODE(MID(F105,2,1))>57)),LEFT(F105,1),IF(LEN(F105)=2,F105,IF(OR(CODE(MID(F105,3,1))<48,CODE(MID(F105,3,1))>57),LEFT(F105,2),LEFT(F105,3))))))","v":{"$error":"#VALUE!"}},{"$f":"LEFT(RIGHT(B105,LEN(B105)-SEARCH(\"-\",B105)),SEARCH(\"-\",RIGHT(B105,LEN(B105)-SEARCH(\"-\",B105)))-1)","v":{"$error":"#VALUE!"}},{"$f":"MID(F105,LEN(E105)+1,LEN(F105)-LEN(E105))","v":{"$error":"#VALUE!"}},{"$f":"VALUE(RIGHT(B105,LEN(B105)-SEARCH(\"-\",B105,LEN(C105)+LEN(D105)+2)))","v":{"$error":"#VALUE!"}},{"$f":"Input!C116","v":0},{"$f":"Input!D116","v":0},{"$f":"Input!E116","v":0},{"$f":"IF(COUNTBLANK(Input!$F$14:$J$14)=5,Input!F116,IF(Input!$F$14=0,0,Input!F116))","v":0},{"$f":"IF(Input!G$14=0,0,Input!G116)","v":0},{"$f":"IF(Input!H$14=0,0,Input!H116)","v":0},{"$f":"IF(Input!I$14=0,0,Input!I116)","v":0},{"$f":"IF(Input!J$14=0,0,Input!J116)","v":0}]
[103,{"$f":"Input!B117","v":0},{"$f":"IF(B106=0,\"Z\",IF(T(B106)=\"\",CONCATENATE(\"Y\",B106),LEFT(B106,1)))","v":"Z"},{"$f":"VALUE(MID(B106,LEN(C106)+1,SEARCH(\"-\",B106)-(LEN(C106)+1)))","v":{"$error":"#VALUE!"}},{"$f":"VALUE(IF(LEN(F106)=1,F106,IF(AND(LEN(F106)>1,OR(CODE(MID(F106,2,1))<48,CODE(MID(F106,2,1))>57)),LEFT(F106,1),IF(LEN(F106)=2,F106,IF(OR(CODE(MID(F106,3,1))<48,CODE(MID(F106,3,1))>57),LEFT(F106,2),LEFT(F106,3))))))","v":{"$error":"#VALUE!"}},{"$f":"LEFT(RIGHT(B106,LEN(B106)-SEARCH(\"-\",B106)),SEARCH(\"-\",RIGHT(B106,LEN(B106)-SEARCH(\"-\",B106)))-1)","v":{"$error":"#VALUE!"}},{"$f":"MID(F106,LEN(E106)+1,LEN(F106)-LEN(E106))","v":{"$error":"#VALUE!"}},{"$f":"VALUE(RIGHT(B106,LEN(B106)-SEARCH(\"-\",B106,LEN(C106)+LEN(D106)+2)))","v":{"$error":"#VALUE!"}},{"$f":"Input!C117","v":0},{"$f":"Input!D117","v":0},{"$f":"Input!E117","v":0},{"$f":"IF(COUNTBLANK(Input!$F$14:$J$14)=5,Input!F117,IF(Input!$F$14=0,0,Input!F117))","v":0},{"$f":"IF(Input!G$14=0,0,Input!G117)","v":0},{"$f":"IF(Input!H$14=0,0,Input!H117)","v":0},{"$f":"IF(Input!I$14=0,0,Input!I117)","v":0},{"$f":"IF(Input!J$14=0,0,Input!J117)","v":0}]
[104,{"$f":"Input!B118","v":0},{"$f":"IF(B107=0,\"Z\",IF(T(B107)=\"\",CONCATENATE(\"Y\",B107),LEFT(B107,1)))","v":"Z"},{"$f":"VALUE(MID(B107,LEN(C107)+1,SEARCH(\"-\",B107)-(LEN(C107)+1)))","v":{"$error":"#VALUE!"}},{"$f":"VALUE(IF(LEN(F107)=1,F107,IF(AND(LEN(F107)>1,OR(CODE(MID(F107,2,1))<48,CODE(MID(F107,2,1))>57)),LEFT(F107,1),IF(LEN(F107)=2,F107,IF(OR(CODE(MID(F107,3,1))<48,CODE(MID(F107,3,1))>57),LEFT(F107,2),LEFT(F107,3))))))","v":{"$error":"#VALUE!"}},{"$f":"LEFT(RIGHT(B107,LEN(B107)-SEARCH(\"-\",B107)),SEARCH(\"-\",RIGHT(B107,LEN(B107)-SEARCH(\"-\",B107)))-1)","v":{"$error":"#VALUE!"}},{"$f":"MID(F107,LEN(E107)+1,LEN(F107)-LEN(E107))","v":{"$error":"#VALUE!"}},{"$f":"VALUE(RIGHT(B107,LEN(B107)-SEARCH(\"-\",B107,LEN(C107)+LEN(D107)+2)))","v":{"$error":"#VALUE!"}},{"$f":"Input!C118","v":0},{"$f":"Input!D118","v":0},{"$f":"Input!E118","v":0},{"$f":"IF(COUNTBLANK(Input!$F$14:$J$14)=5,Input!F118,IF(Input!$F$14=0,0,Input!F118))","v":0},{"$f":"IF(Input!G$14=0,0,Input!G118)","v":0},{"$f":"IF(Input!H$14=0,0,Input!H118)","v":0},{"$f":"IF(Input!I$14=0,0,Input!I118)","v":0},{"$f":"IF(Input!J$14=0,0,Input!J118)","v":0}]
[105,{"$f":"Input!B119","v":0},{"$f":"IF(B108=0,\"Z\",IF(T(B108)=\"\",CONCATENATE(\"Y\",B108),LEFT(B108,1)))","v":"Z"},{"$f":"VALUE(MID(B108,LEN(C108)+1,SEARCH(\"-\",B108)-(LEN(C108)+1)))","v":{"$error":"#VALUE!"}},{"$f":"VALUE(IF(LEN(F108)=1,F108,IF(AND(LEN(F108)>1,OR(CODE(MID(F108,2,1))<48,CODE(MID(F108,2,1))>57)),LEFT(F108,1),IF(LEN(F108)=2,F108,IF(OR(CODE(MID(F108,3,1))<48,CODE(MID(F108,3,1))>57),LEFT(F108,2),LEFT(F108,3))))))","v":{"$error":"#VALUE!"}},{"$f":"LEFT(RIGHT(B108,LEN(B108)-SEARCH(\"-\",B108)),SEARCH(\"-\",RIGHT(B108,LEN(B108)-SEARCH(\"-\",B108)))-1)","v":{"$error":"#VALUE!"}},{"$f":"MID(F108,LEN(E108)+1,LEN(F108)-LEN(E108))","v":{"$error":"#VALUE!"}},{"$f":"VALUE(RIGHT(B108,LEN(B108)-SEARCH(\"-\",B108,LEN(C108)+LEN(D108)+2)))","v":{"$error":"#VALUE!"}},{"$f":"Input!C119","v":0},{"$f":"Input!D119","v":0},{"$f":"Input!E119","v":0},{"$f":"IF(COUNTBLANK(Input!$F$14:$J$14)=5,Input!F119,IF(Input!$F$14=0,0,Input!F119))","v":0},{"$f":"IF(Input!G$14=0,0,Input!G119)","v":0},{"$f":"IF(Input!H$14=0,0,Input!H119)","v":0},{"$f":"IF(Input!I$14=0,0,Input!I119)","v":0},{"$f":"IF(Input!J$14=0,0,Input!J119)","v":0}]
[106,{"$f":"Input!B120","v":0},{"$f":"IF(B109=0,\"Z\",IF(T(B109)=\"\",CONCATENATE(\"Y\",B109),LEFT(B109,1)))","v":"Z"},{"$f":"VALUE(MID(B109,LEN(C109)+1,SEARCH(\"-\",B109)-(LEN(C109)+1)))","v":{"$error":"#VALUE!"}},{"$f":"VALUE(IF(LEN(F109)=1,F109,IF(AND(LEN(F109)>1,OR(CODE(MID(F109,2,1))<48,CODE(MID(F109,2,1))>57)),LEFT(F109,1),IF(LEN(F109)=2,F109,IF(OR(CODE(MID(F109,3,1))<48,CODE(MID(F109,3,1))>57),LEFT(F109,2),LEFT(F109,3))))))","v":{"$error":"#VALUE!"}},{"$f":"LEFT(RIGHT(B109,LEN(B109)-SEARCH(\"-\",B109)),SEARCH(\"-\",RIGHT(B109,LEN(B109)-SEARCH(\"-\",B109)))-1)","v":{"$error":"#VALUE!"}},{"$f":"MID(F109,LEN(E109)+1,LEN(F109)-LEN(E109))","v":{"$error":"#VALUE!"}},{"$f":"VALUE(RIGHT(B109,LEN(B109)-SEARCH(\"-\",B109,LEN(C109)+LEN(D109)+2)))","v":{"$error":"#VALUE!"}},{"$f":"Input!C120","v":0},{"$f":"Input!D120","v":0},{"$f":"Input!E120","v":0},{"$f":"IF(COUNTBLANK(Input!$F$14:$J$14)=5,Input!F120,IF(Input!$F$14=0,0,Input!F120))","v":0},{"$f":"IF(Input!G$14=0,0,Input!G120)","v":0},{"$f":"IF(Input!H$14=0,0,Input!H120)","v":0},{"$f":"IF(Input!I$14=0,0,Input!I120)","v":0},{"$f":"IF(Input!J$14=0,0,Input!J120)","v":0}]
[107,{"$f":"Input!B121","v":0},{"$f":"IF(B110=0,\"Z\",IF(T(B110)=\"\",CONCATENATE(\"Y\",B110),LEFT(B110,1)))","v":"Z"},{"$f":"VALUE(MID(B110,LEN(C110)+1,SEARCH(\"-\",B110)-(LEN(C110)+1)))","v":{"$error":"#VALUE!"}},{"$f":"VALUE(IF(LEN(F110)=1,F110,IF(AND(LEN(F110)>1,OR(CODE(MID(F110,2,1))<48,CODE(MID(F110,2,1))>57)),LEFT(F110,1),IF(LEN(F110)=2,F110,IF(OR(CODE(MID(F110,3,1))<48,CODE(MID(F110,3,1))>57),LEFT(F110,2),LEFT(F110,3))))))","v":{"$error":"#VALUE!"}},{"$f":"LEFT(RIGHT(B110,LEN(B110)-SEARCH(\"-\",B110)),SEARCH(\"-\",RIGHT(B110,LEN(B110)-SEARCH(\"-\",B110)))-1)","v":{"$error":"#VALUE!"}},{"$f":"MID(F110,LEN(E110)+1,LEN(F110)-LEN(E110))","v":{"$error":"#VALUE!"}},{"$f":"VALUE(RIGHT(B110,LEN(B110)-SEARCH(\"-\",B110,LEN(C110)+LEN(D110)+2)))","v":{"$error":"#VALUE!"}},{"$f":"Input!C121","v":0},{"$f":"Input!D121","v":0},{"$f":"Input!E121","v":0},{"$f":"IF(COUNTBLANK(Input!$F$14:$J$14)=5,Input!F121,IF(Input!$F$14=0,0,Input!F121))","v":0},{"$f":"IF(Input!G$14=0,0,Input!G121)","v":0},{"$f":"IF(Input!H$14=0,0,Input!H121)","v":0},{"$f":"IF(Input!I$14=0,0,Input!I121)","v":0},{"$f":"IF(Input!J$14=0,0,Input!J121)","v":0}]
[108,{"$f":"Input!B122","v":0},{"$f":"IF(B111=0,\"Z\",IF(T(B111)=\"\",CONCATENATE(\"Y\",B111),LEFT(B111,1)))","v":"Z"},{"$f":"VALUE(MID(B111,LEN(C111)+1,SEARCH(\"-\",B111)-(LEN(C111)+1)))","v":{"$error":"#VALUE!"}},{"$f":"VALUE(IF(LEN(F111)=1,F111,IF(AND(LEN(F111)>1,OR(CODE(MID(F111,2,1))<48,CODE(MID(F111,2,1))>57)),LEFT(F111,1),IF(LEN(F111)=2,F111,IF(OR(CODE(MID(F111,3,1))<48,CODE(MID(F111,3,1))>57),LEFT(F111,2),LEFT(F111,3))))))","v":{"$error":"#VALUE!"}},{"$f":"LEFT(RIGHT(B111,LEN(B111)-SEARCH(\"-\",B111)),SEARCH(\"-\",RIGHT(B111,LEN(B111)-SEARCH(\"-\",B111)))-1)","v":{"$error":"#VALUE!"}},{"$f":"MID(F111,LEN(E111)+1,LEN(F111)-LEN(E111))","v":{"$error":"#VALUE!"}},{"$f":"VALUE(RIGHT(B111,LEN(B111)-SEARCH(\"-\",B111,LEN(C111)+LEN(D111)+2)))","v":{"$error":"#VALUE!"}},{"$f":"Input!C122","v":0},{"$f":"Input!D122","v":0},{"$f":"Input!E122","v":0},{"$f":"IF(COUNTBLANK(Input!$F$14:$J$14)=5,Input!F122,IF(Input!$F$14=0,0,Input!F122))","v":0},{"$f":"IF(Input!G$14=0,0,Input!G122)","v":0},{"$f":"IF(Input!H$14=0,0,Input!H122)","v":0},{"$f":"IF(Input!I$14=0,0,Input!I122)","v":0},{"$f":"IF(Input!J$14=0,0,Input!J122)","v":0}]
[109,{"$f":"Input!B123","v":0},{"$f":"IF(B112=0,\"Z\",IF(T(B112)=\"\",CONCATENATE(\"Y\",B112),LEFT(B112,1)))","v":"Z"},{"$f":"VALUE(MID(B112,LEN(C112)+1,SEARCH(\"-\",B112)-(LEN(C112)+1)))","v":{"$error":"#VALUE!"}},{"$f":"VALUE(IF(LEN(F112)=1,F112,IF(AND(LEN(F112)>1,OR(CODE(MID(F112,2,1))<48,CODE(MID(F112,2,1))>57)),LEFT(F112,1),IF(LEN(F112)=2,F112,IF(OR(CODE(MID(F112,3,1))<48,CODE(MID(F112,3,1))>57),LEFT(F112,2),LEFT(F112,3))))))","v":{"$error":"#VALUE!"}},{"$f":"LEFT(RIGHT(B112,LEN(B112)-SEARCH(\"-\",B112)),SEARCH(\"-\",RIGHT(B112,LEN(B112)-SEARCH(\"-\",B112)))-1)","v":{"$error":"#VALUE!"}},{"$f":"MID(F112,LEN(E112)+1,LEN(F112)-LEN(E112))","v":{"$error":"#VALUE!"}},{"$f":"VALUE(RIGHT(B112,LEN(B112)-SEARCH(\"-\",B112,LEN(C112)+LEN(D112)+2)))","v":{"$error":"#VALUE!"}},{"$f":"Input!C123","v":0},{"$f":"Input!D123","v":0},{"$f":"Input!E123","v":0},{"$f":"IF(COUNTBLANK(Input!$F$14:$J$14)=5,Input!F123,IF(Input!$F$14=0,0,Input!F123))","v":0},{"$f":"IF(Input!G$14=0,0,Input!G123)","v":0},{"$f":"IF(Input!H$14=0,0,Input!H123)","v":0},{"$f":"IF(Input!I$14=0,0,Input!I123)","v":0},{"$f":"IF(Input!J$14=0,0,Input!J123)","v":0}]

{"sheet":"Revisions","index":9,"n_rows":93,"n_cols":4,"rows_kept":93,"cut":false,"hidden":false,"merged":[[1,2,1,3]]}
[]
[null,"VERSION","DESCRIPTION OF CHANGES"]
[null,"8.17.2004",{"$f":"IF(B3>0,1,IF(D3>0,C1+1,0))","v":1},"First official version of Traffic Control Devices List spreadsheet"]
[null,"9.15.2004",{"$f":"IF(B4>0,1,IF(D4>0,C2+1,0))","v":1},"Added a button on the Input sheet to convert Traffic Control Signs and Devices to an 8.5\"x11\" Plan Sheet"]
[null,null,{"$f":"IF(B5>0,1,IF(D5>0,C4+1,0))","v":2},"Added a button on the Input sheet to sort the Traffic Control Signs on the Plan Sheet (Signs are sorted automatically when the Print button is used)"]
[null,null,{"$f":"IF(B6>0,1,IF(D6>0,C5+1,0))","v":3},"Removed the following signs from the Traffic Control Signs table on the Input sheet to make more room for adding signs:\n     G20-8-48, G20-54-48, R4-7a-48, R11-3b-60, W1-1-48, W1-2-48, W1-5-48, W3-2a-48, W5-2-48, W13-3-48"]
[null,null,4,"Changed M1-1-24 to M1-1-36 in the Traffic Control Signs table on the Input sheet"]
[null,null,5,"Added FLAGGING to the Traffic Control Devices table on the Input sheet"]
[null,null,6,"Removed the Sign Units Computation sheet and added a button for the Sign Units Calculator on the Input sheet"]
[null,null,7,"Added column to Plan Sheet for Total Amount Required when using phases"]
[null,null,8,"Added the ability to add ND Standard Drawings to the Sheet Summary sheet"]
[null,"9.17.2004",1,"Fixed error in Sign Units Calculator (calculated units for signs on existing supports was incorrect)"]
[null,null,{"$f":"IF(B13>0,1,IF(D13>0,C12+1,0))","v":2},"Fixed the button that converts the Traffic Control Signs and Devices to an 8.5\"x11\" Plan Sheet (wouldn't export the data or would put the data into the wrong column)"]
[null,null,3,"Added warning message to Replace Formulas button on the Input sheet"]
[null,null,4,"Added protection to phase columns that are not in use on the Input and Sheet Summary sheets"]
[null,null,5,"Hid columns for phases that are not in use on the Sheet Summary sheets"]
[null,"10.14.2004",1,"On the Input sheet, made it so that when the phase numbers are deleted, the data in the corresponding Amount Required & Quantity columns in the Traffic Control Signs and Devices tables is cleared and the formulas are replaced."]
[null,null,2,"On the Input sheet, made it so that the phase numbers carry down from the Traffic Control Signs to the phase headings in the Special Signs Table."]
[null,null,{"$f":"IF(B19>0,1,IF(D19>0,C18+1,0))","v":3},"Changed the heading in the phase columns of the Special signs to AMOUNT REQUIRED & PHASE on the Input sheet."]
[null,null,4,"Corrected the formulas in the Special Signs table on the Sheet Summary so that the Special Sign numbers appear in the correct row."]
[null,"11.24.2004",1,"Changed caption on the button to close the Sign Units Calculator dialog box from \"Done\" to \"Exit.\""]
[null,null,2,"Changed formatting in Plan Sheet so that when a traffic control sign or a special sign has a quantity - the name, size, and description is bolded."]
[null,null,3,"Added two lines to the Special Signs section of the Plan Sheet."]
[null,null,4,"Added a button on the Input sheet called Additional Projects to add more projects to the Plan Sheet."]
[null,null,{"$f":"IF(B25>0,1,IF(D25>0,C24+1,0))","v":5},"Added a button to the Input sheet called Add Plan Revision to add Plan Revision dates and numbers to the Plan Sheet."]
[null,null,6,"Added a button to the Input sheet called Clear Plan Revisions to clear any Plan Revision dates and numbers from the Plan Sheet."]
[null,null,7,"Changed the description of the Clear Form button on the Input sheet to Reset Form and made it so that the entire spreadsheet is cleared and reset to its original state when the button is pressed."]
[null,null,8,"Added a button to the Input sheet called Title Block Description to add project information to the title block of the Plan Sheet."]
[null,"12.17.2004",1,"Centered Description heading for the Traffic Control Devices table on the Plan Sheet."]
[null,null,2,"Changed the Additional Project No. heading to Project No. when additional projects are added on the Plan Sheet."]
[null,null,{"$f":"IF(B31>0,1,IF(D31>0,C30+1,0))","v":3},"Fixed border lines in the Traffic Control Devices table on the Plan Sheet."]
[null,"3.30.2005",1,"Added Sign Units Calculation note to Plan Sheet and 8.5\"x11\" Plan Sheet."]
[null,null,2,"Change size of stops signs from 30\" to 48\" for Standard Drawing D-704-22."]
[null,"7.21.2005",1,"Changed the sign number of the \"BE PREPARED TO STOP\" sign from W20-7b-48 to W3-4-48."]
[null,null,2,"Removed the \"REDUCED SPEED AHEAD\" sign (R2-5a-48) and added the \"SPEED REDUCTION AHEAD\" sign (W3-5-48.)"]
[null,null,3,"Changed the description of the Roadway Type pull down from \"Urban - High Speed (over 45 mph to 50 mph)\" to \" Urban - High Speed (over 40 mph to 50 mph).\""]
[null,"12.16.2005",{"$f":"IF(B37>0,1,IF(D37>0,C36+1,0))","v":1},"Changed \"calculated\" to \"calculated\" in Note on Plan Sheet."]
[null,"12.19.2005",1,"Changed the units of \"704 3501 Potable Precast Concrete Med Barriers\" from \"EACH\" to \"LF\" on all the sheets."]
[null,"1.11.2006",1,"Added \"LEFT\" to description for signs W21-5a-48 and W21-5b-48 on the Input Sheet, Sheet Summary, and Plan Sheet."]
[null,"2.2.2006",1,"Changed the units for \"704 3501 Potable Precast Concrete Med Barriers\" on all the Standard Drawings to be calculated by lineal feet instead of by the number of barriers needed on the Sheet Summary sheet."]
[null,"3.23.2006",1,"Fixed cell shading on the heading of the fifth phase column in the second part of the Traffic Control Signs on the Plan Sheet."]
[null,null,2,"Took the flagging requirement off Standard Drawing D-704-23 Type P."]
[null,null,{"$f":"IF(B43>0,1,IF(D43>0,C42+1,0))","v":3},"Added version number to bottom right corner of footer for Plan Sheet."]
[null,"8.22.2006",1,"Changed the website address for the NDDOT home page on the Plan Sheet."]
[null,"1.4.2007",1,"Added the \"CONTRACTOR SIGN\" (G20-10-108) to sign list on the Plan Sheet, Sheet Summary, and Input sheets."]
[null,null,2,"Removed two \"SPEED LIMIT\" signs (R2-1-48) from the total number of signs for Standard Drawing D-704-35."]
[null,null,3,"Added Standard Drawing D-704-34A to the list of available Standard Drawings on the Sheet Summary."]
[null,null,4,"Removed Standard Drawing D-704-33 from the list of available Standard Drawings on the Sheet Summary."]
[null,null,5,"Added a \"STOP SIGN\" (R1-1-48) for each approach inside a \"LEFT LANE CLOSURE\" for Standard Drawing D-704-34."]
[null,null,6,"Changed how Plan Revisions are added to the Plan Sheet (the circled number and date has been removed for Plan Revisions) when the Add Plan Revision button is pressed on the Input sheet."]
[null,"10.11.2007",1,"Fixed the error that would occur when printing to a DIP Copy if the user did not have InterPlot Organizer."]
[null,"4.4.2008",{"$f":"IF(B52>0,1,IF(D52>0,C51+1,0))","v":1},"Added the ability to choose the location where the original sealed document will be stored."]
[null,"4.16.2008",1,"Added the ability to publish the document as a PDF."]
[null,"7.29.2008",1,"Changed the description on sign W21-1a-48 from \"MEN WORKING SYMBOL\" to \"WORKERS SYMBOL.\""]
[null,"1.16.2009",1,"Changed the sign number on sign W3-1a-48 to W3-1-48."]
[null,null,2,"Added the ability to choose what type of portable concrete median barrier to use when adding a Standard Drawing to the Sheet Summary."]
[null,null,3,"Fixed border lines in the Traffic Control Devices table on the Plan Sheet."]
[null,"3.11.2009",{"$f":"IF(B58>0,1,IF(D58>0,C57+1,0))","v":1},"Added the ability to include a Pilot Car for Standard Drawing Layouts D-704-15 Type A and D-704-19 Type F."]
[null,"6.9.2009",1,"Converted spreadsheet to Microsoft Excel 2007 macro-enabled version."]
[null,"7.7.2009",1,"Added \"Preliminary\" statement to Plan Sheet."]
[null,"8.14.2009",1,"Fixed the buttons on the Sheet Summary sheet so that they would not be removed after adding columns to the table.  When the Traffic Control Devices List would be opened after exiting the file, Excel would remove the buttons."]
[null,null,2,"Changed the font size in the Headings on the Plan Sheet to allow them to print correctly when exported to a PDF."]
[null,"2.2.2010",1,"Changed the description on sign W20-7k-24 from \"__ FEET (Mounted of warning sign post)\" to \"__ FEET (Mounted on warning sign post).\""]
[null,null,2,"Fixed hyperlinks on Sheet Summary sheet."]
[null,null,3,"Fixed \"Page Size\" error that occurred when printing a Hard Copy of the Plan Sheet."]
[null,"1.30.2013",1,"Added \"(Mounted to back of pilot car\" to the description on sign G20-4-36."]
[null,null,2,"Changed the sign number on sign G20-1a-60 to G20-1-60 and sign G20-2a-48 to G20-2-48."]
[null,null,3,"Changed the number of delineator drums for exit ramps on Standard Drawing D-704-35 from 6 to 10."]
[null,null,4,"Changed print scaling for hard copy on Plan Sheet to fit to one page."]
[null,"12.16.2014",1,"Fixed broken links for buttons on the Sheet Summary sheet."]
[null,null,2,"Changed Spec Number for \"OBLITERATION OF PVMT MK\" from \"762\" to \"704.\""]
[null,"7.18.2019",1,"Changed Design Manual reference on Plan Sheet."]
[null,null,2,"Updated sign numbers to match federal sign numbers in the MUTCD and the SHSM."]
[null,null,3,"Updated sign units based on number of supports from Standard Drawing D-704-14."]
[null,null,4,"Updated sign units on barricade mounted signs to include only the cost of the sign."]
[null,null,5,"Updated quantities of signs and devices that are used in the Sheet Summary sheet for various Standard Drawings."]
[null,null,6,"Fixed the calculation for the quantity of PRECAST CONCRETE MED BARRIER - STATE FURNISHED so that it is calculated by EACH instead of LF."]
[null,null,7,"Revised the Add Plan Revision macro so that \"Revised\" and \"Added\" are included with the date when a plan revision is added."]
[null,null,8,"Fixed the Reset Form and Clear Plan Revisions macros so the Preliminary Statement box is not removed."]
[null,null,9,"Updated the Traffic Control Devices list on the Input and Sheet Summary sheets by removing uncommon devices and adding common devices."]
[null,null,10,"Increased the user input fields from 5 to 10 on the Traffic Control Devices list on the Input sheet."]
[null,null,11,"Added buttons and user forms to add Traffic Control Signs and Devices to the lists on the Input sheet."]
[null,null,12,"Changed the device 762-0200 RAISED PAVEMENT MARKERS from taking the maximum quantity for all the phases to taking the total quantity for all phases on the Input sheet."]
[null,"7.15.2020",1,"Removed button to print to 8.5\"x11\" pape size in the Input sheet."]
[null,null,2,"Updated quantities of signs and devices that are used in the Sheet Summary sheet for various Standard Drawings."]
[null,"12.15.2021",1,"Removed sign W12-2-48 \"LOW CLEARANCE\" from the list of signs on the Input sheet and the Sheet Summary sheet."]
[null,null,2,"Added sign I2-5-96 \"YOUR HIGHWAY DOLLARS AT WORK\" to the list of signs on the Input sheet and the Sheet Summary sheet."]
[null,null,3,"Updated quantities of signs I2-5-96 and G20-55-96 that are used in the Sheet Summary sheet for various Standard Drawings."]
[null,"11.21.2022",1,"Removed sign G20-10-108 \"CONTRACTOR SIGN\" from the list of signs on the Input sheet and the Sheet Summary sheet."]
[null,null,2,"Removed sign I2-5-96 \"YOUR HIGHWAY DOLLARS AT WORK\" from the list of signs on the Input sheet and the Sheet Summary sheet."]
[null,null,3,"Revised units for sign M1-1-36."]
[null,"6.26.2025",{"$f":"IF(B92>0,1,IF(D92>0,C91+1,0))","v":1},"Changed sign description from \"MINIMUM FEE $80\" to \"MINIMUM FEE $150\" for signs G20-55-96 and R2-1aP-24."]
[null,null,{"$f":"IF(B93>0,1,IF(D93>0,C90+1,0))","v":0}]

{"sheet":"Master","index":10,"n_rows":166,"n_cols":33,"rows_kept":166,"cut":false,"hidden":true,"merged":[[12,3,12,7],[13,3,13,7],[14,3,14,7],[134,21,134,22],[134,17,134,18],[116,1,116,7],[134,1,134,7],[116,9,116,10],[116,13,116,14],[134,13,134,14],[134,9,134,10],[120,3,120,7],[121,3,121,7],[26,3,26,7],[27,3,27,7],[28,3,28,7],[29,3,29,7],[30,3,30,7],[31,3,31,7],[32,3,32,7],[33,3,33,7],[34,3,34,7],[35,3,35,7],[36,3,36,7],[134,25,134,26],[116,28,116,32],[134,28,134,32],[122,3,122,7],[125,3,125,7],[126,3,126,7],[127,3,127,7],[3,1,3,7],[4,2,5,2],[4,1,5,1],[116,25,116,26],[116,17,116,18],[116,21,116,22],[3,17,3,18],[4,17,4,18],[3,21,3,22],[4,21,4,22],[3,9,3,10],[4,9,4,10],[3,13,3,14],[4,13,4,14],[23,3,23,7],[24,3,24,7],[25,3,25,7],[2,1,2,2],[22,3,22,7],[15,3,15,7],[16,3,16,7],[6,3,6,7],[3,25,3,26],[4,25,4,26],[3,28,3,32],[4,28,5,28],[4,29,5,29],[4,30,5,30],[4,31,5,31],[4,32,5,32],[4,3,5,7],[7,3,7,7],[8,3,8,7],[9,3,9,7],[10,3,10,7],[11,3,11,7],[17,3,17,7],[18,3,18,7],[19,3,19,7],[20,3,20,7],[21,3,21,7],[37,3,37,7],[38,3,38,7],[39,3,39,7],[40,3,40,7],[41,3,41,7],[42,3,42,7],[43,3,43,7],[44,3,44,7],[45,3,45,7],[46,3,46,7],[47,3,47,7],[48,3,48,7],[49,3,49,7],[50,3,50,7],[51,3,51,7],[52,3,52,7],[53,3,53,7],[54,3,54,7],[55,3,55,7],[56,3,56,7],[57,3,57,7],[58,3,58,7],[59,3,59,7],[60,3,60,7],[61,3,61,7],[62,3,62,7],[63,3,63,7],[64,3,64,7],[65,3,65,7],[66,3,66,7],[67,3,67,7],[68,3,68,7],[69,3,69,7],[70,3,70,7],[71,3,71,7],[72,3,72,7],[73,3,73,7],[74,3,74,7],[75,3,75,7],[76,3,76,7],[77,3,77,7],[78,3,78,7],[79,3,79,7],[80,3,80,7],[81,3,81,7],[82,3,82,7],[83,3,83,7],[84,3,84,7],[85,3,85,7],[86,3,86,7],[87,3,87,7],[88,3,88,7],[89,3,89,7],[90,3,90,7],[91,3,91,7],[92,3,92,7],[93,3,93,7],[94,3,94,7],[95,3,95,7],[96,3,96,7],[97,3,97,7],[98,3,98,7],[99,3,99,7],[100,3,100,7],[101,3,101,7],[102,3,102,7],[103,3,103,7],[104,3,104,7],[105,3,105,7],[106,3,106,7],[107,3,107,7],[108,3,108,7],[109,3,109,7],[110,3,110,7],[111,3,111,7],[112,3,112,7],[113,3,113,7],[114,3,114,7],[118,3,118,7],[119,3,119,7],[123,3,123,7],[139,3,139,7],[140,3,140,7],[141,3,141,7],[142,3,142,7],[143,3,143,7],[144,3,144,7],[145,3,145,7],[124,3,124,7],[117,3,117,7],[128,3,128,7],[129,3,129,7],[130,3,130,7],[131,3,131,7],[132,3,132,7],[135,3,135,7],[136,3,136,7],[164,3,164,7],[165,3,165,7],[2,3,2,4],[2,5,2,6],[160,3,160,7],[161,3,161,7],[162,3,162,7],[163,3,163,7],[156,3,156,7],[157,3,157,7],[146,3,146,7],[147,3,147,7],[148,3,148,7],[149,3,149,7],[150,3,150,7],[151,3,151,7],[158,3,158,7],[159,3,159,7],[152,3,152,7],[153,3,153,7],[154,3,154,7],[155,3,155,7],[137,3,137,7],[138,3,138,7]]}
[{"$f":"Input!F14","v":0},0,0,0,0]
[null,null,null,null,null,null,null,null,null,{"$f":"A1","v":0},{"$f":"B1","v":0}]
[null,null,null,null,null,null,null,null,null,null,null,null,null,2,2,null,null,3,3,null,null,4,4,null,null,5,5,null,"X","2X","3X","4X","5X"]
[null,"TRAFFIC CONTROL SIGNS",null,null,null,null,null,null,null,{"$f":"IF(COUNTBLANK(Input!F14:J14)=5,\"\",CONCATENATE(\"Phase \",Input!$F$14))","v":""},null,null,null,{"$f":"CONCATENATE(\"Phase \",Input!$G$14)","v":"Phase "},null,null,null,{"$f":"CONCATENATE(\"Phase \",Input!$H$14)","v":"Phase "},null,null,null,{"$f":"CONCATENATE(\"Phase \",Input!$I$14)","v":"Phase "},null,null,null,{"$f":"CONCATENATE(\"Phase \",Input!$J$14)","v":"Phase "},null,null,{"$f":"IF(COUNTBLANK(Input!F14:J14)=5,\"\",IF(COUNTBLANK(Input!G14:J14)=4,\"Total\",\"Total Amount Required\"))","v":""}]
[null,"SIGN NUMBER","SIGN SIZE","DESCRIPTION",null,null,null,null,null,"Amount Required Per Sheet",null,null,null,"Amount Required Per Sheet",null,null,null,"Amount Required Per Sheet",null,null,null,"Amount Required Per Sheet",null,null,null,"Amount Required Per Sheet",null,null,{"$f":"IF(COUNTBLANK(Input!F14:J14)=5,\"Total\",CONCATENATE(\"Phase\n\",Input!$F$14))","v":"Total"},{"$f":"CONCATENATE(\"Phase\n\",Input!$G$14)","v":"Phase\n"},{"$f":"CONCATENATE(\"Phase\n\",Input!$H$14)","v":"Phase\n"},{"$f":"CONCATENATE(\"Phase\n\",Input!$I$14)","v":"Phase\n"},{"$f":"CONCATENATE(\"Phase\n\",Input!$J$14)","v":"Phase\n"}]
[0,null,null,null,null,null,null,null,null,"Sheet 1","Sheet2",null,null,"Sheet 3","Sheet 4",null,null,"Sheet 5","Sheet 6",null,null,"Sheet 7","Sheet 8",null,null,"Sheet 9","Sheet 10"]
[null,{"$f":"Input!B15","v":"E5-1-48"},{"$f":"Input!C15","v":"48\"x48\""},{"$f":"Input!D15","v":"EXIT GORE"},null,null,null,null,null,null,null,null,null,null,null,null,null,null,null,null,null,null,null,null,null,null,null,null,{"$f":"SUM(I7:L7)","v":0},{"$f":"IF(Input!$G$14=0,0,SUM(M7:P7))","v":0},{"$f":"IF(Input!$H$14=0,0,SUM(Q7:T7))","v":0},{"$f":"IF(Input!$I$14=0,0,SUM(U7:X7))","v":0},{"$f":"IF(Input!$J$14=0,0,SUM(Y7:AB7))","v":0}]
[null,{"$f":"Input!B16","v":"G20-1-60"},{"$f":"Input!C16","v":"60\"x24\""},{"$f":"Input!D16","v":"ROAD WORK NEXT __ MILES"},null,null,null,null,null,null,null,null,null,null,null,null,null,null,null,null,null,null,null,null,null,null,null,null,0,{"$f":"IF(Input!$G$14=0,0,SUM(M8:P8))","v":0},{"$f":"IF(Input!$H$14=0,0,SUM(Q8:T8))","v":0},{"$f":"IF(Input!$I$14=0,0,SUM(U8:X8))","v":0},{"$f":"IF(Input!$J$14=0,0,SUM(Y8:AB8))","v":0}]
[null,{"$f":"Input!B17","v":"G20-1b-60"},{"$f":"Input!C17","v":"60\"x24\""},{"$f":"Input!D17","v":"NO WORK IN PROGRESS (Sign and installation only)"},null,null,null,null,null,null,null,null,null,null,null,null,null,null,null,null,null,null,null,null,null,null,null,null,0,{"$f":"IF(Input!$G$14=0,0,SUM(M9:P9))","v":0},{"$f":"IF(Input!$H$14=0,0,SUM(Q9:T9))","v":0},{"$f":"IF(Input!$I$14=0,0,SUM(U9:X9))","v":0},{"$f":"IF(Input!$J$14=0,0,SUM(Y9:AB9))","v":0}]
[null,{"$f":"Input!B18","v":"G20-2-48"},{"$f":"Input!C18","v":"48\"x24\""},{"$f":"Input!D18","v":"END ROAD WORK"},null,null,null,null,null,null,null,null,null,null,null,null,null,null,null,null,null,null,null,null,null,null,null,null,0,{"$f":"IF(Input!$G$14=0,0,SUM(M10:P10))","v":0},{"$f":"IF(Input!$H$14=0,0,SUM(Q10:T10))","v":0},{"$f":"IF(Input!$I$14=0,0,SUM(U10:X10))","v":0},{"$f":"IF(Input!$J$14=0,0,SUM(Y10:AB10))","v":0}]
[null,{"$f":"Input!B19","v":"G20-4-36"},{"$f":"Input!C19","v":"36\"x18\""},{"$f":"Input!D19","v":"PILOT CAR FOLLOW ME (Mounted to back of pilot car)"},null,null,null,null,null,null,null,null,null,null,null,null,null,null,null,null,null,null,null,null,null,null,null,null,0,{"$f":"IF(Input!$G$14=0,0,SUM(M11:P11))","v":0},{"$f":"IF(Input!$H$14=0,0,SUM(Q11:T11))","v":0},{"$f":"IF(Input!$I$14=0,0,SUM(U11:X11))","v":0},{"$f":"IF(Input!$J$14=0,0,SUM(Y11:AB11))","v":0}]
[null,{"$f":"Input!B20","v":"G20-4b-36"},{"$f":"Input!C20","v":"36\"x30\""},{"$f":"Input!D20","v":"WAIT FOR PILOT CAR"},null,null,null,null,null,null,null,null,null,null,null,null,null,null,null,null,null,null,null,null,null,null,null,null,0,{"$f":"IF(Input!$G$14=0,0,SUM(M12:P12))","v":0},{"$f":"IF(Input!$H$14=0,0,SUM(Q12:T12))","v":0},{"$f":"IF(Input!$I$14=0,0,SUM(U12:X12))","v":0},{"$f":"IF(Input!$J$14=0,0,SUM(Y12:AB12))","v":0}]
[null,{"$f":"Input!B21","v":"G20-50a-72"},{"$f":"Input!C21","v":"72\"x36\""},{"$f":"Input!D21","v":"ROAD WORK NEXT __ MILES RT & LT ARROWS"},null,null,null,null,null,null,null,null,null,null,null,null,null,null,null,null,null,null,null,null,null,null,null,null,0,{"$f":"IF(Input!$G$14=0,0,SUM(M13:P13))","v":0},{"$f":"IF(Input!$H$14=0,0,SUM(Q13:T13))","v":0},{"$f":"IF(Input!$I$14=0,0,SUM(U13:X13))","v":0},{"$f":"IF(Input!$J$14=0,0,SUM(Y13:AB13))","v":0}]
[null,{"$f":"Input!B22","v":"G20-52a-72"},{"$f":"Input!C22","v":"72\"x24\""},{"$f":"Input!D22","v":"ROAD WORK NEXT __ MILES RT or LT ARROW"},null,null,null,null,null,null,null,null,null,null,null,null,null,null,null,null,null,null,null,null,null,null,null,null,0,{"$f":"IF(Input!$G$14=0,0,SUM(M14:P14))","v":0},{"$f":"IF(Input!$H$14=0,0,SUM(Q14:T14))","v":0},{"$f":"IF(Input!$I$14=0,0,SUM(U14:X14))","v":0},{"$f":"IF(Input!$J$14=0,0,SUM(Y14:AB14))","v":0}]
[null,{"$f":"Input!B23","v":"G20-55-96"},{"$f":"Input!C23","v":"96\"x48\""},{"$f":"Input!D23","v":"SPEED LIMIT ENFORCED - MINIMUM FEE $150 WHEN WORKERS PRESENT"},null,null,null,null,null,null,null,null,null,null,null,null,null,null,null,null,null,null,null,null,null,null,null,null,0,{"$f":"IF(Input!$G$14=0,0,SUM(M15:P15))","v":0},{"$f":"IF(Input!$H$14=0,0,SUM(Q15:T15))","v":0},{"$f":"IF(Input!$I$14=0,0,SUM(U15:X15))","v":0},{"$f":"IF(Input!$J$14=0,0,SUM(Y15:AB15))","v":0}]
[null,{"$f":"Input!B24","v":"M1-1-36"},{"$f":"Input!C24","v":"36\"x36\""},{"$f":"Input!D24","v":"INTERSTATE ROUTE MARKER (Post and installation only)"},null,null,null,null,null,null,null,null,null,null,null,null,null,null,null,null,null,null,null,null,null,null,null,null,0,{"$f":"IF(Input!$G$14=0,0,SUM(M16:P16))","v":0},{"$f":"IF(Input!$H$14=0,0,SUM(Q16:T16))","v":0},{"$f":"IF(Input!$I$14=0,0,SUM(U16:X16))","v":0},{"$f":"IF(Input!$J$14=0,0,SUM(Y16:AB16))","v":0}]
[null,{"$f":"Input!B25","v":"M1-4-24"},{"$f":"Input!C25","v":"24\"x24\""},{"$f":"Input!D25","v":"U.S. ROUTE MARKER (Post and installation only)"},null,null,null,null,null,null,null,null,null,null,null,null,null,null,null,null,null,null,null,null,null,null,null,null,0,{"$f":"IF(Input!$G$14=0,0,SUM(M17:P17))","v":0},{"$f":"IF(Input!$H$14=0,0,SUM(Q17:T17))","v":0},{"$f":"IF(Input!$I$14=0,0,SUM(U17:X17))","v":0},{"$f":"IF(Input!$J$14=0,0,SUM(Y17:AB17))","v":0}]
[null,{"$f":"Input!B26","v":"M1-5-24"},{"$f":"Input!C26","v":"24\"x24\""},{"$f":"Input!D26","v":"STATE ROUTE MARKER (Post and installation only)"},null,null,null,null,null,null,null,null,null,null,null,null,null,null,null,null,null,null,null,null,null,null,null,null,0,{"$f":"IF(Input!$G$14=0,0,SUM(M18:P18))","v":0},{"$f":"IF(Input!$H$14=0,0,SUM(Q18:T18))","v":0},{"$f":"IF(Input!$I$14=0,0,SUM(U18:X18))","v":0},{"$f":"IF(Input!$J$14=0,0,SUM(Y18:AB18))","v":0}]
[null,{"$f":"Input!B27","v":"M3-1-24"},{"$f":"Input!C27","v":"24\"x12\""},{"$f":"Input!D27","v":"NORTH (Mounted on route marker post)"},null,null,null,null,null,null,null,null,null,null,null,null,null,null,null,null,null,null,null,null,null,null,null,null,0,{"$f":"IF(Input!$G$14=0,0,SUM(M19:P19))","v":0},{"$f":"IF(Input!$H$14=0,0,SUM(Q19:T19))","v":0},{"$f":"IF(Input!$I$14=0,0,SUM(U19:X19))","v":0},{"$f":"IF(Input!$J$14=0,0,SUM(Y19:AB19))","v":0}]
[null,{"$f":"Input!B28","v":"M3-2-24"},{"$f":"Input!C28","v":"24\"x12\""},{"$f":"Input!D28","v":"EAST (Mounted on route marker post)"},null,null,null,null,null,null,null,null,null,null,null,null,null,null,null,null,null,null,null,null,null,null,null,null,0,{"$f":"IF(Input!$G$14=0,0,SUM(M20:P20))","v":0},{"$f":"IF(Input!$H$14=0,0,SUM(Q20:T20))","v":0},{"$f":"IF(Input!$I$14=0,0,SUM(U20:X20))","v":0},{"$f":"IF(Input!$J$14=0,0,SUM(Y20:AB20))","v":0}]
[null,{"$f":"Input!B29","v":"M3-3-24"},{"$f":"Input!C29","v":"24\"x12\""},{"$f":"Input!D29","v":"SOUTH (Mounted on route marker post)"},null,null,null,null,null,null,null,null,null,null,null,null,null,null,null,null,null,null,null,null,null,null,null,null,0,{"$f":"IF(Input!$G$14=0,0,SUM(M21:P21))","v":0},{"$f":"IF(Input!$H$14=0,0,SUM(Q21:T21))","v":0},{"$f":"IF(Input!$I$14=0,0,SUM(U21:X21))","v":0},{"$f":"IF(Input!$J$14=0,0,SUM(Y21:AB21))","v":0}]
[null,{"$f":"Input!B30","v":"M3-4-24"},{"$f":"Input!C30","v":"24\"x12\""},{"$f":"Input!D30","v":"WEST (Mounted on route marker post)"},null,null,null,null,null,null,null,null,null,null,null,null,null,null,null,null,null,null,null,null,null,null,null,null,0,{"$f":"IF(Input!$G$14=0,0,SUM(M22:P22))","v":0},{"$f":"IF(Input!$H$14=0,0,SUM(Q22:T22))","v":0},{"$f":"IF(Input!$I$14=0,0,SUM(U22:X22))","v":0},{"$f":"IF(Input!$J$14=0,0,SUM(Y22:AB22))","v":0}]
[null,{"$f":"Input!B31","v":"M4-8-24"},{"$f":"Input!C31","v":"24\"x12\""},{"$f":"Input!D31","v":"DETOUR (Mounted on route marker post)"},null,null,null,null,null,null,null,null,null,null,null,null,null,null,null,null,null,null,null,null,null,null,null,null,0,{"$f":"IF(Input!$G$14=0,0,SUM(M23:P23))","v":0},{"$f":"IF(Input!$H$14=0,0,SUM(Q23:T23))","v":0},{"$f":"IF(Input!$I$14=0,0,SUM(U23:X23))","v":0},{"$f":"IF(Input!$J$14=0,0,SUM(Y23:AB23))","v":0}]
[null,{"$f":"Input!B32","v":"M4-9-30"},{"$f":"Input!C32","v":"30\"x24\""},{"$f":"Input!D32","v":"DETOUR ARROW RIGHT or LEFT/AHD AND RT or LT"},null,null,null,null,null,null,null,null,null,null,null,null,null,null,null,null,null,null,null,null,null,null,null,null,0,{"$f":"IF(Input!$G$14=0,0,SUM(M24:P24))","v":0},{"$f":"IF(Input!$H$14=0,0,SUM(Q24:T24))","v":0},{"$f":"IF(Input!$I$14=0,0,SUM(U24:X24))","v":0},{"$f":"IF(Input!$J$14=0,0,SUM(Y24:AB24))","v":0}]
[null,{"$f":"Input!B33","v":"M4-10-48"},{"$f":"Input!C33","v":"48\"x18\""},{"$f":"Input!D33","v":"DETOUR (INSIDE ARROW) RIGHT or LEFT (Mounted on barricade)"},null,null,null,null,null,null,null,null,null,null,null,null,null,null,null,null,null,null,null,null,null,null,null,null,0,{"$f":"IF(Input!$G$14=0,0,SUM(M25:P25))","v":0},{"$f":"IF(Input!$H$14=0,0,SUM(Q25:T25))","v":0},{"$f":"IF(Input!$I$14=0,0,SUM(U25:X25))","v":0},{"$f":"IF(Input!$J$14=0,0,SUM(Y25:AB25))","v":0}]
[null,{"$f":"Input!B34","v":"M5-1-21"},{"$f":"Input!C34","v":"21\"x15\""},{"$f":"Input!D34","v":"ADVANCE TURN ARROW RT or LT(Mounted on route marker post)"},null,null,null,null,null,null,null,null,null,null,null,null,null,null,null,null,null,null,null,null,null,null,null,null,0,{"$f":"IF(Input!$G$14=0,0,SUM(M26:P26))","v":0},{"$f":"IF(Input!$H$14=0,0,SUM(Q26:T26))","v":0},{"$f":"IF(Input!$I$14=0,0,SUM(U26:X26))","v":0},{"$f":"IF(Input!$J$14=0,0,SUM(Y26:AB26))","v":0}]
[null,{"$f":"Input!B35","v":"M5-1-30"},{"$f":"Input!C35","v":"30\"x21\""},{"$f":"Input!D35","v":"ADVANCE TURN ARROW RT or LT(Mounted on route marker post)"},null,null,null,null,null,null,null,null,null,null,null,null,null,null,null,null,null,null,null,null,null,null,null,null,0,{"$f":"IF(Input!$G$14=0,0,SUM(M27:P27))","v":0},{"$f":"IF(Input!$H$14=0,0,SUM(Q27:T27))","v":0},{"$f":"IF(Input!$I$14=0,0,SUM(U27:X27))","v":0},{"$f":"IF(Input!$J$14=0,0,SUM(Y27:AB27))","v":0}]
[null,{"$f":"Input!B36","v":"M6-1-21"},{"$f":"Input!C36","v":"21\"x15\""},{"$f":"Input!D36","v":"DIRECTIONAL ARROW RT or LT (Mounted on route marker post)"},null,null,null,null,null,null,null,null,null,null,null,null,null,null,null,null,null,null,null,null,null,null,null,null,0,{"$f":"IF(Input!$G$14=0,0,SUM(M28:P28))","v":0},{"$f":"IF(Input!$H$14=0,0,SUM(Q28:T28))","v":0},{"$f":"IF(Input!$I$14=0,0,SUM(U28:X28))","v":0},{"$f":"IF(Input!$J$14=0,0,SUM(Y28:AB28))","v":0}]
[null,{"$f":"Input!B37","v":"M6-1-30"},{"$f":"Input!C37","v":"30\"x21\""},{"$f":"Input!D37","v":"DIRECTIONAL ARROW RT or LT (Mounted on route marker post)"},null,null,null,null,null,null,null,null,null,null,null,null,null,null,null,null,null,null,null,null,null,null,null,null,0,{"$f":"IF(Input!$G$14=0,0,SUM(M29:P29))","v":0},{"$f":"IF(Input!$H$14=0,0,SUM(Q29:T29))","v":0},{"$f":"IF(Input!$I$14=0,0,SUM(U29:X29))","v":0},{"$f":"IF(Input!$J$14=0,0,SUM(Y29:AB29))","v":0}]
[null,{"$f":"Input!B38","v":"M6-3-21"},{"$f":"Input!C38","v":"21\"x15\""},{"$f":"Input!D38","v":"DIRECTIONAL ARROW UP (Mounted on route marker post)"},null,null,null,null,null,null,null,null,null,null,null,null,null,null,null,null,null,null,null,null,null,null,null,null,0,{"$f":"IF(Input!$G$14=0,0,SUM(M30:P30))","v":0},{"$f":"IF(Input!$H$14=0,0,SUM(Q30:T30))","v":0},{"$f":"IF(Input!$I$14=0,0,SUM(U30:X30))","v":0},{"$f":"IF(Input!$J$14=0,0,SUM(Y30:AB30))","v":0}]
[null,{"$f":"Input!B39","v":"R1-1-48"},{"$f":"Input!C39","v":"48\"x48\""},{"$f":"Input!D39","v":"STOP"},null,null,null,null,null,null,null,null,null,null,null,null,null,null,null,null,null,null,null,null,null,null,null,null,0,{"$f":"IF(Input!$G$14=0,0,SUM(M31:P31))","v":0},{"$f":"IF(Input!$H$14=0,0,SUM(Q31:T31))","v":0},{"$f":"IF(Input!$I$14=0,0,SUM(U31:X31))","v":0},{"$f":"IF(Input!$J$14=0,0,SUM(Y31:AB31))","v":0}]
[null,{"$f":"Input!B40","v":"R1-2-60"},{"$f":"Input!C40","v":"60\"x60\" "},{"$f":"Input!D40","v":"YIELD "},null,null,null,null,null,null,null,null,null,null,null,null,null,null,null,null,null,null,null,null,null,null,null,null,0,{"$f":"IF(Input!$G$14=0,0,SUM(M32:P32))","v":0},{"$f":"IF(Input!$H$14=0,0,SUM(Q32:T32))","v":0},{"$f":"IF(Input!$I$14=0,0,SUM(U32:X32))","v":0},{"$f":"IF(Input!$J$14=0,0,SUM(Y32:AB32))","v":0}]
[null,{"$f":"Input!B41","v":"R2-1-36"},{"$f":"Input!C41","v":"36\"x48\""},{"$f":"Input!D41","v":"SPEED LIMIT __ (Portable only)"},null,null,null,null,null,null,null,null,null,null,null,null,null,null,null,null,null,null,null,null,null,null,null,null,0,{"$f":"IF(Input!$G$14=0,0,SUM(M33:P33))","v":0},{"$f":"IF(Input!$H$14=0,0,SUM(Q33:T33))","v":0},{"$f":"IF(Input!$I$14=0,0,SUM(U33:X33))","v":0},{"$f":"IF(Input!$J$14=0,0,SUM(Y33:AB33))","v":0}]
[null,{"$f":"Input!B42","v":"R2-1-48"},{"$f":"Input!C42","v":"48\"x60\""},{"$f":"Input!D42","v":"SPEED LIMIT __"},null,null,null,null,null,null,null,null,null,null,null,null,null,null,null,null,null,null,null,null,null,null,null,null,0,{"$f":"IF(Input!$G$14=0,0,SUM(M34:P34))","v":0},{"$f":"IF(Input!$H$14=0,0,SUM(Q34:T34))","v":0},{"$f":"IF(Input!$I$14=0,0,SUM(U34:X34))","v":0},{"$f":"IF(Input!$J$14=0,0,SUM(Y34:AB34))","v":0}]
[null,{"$f":"Input!B43","v":"R2-1aP-24"},{"$f":"Input!C43","v":"24\"x18\""},{"$f":"Input!D43","v":"MINIMUM FEE $150 (Mounted on Speed Limit post)"},null,null,null,null,null,null,null,null,null,null,null,null,null,null,null,null,null,null,null,null,null,null,null,null,0,{"$f":"IF(Input!$G$14=0,0,SUM(M35:P35))","v":0},{"$f":"IF(Input!$H$14=0,0,SUM(Q35:T35))","v":0},{"$f":"IF(Input!$I$14=0,0,SUM(U35:X35))","v":0},{"$f":"IF(Input!$J$14=0,0,SUM(Y35:AB35))","v":0}]
[null,{"$f":"Input!B44","v":"R3-2-48"},{"$f":"Input!C44","v":"48\"x48\""},{"$f":"Input!D44","v":"NO LEFT TURN"},null,null,null,null,null,null,null,null,null,null,null,null,null,null,null,null,null,null,null,null,null,null,null,null,0,{"$f":"IF(Input!$G$14=0,0,SUM(M36:P36))","v":0},{"$f":"IF(Input!$H$14=0,0,SUM(Q36:T36))","v":0},{"$f":"IF(Input!$I$14=0,0,SUM(U36:X36))","v":0},{"$f":"IF(Input!$J$14=0,0,SUM(Y36:AB36))","v":0}]
[null,{"$f":"Input!B45","v":"R4-1-48"},{"$f":"Input!C45","v":"48\"x60\""},{"$f":"Input!D45","v":"DO NOT PASS"},null,null,null,null,null,null,null,null,null,null,null,null,null,null,null,null,null,null,null,null,null,null,null,null,0,{"$f":"IF(Input!$G$14=0,0,SUM(M37:P37))","v":0},{"$f":"IF(Input!$H$14=0,0,SUM(Q37:T37))","v":0},{"$f":"IF(Input!$I$14=0,0,SUM(U37:X37))","v":0},{"$f":"IF(Input!$J$14=0,0,SUM(Y37:AB37))","v":0}]
[null,{"$f":"Input!B46","v":"R4-7-48"},{"$f":"Input!C46","v":"48\"x60\""},{"$f":"Input!D46","v":"KEEP RIGHT"},null,null,null,null,null,null,null,null,null,null,null,null,null,null,null,null,null,null,null,null,null,null,null,null,0,{"$f":"IF(Input!$G$14=0,0,SUM(M38:P38))","v":0},{"$f":"IF(Input!$H$14=0,0,SUM(Q38:T38))","v":0},{"$f":"IF(Input!$I$14=0,0,SUM(U38:X38))","v":0},{"$f":"IF(Input!$J$14=0,0,SUM(Y38:AB38))","v":0}]
[null,{"$f":"Input!B47","v":"R5-1-48"},{"$f":"Input!C47","v":"48\"x48\""},{"$f":"Input!D47","v":"DO NOT ENTER"},null,null,null,null,null,null,null,null,null,null,null,null,null,null,null,null,null,null,null,null,null,null,null,null,{"$f":"SUM(I39:L39)","v":0},{"$f":"IF(Input!$G$14=0,0,SUM(M39:P39))","v":0},{"$f":"IF(Input!$H$14=0,0,SUM(Q39:T39))","v":0},{"$f":"IF(Input!$I$14=0,0,SUM(U39:X39))","v":0},{"$f":"IF(Input!$J$14=0,0,SUM(Y39:AB39))","v":0}]
[null,{"$f":"Input!B48","v":"R6-1-54"},{"$f":"Input!C48","v":"54\"x18\""},{"$f":"Input!D48","v":"ONE WAY RIGHT or LEFT (Mounted on STOP or DO NOT ENTER  post)"},null,null,null,null,null,null,null,null,null,null,null,null,null,null,null,null,null,null,null,null,null,null,null,null,0,{"$f":"IF(Input!$G$14=0,0,SUM(M40:P40))","v":0},{"$f":"IF(Input!$H$14=0,0,SUM(Q40:T40))","v":0},{"$f":"IF(Input!$I$14=0,0,SUM(U40:X40))","v":0},{"$f":"IF(Input!$J$14=0,0,SUM(Y40:AB40))","v":0}]
[null,{"$f":"Input!B49","v":"R7-1-12"},{"$f":"Input!C49","v":"12\"x18\""},{"$f":"Input!D49","v":"NO PARKING ANY TIME"},null,null,null,null,null,null,null,null,null,null,null,null,null,null,null,null,null,null,null,null,null,null,null,null,0,{"$f":"IF(Input!$G$14=0,0,SUM(M41:P41))","v":0},{"$f":"IF(Input!$H$14=0,0,SUM(Q41:T41))","v":0},{"$f":"IF(Input!$I$14=0,0,SUM(U41:X41))","v":0},{"$f":"IF(Input!$J$14=0,0,SUM(Y41:AB41))","v":0}]
[null,{"$f":"Input!B50","v":"R10-6-24"},{"$f":"Input!C50","v":"24\"x36\""},{"$f":"Input!D50","v":"STOP HERE ON RED"},null,null,null,null,null,null,null,null,null,null,null,null,null,null,null,null,null,null,null,null,null,null,null,null,0,{"$f":"IF(Input!$G$14=0,0,SUM(M42:P42))","v":0},{"$f":"IF(Input!$H$14=0,0,SUM(Q42:T42))","v":0},{"$f":"IF(Input!$I$14=0,0,SUM(U42:X42))","v":0},{"$f":"IF(Input!$J$14=0,0,SUM(Y42:AB42))","v":0}]
[null,{"$f":"Input!B51","v":"R11-2-48"},{"$f":"Input!C51","v":"48\"x30\""},{"$f":"Input!D51","v":"ROAD CLOSED (Mounted on barricade)"},null,null,null,null,null,null,null,null,null,null,null,null,null,null,null,null,null,null,null,null,null,null,null,null,0,{"$f":"IF(Input!$G$14=0,0,SUM(M43:P43))","v":0},{"$f":"IF(Input!$H$14=0,0,SUM(Q43:T43))","v":0},{"$f":"IF(Input!$I$14=0,0,SUM(U43:X43))","v":0},{"$f":"IF(Input!$J$14=0,0,SUM(Y43:AB43))","v":0}]
[null,{"$f":"Input!B52","v":"R11-2a-48"},{"$f":"Input!C52","v":"48\"x30\""},{"$f":"Input!D52","v":"STREET CLOSED (Mounted on barricade)"},null,null,null,null,null,null,null,null,null,null,null,null,null,null,null,null,null,null,null,null,null,null,null,null,0,{"$f":"IF(Input!$G$14=0,0,SUM(M44:P44))","v":0},{"$f":"IF(Input!$H$14=0,0,SUM(Q44:T44))","v":0},{"$f":"IF(Input!$I$14=0,0,SUM(U44:X44))","v":0},{"$f":"IF(Input!$J$14=0,0,SUM(Y44:AB44))","v":0}]
[null,{"$f":"Input!B53","v":"R11-3a-60"},{"$f":"Input!C53","v":"60\"x30\""},{"$f":"Input!D53","v":"ROAD CLOSED __ MILES AHEAD LOCAL TRAFFIC ONLY (Mtd on barricade)"},null,null,null,null,null,null,null,null,null,null,null,null,null,null,null,null,null,null,null,null,null,null,null,null,0,{"$f":"IF(Input!$G$14=0,0,SUM(M45:P45))","v":0},{"$f":"IF(Input!$H$14=0,0,SUM(Q45:T45))","v":0},{"$f":"IF(Input!$I$14=0,0,SUM(U45:X45))","v":0},{"$f":"IF(Input!$J$14=0,0,SUM(Y45:AB45))","v":0}]
[null,{"$f":"Input!B54","v":"R11-3c-60"},{"$f":"Input!C54","v":"60\"x30\""},{"$f":"Input!D54","v":"STREET CLOSED __ MILES AHEAD LOCAL TRAFFIC ONLY (Mtd on barricade)"},null,null,null,null,null,null,null,null,null,null,null,null,null,null,null,null,null,null,null,null,null,null,null,null,0,{"$f":"IF(Input!$G$14=0,0,SUM(M46:P46))","v":0},{"$f":"IF(Input!$H$14=0,0,SUM(Q46:T46))","v":0},{"$f":"IF(Input!$I$14=0,0,SUM(U46:X46))","v":0},{"$f":"IF(Input!$J$14=0,0,SUM(Y46:AB46))","v":0}]
[null,{"$f":"Input!B55","v":"R11-4a-60"},{"$f":"Input!C55","v":"60\"x30\""},{"$f":"Input!D55","v":"STREET CLOSED TO THRU TRAFFIC (Mounted on barricade)"},null,null,null,null,null,null,null,null,null,null,null,null,null,null,null,null,null,null,null,null,null,null,null,null,0,{"$f":"IF(Input!$G$14=0,0,SUM(M47:P47))","v":0},{"$f":"IF(Input!$H$14=0,0,SUM(Q47:T47))","v":0},{"$f":"IF(Input!$I$14=0,0,SUM(U47:X47))","v":0},{"$f":"IF(Input!$J$14=0,0,SUM(Y47:AB47))","v":0}]
[null,{"$f":"Input!B56","v":"W1-3-48"},{"$f":"Input!C56","v":"48\"x48\""},{"$f":"Input!D56","v":"REVERSE TURN RIGHT or LEFT"},null,null,null,null,null,null,null,null,null,null,null,null,null,null,null,null,null,null,null,null,null,null,null,null,0,{"$f":"IF(Input!$G$14=0,0,SUM(M48:P48))","v":0},{"$f":"IF(Input!$H$14=0,0,SUM(Q48:T48))","v":0},{"$f":"IF(Input!$I$14=0,0,SUM(U48:X48))","v":0},{"$f":"IF(Input!$J$14=0,0,SUM(Y48:AB48))","v":0}]
[null,{"$f":"Input!B57","v":"W1-4-48"},{"$f":"Input!C57","v":"48\"x48\""},{"$f":"Input!D57","v":"REVERSE CURVE RIGHT or LEFT"},null,null,null,null,null,null,null,null,null,null,null,null,null,null,null,null,null,null,null,null,null,null,null,null,0,{"$f":"IF(Input!$G$14=0,0,SUM(M49:P49))","v":0},{"$f":"IF(Input!$H$14=0,0,SUM(Q49:T49))","v":0},{"$f":"IF(Input!$I$14=0,0,SUM(U49:X49))","v":0},{"$f":"IF(Input!$J$14=0,0,SUM(Y49:AB49))","v":0}]
[null,{"$f":"Input!B58","v":"W1-4b-48"},{"$f":"Input!C58","v":"48\"x48\""},{"$f":"Input!D58","v":"TWO LANE REVERSE CURVE RIGHT or LEFT"},null,null,null,null,null,null,null,null,null,null,null,null,null,null,null,null,null,null,null,null,null,null,null,null,0,{"$f":"IF(Input!$G$14=0,0,SUM(M50:P50))","v":0},{"$f":"IF(Input!$H$14=0,0,SUM(Q50:T50))","v":0},{"$f":"IF(Input!$I$14=0,0,SUM(U50:X50))","v":0},{"$f":"IF(Input!$J$14=0,0,SUM(Y50:AB50))","v":0}]
[null,{"$f":"Input!B59","v":"W1-6-48"},{"$f":"Input!C59","v":"48\"x24\""},{"$f":"Input!D59","v":"ONE DIRECTION LARGE ARROW"},null,null,null,null,null,null,null,null,null,null,null,null,null,null,null,null,null,null,null,null,null,null,null,null,0,{"$f":"IF(Input!$G$14=0,0,SUM(M51:P51))","v":0},{"$f":"IF(Input!$H$14=0,0,SUM(Q51:T51))","v":0},{"$f":"IF(Input!$I$14=0,0,SUM(U51:X51))","v":0},{"$f":"IF(Input!$J$14=0,0,SUM(Y51:AB51))","v":0}]
[null,{"$f":"Input!B60","v":"W3-1-48"},{"$f":"Input!C60","v":"48\"x48\""},{"$f":"Input!D60","v":"STOP AHEAD"},null,null,null,null,null,null,null,null,null,null,null,null,null,null,null,null,null,null,null,null,null,null,null,null,0,{"$f":"IF(Input!$G$14=0,0,SUM(M52:P52))","v":0},{"$f":"IF(Input!$H$14=0,0,SUM(Q52:T52))","v":0},{"$f":"IF(Input!$I$14=0,0,SUM(U52:X52))","v":0},{"$f":"IF(Input!$J$14=0,0,SUM(Y52:AB52))","v":0}]
[null,{"$f":"Input!B61","v":"W3-3-48"},{"$f":"Input!C61","v":"48\"x48\""},{"$f":"Input!D61","v":"SIGNAL AHEAD"},null,null,null,null,null,null,null,null,null,null,null,null,null,null,null,null,null,null,null,null,null,null,null,null,0,{"$f":"IF(Input!$G$14=0,0,SUM(M53:P53))","v":0},{"$f":"IF(Input!$H$14=0,0,SUM(Q53:T53))","v":0},{"$f":"IF(Input!$I$14=0,0,SUM(U53:X53))","v":0},{"$f":"IF(Input!$J$14=0,0,SUM(Y53:AB53))","v":0}]
[null,{"$f":"Input!B62","v":"W3-4-48"},{"$f":"Input!C62","v":"48\"x48\""},{"$f":"Input!D62","v":"BE PREPARED TO STOP"},null,null,null,null,null,null,null,null,null,null,null,null,null,null,null,null,null,null,null,null,null,null,null,null,0,{"$f":"IF(Input!$G$14=0,0,SUM(M54:P54))","v":0},{"$f":"IF(Input!$H$14=0,0,SUM(Q54:T54))","v":0},{"$f":"IF(Input!$I$14=0,0,SUM(U54:X54))","v":0},{"$f":"IF(Input!$J$14=0,0,SUM(Y54:AB54))","v":0}]
[null,{"$f":"Input!B63","v":"W3-5-48"},{"$f":"Input!C63","v":"48\"x48\""},{"$f":"Input!D63","v":"SPEED REDUCTION AHEAD"},null,null,null,null,null,null,null,null,null,null,null,null,null,null,null,null,null,null,null,null,null,null,null,null,0,{"$f":"IF(Input!$G$14=0,0,SUM(M55:P55))","v":0},{"$f":"IF(Input!$H$14=0,0,SUM(Q55:T55))","v":0},{"$f":"IF(Input!$I$14=0,0,SUM(U55:X55))","v":0},{"$f":"IF(Input!$J$14=0,0,SUM(Y55:AB55))","v":0}]
[null,{"$f":"Input!B64","v":"W4-2-48"},{"$f":"Input!C64","v":"48\"x48\""},{"$f":"Input!D64","v":"LANE ENDS RIGHT or LEFT"},null,null,null,null,null,null,null,null,null,null,null,null,null,null,null,null,null,null,null,null,null,null,null,null,0,{"$f":"IF(Input!$G$14=0,0,SUM(M56:P56))","v":0},{"$f":"IF(Input!$H$14=0,0,SUM(Q56:T56))","v":0},{"$f":"IF(Input!$I$14=0,0,SUM(U56:X56))","v":0},{"$f":"IF(Input!$J$14=0,0,SUM(Y56:AB56))","v":0}]
[null,{"$f":"Input!B65","v":"W5-1-48"},{"$f":"Input!C65","v":"48\"x48\""},{"$f":"Input!D65","v":"ROAD NARROWS"},null,null,null,null,null,null,null,null,null,null,null,null,null,null,null,null,null,null,null,null,null,null,null,null,0,{"$f":"IF(Input!$G$14=0,0,SUM(M57:P57))","v":0},{"$f":"IF(Input!$H$14=0,0,SUM(Q57:T57))","v":0},{"$f":"IF(Input!$I$14=0,0,SUM(U57:X57))","v":0},{"$f":"IF(Input!$J$14=0,0,SUM(Y57:AB57))","v":0}]
[null,{"$f":"Input!B66","v":"W5-8-48"},{"$f":"Input!C66","v":"48\"x48\""},{"$f":"Input!D66","v":"THRU TRAFFIC RIGHT LANE"},null,null,null,null,null,null,null,null,null,null,null,null,null,null,null,null,null,null,null,null,null,null,null,null,0,{"$f":"IF(Input!$G$14=0,0,SUM(M58:P58))","v":0},{"$f":"IF(Input!$H$14=0,0,SUM(Q58:T58))","v":0},{"$f":"IF(Input!$I$14=0,0,SUM(U58:X58))","v":0},{"$f":"IF(Input!$J$14=0,0,SUM(Y58:AB58))","v":0}]
[null,{"$f":"Input!B67","v":"W5-9-48"},{"$f":"Input!C67","v":"48\"x48\""},{"$f":"Input!D67","v":"ROAD WORK TRAFFIC ONLY DOWN & LT or RT ARROW"},null,null,null,null,null,null,null,null,null,null,null,null,null,null,null,null,null,null,null,null,null,null,null,null,0,{"$f":"IF(Input!$G$14=0,0,SUM(M59:P59))","v":0},{"$f":"IF(Input!$H$14=0,0,SUM(Q59:T59))","v":0},{"$f":"IF(Input!$I$14=0,0,SUM(U59:X59))","v":0},{"$f":"IF(Input!$J$14=0,0,SUM(Y59:AB59))","v":0}]
[null,{"$f":"Input!B68","v":"W6-3-48"},{"$f":"Input!C68","v":"48\"x48\""},{"$f":"Input!D68","v":"TWO WAY TRAFFIC"},null,null,null,null,null,null,null,null,null,null,null,null,null,null,null,null,null,null,null,null,null,null,null,null,0,{"$f":"IF(Input!$G$14=0,0,SUM(M60:P60))","v":0},{"$f":"IF(Input!$H$14=0,0,SUM(Q60:T60))","v":0},{"$f":"IF(Input!$I$14=0,0,SUM(U60:X60))","v":0},{"$f":"IF(Input!$J$14=0,0,SUM(Y60:AB60))","v":0}]
[null,{"$f":"Input!B69","v":"W8-1-48"},{"$f":"Input!C69","v":"48\"x48\""},{"$f":"Input!D69","v":"BUMP"},null,null,null,null,null,null,null,null,null,null,null,null,null,null,null,null,null,null,null,null,null,null,null,null,0,{"$f":"IF(Input!$G$14=0,0,SUM(M61:P61))","v":0},{"$f":"IF(Input!$H$14=0,0,SUM(Q61:T61))","v":0},{"$f":"IF(Input!$I$14=0,0,SUM(U61:X61))","v":0},{"$f":"IF(Input!$J$14=0,0,SUM(Y61:AB61))","v":0}]
[null,{"$f":"Input!B70","v":"W8-3-48"},{"$f":"Input!C70","v":"48\"x48\""},{"$f":"Input!D70","v":"PAVEMENT ENDS"},null,null,null,null,null,null,null,null,null,null,null,null,null,null,null,null,null,null,null,null,null,null,null,null,0,{"$f":"IF(Input!$G$14=0,0,SUM(M62:P62))","v":0},{"$f":"IF(Input!$H$14=0,0,SUM(Q62:T62))","v":0},{"$f":"IF(Input!$I$14=0,0,SUM(U62:X62))","v":0},{"$f":"IF(Input!$J$14=0,0,SUM(Y62:AB62))","v":0}]
[null,{"$f":"Input!B71","v":"W8-7-48"},{"$f":"Input!C71","v":"48\"x48\""},{"$f":"Input!D71","v":"LOOSE GRAVEL"},null,null,null,null,null,null,null,null,null,null,null,null,null,null,null,null,null,null,null,null,null,null,null,null,0,{"$f":"IF(Input!$G$14=0,0,SUM(M63:P63))","v":0},{"$f":"IF(Input!$H$14=0,0,SUM(Q63:T63))","v":0},{"$f":"IF(Input!$I$14=0,0,SUM(U63:X63))","v":0},{"$f":"IF(Input!$J$14=0,0,SUM(Y63:AB63))","v":0}]
[null,{"$f":"Input!B72","v":"W8-17-48"},{"$f":"Input!C72","v":"48\"x48\""},{"$f":"Input!D72","v":"SHOULDER DROP-OFF SYMBOL"},null,null,null,null,null,null,null,null,null,null,null,null,null,null,null,null,null,null,null,null,null,null,null,null,0,{"$f":"IF(Input!$G$14=0,0,SUM(M64:P64))","v":0},{"$f":"IF(Input!$H$14=0,0,SUM(Q64:T64))","v":0},{"$f":"IF(Input!$I$14=0,0,SUM(U64:X64))","v":0},{"$f":"IF(Input!$J$14=0,0,SUM(Y64:AB64))","v":0}]
[null,{"$f":"Input!B73","v":"W8-11-48"},{"$f":"Input!C73","v":"48\"x48\""},{"$f":"Input!D73","v":"UNEVEN LANES"},null,null,null,null,null,null,null,null,null,null,null,null,null,null,null,null,null,null,null,null,null,null,null,null,0,{"$f":"IF(Input!$G$14=0,0,SUM(M65:P65))","v":0},{"$f":"IF(Input!$H$14=0,0,SUM(Q65:T65))","v":0},{"$f":"IF(Input!$I$14=0,0,SUM(U65:X65))","v":0},{"$f":"IF(Input!$J$14=0,0,SUM(Y65:AB65))","v":0}]
[null,{"$f":"Input!B74","v":"W8-12-48"},{"$f":"Input!C74","v":"48\"x48\""},{"$f":"Input!D74","v":"NO CENTER LINE"},null,null,null,null,null,null,null,null,null,null,null,null,null,null,null,null,null,null,null,null,null,null,null,null,0,{"$f":"IF(Input!$G$14=0,0,SUM(M66:P66))","v":0},{"$f":"IF(Input!$H$14=0,0,SUM(Q66:T66))","v":0},{"$f":"IF(Input!$I$14=0,0,SUM(U66:X66))","v":0},{"$f":"IF(Input!$J$14=0,0,SUM(Y66:AB66))","v":0}]
[null,{"$f":"Input!B75","v":"W8-53-48"},{"$f":"Input!C75","v":"48\"x48\""},{"$f":"Input!D75","v":"TRUCKS ENTERING HIGHWAY"},null,null,null,null,null,null,null,null,null,null,null,null,null,null,null,null,null,null,null,null,null,null,null,null,0,{"$f":"IF(Input!$G$14=0,0,SUM(M67:P67))","v":0},{"$f":"IF(Input!$H$14=0,0,SUM(Q67:T67))","v":0},{"$f":"IF(Input!$I$14=0,0,SUM(U67:X67))","v":0},{"$f":"IF(Input!$J$14=0,0,SUM(Y67:AB67))","v":0}]
[null,{"$f":"Input!B76","v":"W8-54-48"},{"$f":"Input!C76","v":"48\"x48\""},{"$f":"Input!D76","v":"TRUCKS ENTERING AHEAD or __ FT or _ MILE"},null,null,null,null,null,null,null,null,null,null,null,null,null,null,null,null,null,null,null,null,null,null,null,null,0,{"$f":"IF(Input!$G$14=0,0,SUM(M68:P68))","v":0},{"$f":"IF(Input!$H$14=0,0,SUM(Q68:T68))","v":0},{"$f":"IF(Input!$I$14=0,0,SUM(U68:X68))","v":0},{"$f":"IF(Input!$J$14=0,0,SUM(Y68:AB68))","v":0}]
[null,{"$f":"Input!B77","v":"W8-55-48"},{"$f":"Input!C77","v":"48\"x48\""},{"$f":"Input!D77","v":"TRUCKS CROSSING AHEAD or __ FT or _ MILE"},null,null,null,null,null,null,null,null,null,null,null,null,null,null,null,null,null,null,null,null,null,null,null,null,0,{"$f":"IF(Input!$G$14=0,0,SUM(M69:P69))","v":0},{"$f":"IF(Input!$H$14=0,0,SUM(Q69:T69))","v":0},{"$f":"IF(Input!$I$14=0,0,SUM(U69:X69))","v":0},{"$f":"IF(Input!$J$14=0,0,SUM(Y69:AB69))","v":0}]
[null,{"$f":"Input!B78","v":"W8-56-48"},{"$f":"Input!C78","v":"48\"x48\""},{"$f":"Input!D78","v":"TRUCKS EXITING HIGHWAY"},null,null,null,null,null,null,null,null,null,null,null,null,null,null,null,null,null,null,null,null,null,null,null,null,0,{"$f":"IF(Input!$G$14=0,0,SUM(M70:P70))","v":0},{"$f":"IF(Input!$H$14=0,0,SUM(Q70:T70))","v":0},{"$f":"IF(Input!$I$14=0,0,SUM(U70:X70))","v":0},{"$f":"IF(Input!$J$14=0,0,SUM(Y70:AB70))","v":0}]
[null,{"$f":"Input!B79","v":"W9-3a-48"},{"$f":"Input!C79","v":"48\"x48\""},{"$f":"Input!D79","v":"CENTER LANE CLOSED SYMBOL"},null,null,null,null,null,null,null,null,null,null,null,null,null,null,null,null,null,null,null,null,null,null,null,null,{"$f":"SUM(I71:L71)","v":0},{"$f":"IF(Input!$G$14=0,0,SUM(M71:P71))","v":0},{"$f":"IF(Input!$H$14=0,0,SUM(Q71:T71))","v":0},{"$f":"IF(Input!$I$14=0,0,SUM(U71:X71))","v":0},{"$f":"IF(Input!$J$14=0,0,SUM(Y71:AB71))","v":0}]
[null,{"$f":"Input!B80","v":"W13-1P-30"},{"$f":"Input!C80","v":"30\"x30\""},{"$f":"Input!D80","v":"__ MPH ADVISORY SPEED PLAQUE (Mounted on warning sign post)"},null,null,null,null,null,null,null,null,null,null,null,null,null,null,null,null,null,null,null,null,null,null,null,null,0,{"$f":"IF(Input!$G$14=0,0,SUM(M72:P72))","v":0},{"$f":"IF(Input!$H$14=0,0,SUM(Q72:T72))","v":0},{"$f":"IF(Input!$I$14=0,0,SUM(U72:X72))","v":0},{"$f":"IF(Input!$J$14=0,0,SUM(Y72:AB72))","v":0}]
[null,{"$f":"Input!B81","v":"W14-3-64"},{"$f":"Input!C81","v":"64\"x48\""},{"$f":"Input!D81","v":"NO PASSING ZONE"},null,null,null,null,null,null,null,null,null,null,null,null,null,null,null,null,null,null,null,null,null,null,null,null,0,{"$f":"IF(Input!$G$14=0,0,SUM(M73:P73))","v":0},{"$f":"IF(Input!$H$14=0,0,SUM(Q73:T73))","v":0},{"$f":"IF(Input!$I$14=0,0,SUM(U73:X73))","v":0},{"$f":"IF(Input!$J$14=0,0,SUM(Y73:AB73))","v":0}]
[null,{"$f":"Input!B82","v":"W16-2P-30"},{"$f":"Input!C82","v":"30\"x24\""},{"$f":"Input!D82","v":"__ FEET PLAQUE (Mounted on warning sign post)"},null,null,null,null,null,null,null,null,null,null,null,null,null,null,null,null,null,null,null,null,null,null,null,null,0,{"$f":"IF(Input!$G$14=0,0,SUM(M74:P74))","v":0},{"$f":"IF(Input!$H$14=0,0,SUM(Q74:T74))","v":0},{"$f":"IF(Input!$I$14=0,0,SUM(U74:X74))","v":0},{"$f":"IF(Input!$J$14=0,0,SUM(Y74:AB74))","v":0}]
[null,{"$f":"Input!B83","v":"W20-1-48"},{"$f":"Input!C83","v":"48\"x48\""},{"$f":"Input!D83","v":"ROAD WORK AHEAD or _FT or _ MILE"},null,null,null,null,null,null,null,null,null,null,null,null,null,null,null,null,null,null,null,null,null,null,null,null,0,{"$f":"IF(Input!$G$14=0,0,SUM(M75:P75))","v":0},{"$f":"IF(Input!$H$14=0,0,SUM(Q75:T75))","v":0},{"$f":"IF(Input!$I$14=0,0,SUM(U75:X75))","v":0},{"$f":"IF(Input!$J$14=0,0,SUM(Y75:AB75))","v":0}]
[null,{"$f":"Input!B84","v":"W20-2-48"},{"$f":"Input!C84","v":"48\"x48\""},{"$f":"Input!D84","v":"DETOUR AHEAD or __ FT or _ MILE"},null,null,null,null,null,null,null,null,null,null,null,null,null,null,null,null,null,null,null,null,null,null,null,null,0,{"$f":"IF(Input!$G$14=0,0,SUM(M76:P76))","v":0},{"$f":"IF(Input!$H$14=0,0,SUM(Q76:T76))","v":0},{"$f":"IF(Input!$I$14=0,0,SUM(U76:X76))","v":0},{"$f":"IF(Input!$J$14=0,0,SUM(Y76:AB76))","v":0}]
[null,{"$f":"Input!B85","v":"W20-3-48"},{"$f":"Input!C85","v":"48\"x48\""},{"$f":"Input!D85","v":"ROAD or STREET CLOSED AHEAD or __ FT or _ MILE"},null,null,null,null,null,null,null,null,null,null,null,null,null,null,null,null,null,null,null,null,null,null,null,null,0,{"$f":"IF(Input!$G$14=0,0,SUM(M77:P77))","v":0},{"$f":"IF(Input!$H$14=0,0,SUM(Q77:T77))","v":0},{"$f":"IF(Input!$I$14=0,0,SUM(U77:X77))","v":0},{"$f":"IF(Input!$J$14=0,0,SUM(Y77:AB77))","v":0}]
[null,{"$f":"Input!B86","v":"W20-4-48"},{"$f":"Input!C86","v":"48\"x48\""},{"$f":"Input!D86","v":"ONE LANE ROAD AHEAD or __ FT or _ MILE"},null,null,null,null,null,null,null,null,null,null,null,null,null,null,null,null,null,null,null,null,null,null,null,null,0,{"$f":"IF(Input!$G$14=0,0,SUM(M78:P78))","v":0},{"$f":"IF(Input!$H$14=0,0,SUM(Q78:T78))","v":0},{"$f":"IF(Input!$I$14=0,0,SUM(U78:X78))","v":0},{"$f":"IF(Input!$J$14=0,0,SUM(Y78:AB78))","v":0}]
[null,{"$f":"Input!B87","v":"W20-5-48"},{"$f":"Input!C87","v":"48\"x48\""},{"$f":"Input!D87","v":"RIGHT or CENTER or LEFT LANE CLOSED AHEAD or __ FT or _ MILE"},null,null,null,null,null,null,null,null,null,null,null,null,null,null,null,null,null,null,null,null,null,null,null,null,0,{"$f":"IF(Input!$G$14=0,0,SUM(M79:P79))","v":0},{"$f":"IF(Input!$H$14=0,0,SUM(Q79:T79))","v":0},{"$f":"IF(Input!$I$14=0,0,SUM(U79:X79))","v":0},{"$f":"IF(Input!$J$14=0,0,SUM(Y79:AB79))","v":0}]
[null,{"$f":"Input!B88","v":"W20-7-48"},{"$f":"Input!C88","v":"48\"x48\""},{"$f":"Input!D88","v":"FLAGGER"},null,null,null,null,null,null,null,null,null,null,null,null,null,null,null,null,null,null,null,null,null,null,null,null,0,{"$f":"IF(Input!$G$14=0,0,SUM(M80:P80))","v":0},{"$f":"IF(Input!$H$14=0,0,SUM(Q80:T80))","v":0},{"$f":"IF(Input!$I$14=0,0,SUM(U80:X80))","v":0},{"$f":"IF(Input!$J$14=0,0,SUM(Y80:AB80))","v":0}]
[null,{"$f":"Input!B89","v":"W20-8-18"},{"$f":"Input!C89","v":"18\"x18\""},{"$f":"Input!D89","v":"STOP - SLOW PADDLE Back to Back"},null,null,null,null,null,null,null,null,null,null,null,null,null,null,null,null,null,null,null,null,null,null,null,null,0,{"$f":"IF(Input!$G$14=0,0,SUM(M81:P81))","v":0},{"$f":"IF(Input!$H$14=0,0,SUM(Q81:T81))","v":0},{"$f":"IF(Input!$I$14=0,0,SUM(U81:X81))","v":0},{"$f":"IF(Input!$J$14=0,0,SUM(Y81:AB81))","v":0}]
[null,{"$f":"Input!B90","v":"W20-52P-54"},{"$f":"Input!C90","v":"54\"x12\""},{"$f":"Input!D90","v":"NEXT __ MILES (Mounted on warning sign post)"},null,null,null,null,null,null,null,null,null,null,null,null,null,null,null,null,null,null,null,null,null,null,null,null,0,{"$f":"IF(Input!$G$14=0,0,SUM(M82:P82))","v":0},{"$f":"IF(Input!$H$14=0,0,SUM(Q82:T82))","v":0},{"$f":"IF(Input!$I$14=0,0,SUM(U82:X82))","v":0},{"$f":"IF(Input!$J$14=0,0,SUM(Y82:AB82))","v":0}]
[null,{"$f":"Input!B91","v":"W21-1-48"},{"$f":"Input!C91","v":"48\"x48\""},{"$f":"Input!D91","v":"WORKERS"},null,null,null,null,null,null,null,null,null,null,null,null,null,null,null,null,null,null,null,null,null,null,null,null,0,{"$f":"IF(Input!$G$14=0,0,SUM(M83:P83))","v":0},{"$f":"IF(Input!$H$14=0,0,SUM(Q83:T83))","v":0},{"$f":"IF(Input!$I$14=0,0,SUM(U83:X83))","v":0},{"$f":"IF(Input!$J$14=0,0,SUM(Y83:AB83))","v":0}]
[null,{"$f":"Input!B92","v":"W21-2-48"},{"$f":"Input!C92","v":"48\"x48\""},{"$f":"Input!D92","v":"FRESH OIL"},null,null,null,null,null,null,null,null,null,null,null,null,null,null,null,null,null,null,null,null,null,null,null,null,0,{"$f":"IF(Input!$G$14=0,0,SUM(M84:P84))","v":0},{"$f":"IF(Input!$H$14=0,0,SUM(Q84:T84))","v":0},{"$f":"IF(Input!$I$14=0,0,SUM(U84:X84))","v":0},{"$f":"IF(Input!$J$14=0,0,SUM(Y84:AB84))","v":0}]
[null,{"$f":"Input!B93","v":"W21-3-48"},{"$f":"Input!C93","v":"48\"x48\""},{"$f":"Input!D93","v":"ROAD MACHINERY AHEAD  or __ FT or _ MILE"},null,null,null,null,null,null,null,null,null,null,null,null,null,null,null,null,null,null,null,null,null,null,null,null,0,{"$f":"IF(Input!$G$14=0,0,SUM(M85:P85))","v":0},{"$f":"IF(Input!$H$14=0,0,SUM(Q85:T85))","v":0},{"$f":"IF(Input!$I$14=0,0,SUM(U85:X85))","v":0},{"$f":"IF(Input!$J$14=0,0,SUM(Y85:AB85))","v":0}]
[null,{"$f":"Input!B94","v":"W21-5-48"},{"$f":"Input!C94","v":"48\"x48\""},{"$f":"Input!D94","v":"SHOULDER WORK"},null,null,null,null,null,null,null,null,null,null,null,null,null,null,null,null,null,null,null,null,null,null,null,null,0,{"$f":"IF(Input!$G$14=0,0,SUM(M86:P86))","v":0},{"$f":"IF(Input!$H$14=0,0,SUM(Q86:T86))","v":0},{"$f":"IF(Input!$I$14=0,0,SUM(U86:X86))","v":0},{"$f":"IF(Input!$J$14=0,0,SUM(Y86:AB86))","v":0}]
[null,{"$f":"Input!B95","v":"W21-5a-48"},{"$f":"Input!C95","v":"48\"x48\""},{"$f":"Input!D95","v":"RIGHT or LEFT SHOULDER CLOSED"},null,null,null,null,null,null,null,null,null,null,null,null,null,null,null,null,null,null,null,null,null,null,null,null,0,{"$f":"IF(Input!$G$14=0,0,SUM(M87:P87))","v":0},{"$f":"IF(Input!$H$14=0,0,SUM(Q87:T87))","v":0},{"$f":"IF(Input!$I$14=0,0,SUM(U87:X87))","v":0},{"$f":"IF(Input!$J$14=0,0,SUM(Y87:AB87))","v":0}]
[null,{"$f":"Input!B96","v":"W21-5b-48"},{"$f":"Input!C96","v":"48\"x48\""},{"$f":"Input!D96","v":"RIGHT or LEFT SHOULDER CLOSED AHEAD or __ FT or _ MILE"},null,null,null,null,null,null,null,null,null,null,null,null,null,null,null,null,null,null,null,null,null,null,null,null,0,{"$f":"IF(Input!$G$14=0,0,SUM(M88:P88))","v":0},{"$f":"IF(Input!$H$14=0,0,SUM(Q88:T88))","v":0},{"$f":"IF(Input!$I$14=0,0,SUM(U88:X88))","v":0},{"$f":"IF(Input!$J$14=0,0,SUM(Y88:AB88))","v":0}]
[null,{"$f":"Input!B97","v":"W21-6-48"},{"$f":"Input!C97","v":"48\"x48\""},{"$f":"Input!D97","v":"SURVEY CREW"},null,null,null,null,null,null,null,null,null,null,null,null,null,null,null,null,null,null,null,null,null,null,null,null,0,{"$f":"IF(Input!$G$14=0,0,SUM(M89:P89))","v":0},{"$f":"IF(Input!$H$14=0,0,SUM(Q89:T89))","v":0},{"$f":"IF(Input!$I$14=0,0,SUM(U89:X89))","v":0},{"$f":"IF(Input!$J$14=0,0,SUM(Y89:AB89))","v":0}]
[null,{"$f":"Input!B98","v":"W21-50-48"},{"$f":"Input!C98","v":"48\"x48\""},{"$f":"Input!D98","v":"BRIDGE PAINTING AHEAD or __ FT"},null,null,null,null,null,null,null,null,null,null,null,null,null,null,null,null,null,null,null,null,null,null,null,null,0,{"$f":"IF(Input!$G$14=0,0,SUM(M90:P90))","v":0},{"$f":"IF(Input!$H$14=0,0,SUM(Q90:T90))","v":0},{"$f":"IF(Input!$I$14=0,0,SUM(U90:X90))","v":0},{"$f":"IF(Input!$J$14=0,0,SUM(Y90:AB90))","v":0}]
[null,{"$f":"Input!B99","v":"W21-51-48"},{"$f":"Input!C99","v":"48\"x48\""},{"$f":"Input!D99","v":"MATERIAL ON ROADWAY"},null,null,null,null,null,null,null,null,null,null,null,null,null,null,null,null,null,null,null,null,null,null,null,null,0,{"$f":"IF(Input!$G$14=0,0,SUM(M91:P91))","v":0},{"$f":"IF(Input!$H$14=0,0,SUM(Q91:T91))","v":0},{"$f":"IF(Input!$I$14=0,0,SUM(U91:X91))","v":0},{"$f":"IF(Input!$J$14=0,0,SUM(Y91:AB91))","v":0}]
[null,{"$f":"Input!B100","v":"W21-52-48"},{"$f":"Input!C100","v":"48\"x48\""},{"$f":"Input!D100","v":"PAVEMENT BREAKS"},null,null,null,null,null,null,null,null,null,null,null,null,null,null,null,null,null,null,null,null,null,null,null,null,0,{"$f":"IF(Input!$G$14=0,0,SUM(M92:P92))","v":0},{"$f":"IF(Input!$H$14=0,0,SUM(Q92:T92))","v":0},{"$f":"IF(Input!$I$14=0,0,SUM(U92:X92))","v":0},{"$f":"IF(Input!$J$14=0,0,SUM(Y92:AB92))","v":0}]
[null,{"$f":"Input!B101","v":"W21-53-48"},{"$f":"Input!C101","v":"48\"x48\""},{"$f":"Input!D101","v":"RUMBLE STRIPS AHEAD"},null,null,null,null,null,null,null,null,null,null,null,null,null,null,null,null,null,null,null,null,null,null,null,null,0,{"$f":"IF(Input!$G$14=0,0,SUM(M93:P93))","v":0},{"$f":"IF(Input!$H$14=0,0,SUM(Q93:T93))","v":0},{"$f":"IF(Input!$I$14=0,0,SUM(U93:X93))","v":0},{"$f":"IF(Input!$J$14=0,0,SUM(Y93:AB93))","v":0}]
[null,{"$f":"Input!B102","v":"W22-8-48"},{"$f":"Input!C102","v":"48\"x48\""},{"$f":"Input!D102","v":"FRESH OIL LOOSE ROCK"},null,null,null,null,null,null,null,null,null,null,null,null,null,null,null,null,null,null,null,null,null,null,null,null,0,{"$f":"IF(Input!$G$14=0,0,SUM(M94:P94))","v":0},{"$f":"IF(Input!$H$14=0,0,SUM(Q94:T94))","v":0},{"$f":"IF(Input!$I$14=0,0,SUM(U94:X94))","v":0},{"$f":"IF(Input!$J$14=0,0,SUM(Y94:AB94))","v":0}]
[null,{"$f":"Input!B103","v":"W24-1-48"},{"$f":"Input!C103","v":"48\"x48\""},{"$f":"Input!D103","v":"DOUBLE REVERSE CURVE"},null,null,null,null,null,null,null,null,null,null,null,null,null,null,null,null,null,null,null,null,null,null,null,null,0,{"$f":"IF(Input!$G$14=0,0,SUM(M95:P95))","v":0},{"$f":"IF(Input!$H$14=0,0,SUM(Q95:T95))","v":0},{"$f":"IF(Input!$I$14=0,0,SUM(U95:X95))","v":0},{"$f":"IF(Input!$J$14=0,0,SUM(Y95:AB95))","v":0}]
[null,{"$f":"Input!B104","v":0},{"$f":"Input!C104","v":0},{"$f":"Input!D104","v":0},null,null,null,null,null,null,null,null,null,null,null,null,null,null,null,null,null,null,null,null,null,null,null,null,0,{"$f":"IF(Input!$G$14=0,0,SUM(M96:P96))","v":0},{"$f":"IF(Input!$H$14=0,0,SUM(Q96:T96))","v":0},{"$f":"IF(Input!$I$14=0,0,SUM(U96:X96))","v":0},{"$f":"IF(Input!$J$14=0,0,SUM(Y96:AB96))","v":0}]
[null,{"$f":"Input!B105","v":0},{"$f":"Input!C105","v":0},{"$f":"Input!D105","v":0},null,null,null,null,null,null,null,null,null,null,null,null,null,null,null,null,null,null,null,null,null,null,null,null,0,{"$f":"IF(Input!$G$14=0,0,SUM(M97:P97))","v":0},{"$f":"IF(Input!$H$14=0,0,SUM(Q97:T97))","v":0},{"$f":"IF(Input!$I$14=0,0,SUM(U97:X97))","v":0},{"$f":"IF(Input!$J$14=0,0,SUM(Y97:AB97))","v":0}]
[null,{"$f":"Input!B106","v":0},{"$f":"Input!C106","v":0},{"$f":"Input!D106","v":0},null,null,null,null,null,null,null,null,null,null,null,null,null,null,null,null,null,null,null,null,null,null,null,null,0,{"$f":"IF(Input!$G$14=0,0,SUM(M98:P98))","v":0},{"$f":"IF(Input!$H$14=0,0,SUM(Q98:T98))","v":0},{"$f":"IF(Input!$I$14=0,0,SUM(U98:X98))","v":0},{"$f":"IF(Input!$J$14=0,0,SUM(Y98:AB98))","v":0}]
[null,{"$f":"Input!B107","v":0},{"$f":"Input!C107","v":0},{"$f":"Input!D107","v":0},null,null,null,null,null,null,null,null,null,null,null,null,null,null,null,null,null,null,null,null,null,null,null,null,0,{"$f":"IF(Input!$G$14=0,0,SUM(M99:P99))","v":0},{"$f":"IF(Input!$H$14=0,0,SUM(Q99:T99))","v":0},{"$f":"IF(Input!$I$14=0,0,SUM(U99:X99))","v":0},{"$f":"IF(Input!$J$14=0,0,SUM(Y99:AB99))","v":0}]
[null,{"$f":"Input!B108","v":0},{"$f":"Input!C108","v":0},{"$f":"Input!D108","v":0},null,null,null,null,null,null,null,null,null,null,null,null,null,null,null,null,null,null,null,null,null,null,null,null,0,{"$f":"IF(Input!$G$14=0,0,SUM(M100:P100))","v":0},{"$f":"IF(Input!$H$14=0,0,SUM(Q100:T100))","v":0},{"$f":"IF(Input!$I$14=0,0,SUM(U100:X100))","v":0},{"$f":"IF(Input!$J$14=0,0,SUM(Y100:AB100))","v":0}]
[null,{"$f":"Input!B109","v":0},{"$f":"Input!C109","v":0},{"$f":"Input!D109","v":0},null,null,null,null,null,null,null,null,null,null,null,null,null,null,null,null,null,null,null,null,null,null,null,null,0,{"$f":"IF(Input!$G$14=0,0,SUM(M101:P101))","v":0},{"$f":"IF(Input!$H$14=0,0,SUM(Q101:T101))","v":0},{"$f":"IF(Input!$I$14=0,0,SUM(U101:X101))","v":0},{"$f":"IF(Input!$J$14=0,0,SUM(Y101:AB101))","v":0}]
[null,{"$f":"Input!B110","v":0},{"$f":"Input!C110","v":0},{"$f":"Input!D110","v":0},null,null,null,null,null,null,null,null,null,null,null,null,null,null,null,null,null,null,null,null,null,null,null,null,0,{"$f":"IF(Input!$G$14=0,0,SUM(M102:P102))","v":0},{"$f":"IF(Input!$H$14=0,0,SUM(Q102:T102))","v":0},{"$f":"IF(Input!$I$14=0,0,SUM(U102:X102))","v":0},{"$f":"IF(Input!$J$14=0,0,SUM(Y102:AB102))","v":0}]
[null,{"$f":"Input!B111","v":0},{"$f":"Input!C111","v":0},{"$f":"Input!D111","v":0},null,null,null,null,null,null,null,null,null,null,null,null,null,null,null,null,null,null,null,null,null,null,null,null,{"$f":"SUM(I103:L103)","v":0},{"$f":"IF(Input!$G$14=0,0,SUM(M103:P103))","v":0},{"$f":"IF(Input!$H$14=0,0,SUM(Q103:T103))","v":0},{"$f":"IF(Input!$I$14=0,0,SUM(U103:X103))","v":0},{"$f":"IF(Input!$J$14=0,0,SUM(Y103:AB103))","v":0}]
[null,{"$f":"Input!B112","v":0},{"$f":"Input!C112","v":0},{"$f":"Input!D112","v":0},null,null,null,null,null,null,null,null,null,null,null,null,null,null,null,null,null,null,null,null,null,null,null,null,0,{"$f":"IF(Input!$G$14=0,0,SUM(M104:P104))","v":0},{"$f":"IF(Input!$H$14=0,0,SUM(Q104:T104))","v":0},{"$f":"IF(Input!$I$14=0,0,SUM(U104:X104))","v":0},{"$f":"IF(Input!$J$14=0,0,SUM(Y104:AB104))","v":0}]
[null,{"$f":"Input!B113","v":0},{"$f":"Input!C113","v":0},{"$f":"Input!D113","v":0},null,null,null,null,null,null,null,null,null,null,null,null,null,null,null,null,null,null,null,null,null,null,null,null,0,{"$f":"IF(Input!$G$14=0,0,SUM(M105:P105))","v":0},{"$f":"IF(Input!$H$14=0,0,SUM(Q105:T105))","v":0},{"$f":"IF(Input!$I$14=0,0,SUM(U105:X105))","v":0},{"$f":"IF(Input!$J$14=0,0,SUM(Y105:AB105))","v":0}]
[null,{"$f":"Input!B114","v":0},{"$f":"Input!C114","v":0},{"$f":"Input!D114","v":0},null,null,null,null,null,null,null,null,null,null,null,null,null,null,null,null,null,null,null,null,null,null,null,null,0,{"$f":"IF(Input!$G$14=0,0,SUM(M106:P106))","v":0},{"$f":"IF(Input!$H$14=0,0,SUM(Q106:T106))","v":0},{"$f":"IF(Input!$I$14=0,0,SUM(U106:X106))","v":0},{"$f":"IF(Input!$J$14=0,0,SUM(Y106:AB106))","v":0}]
[null,{"$f":"Input!B115","v":0},{"$f":"Input!C115","v":0},{"$f":"Input!D115","v":0},null,null,null,null,null,null,null,null,null,null,null,null,null,null,null,null,null,null,null,null,null,null,null,null,0,{"$f":"IF(Input!$G$14=0,0,SUM(M107:P107))","v":0},{"$f":"IF(Input!$H$14=0,0,SUM(Q107:T107))","v":0},{"$f":"IF(Input!$I$14=0,0,SUM(U107:X107))","v":0},{"$f":"IF(Input!$J$14=0,0,SUM(Y107:AB107))","v":0}]
[null,{"$f":"Input!B116","v":0},{"$f":"Input!C116","v":0},{"$f":"Input!D116","v":0},null,null,null,null,null,null,null,null,null,null,null,null,null,null,null,null,null,null,null,null,null,null,null,null,0,{"$f":"IF(Input!$G$14=0,0,SUM(M108:P108))","v":0},{"$f":"IF(Input!$H$14=0,0,SUM(Q108:T108))","v":0},{"$f":"IF(Input!$I$14=0,0,SUM(U108:X108))","v":0},{"$f":"IF(Input!$J$14=0,0,SUM(Y108:AB108))","v":0}]
[null,{"$f":"Input!B117","v":0},{"$f":"Input!C117","v":0},{"$f":"Input!D117","v":0},null,null,null,null,null,null,null,null,null,null,null,null,null,null,null,null,null,null,null,null,null,null,null,null,0,{"$f":"IF(Input!$G$14=0,0,SUM(M109:P109))","v":0},{"$f":"IF(Input!$H$14=0,0,SUM(Q109:T109))","v":0},{"$f":"IF(Input!$I$14=0,0,SUM(U109:X109))","v":0},{"$f":"IF(Input!$J$14=0,0,SUM(Y109:AB109))","v":0}]
[null,{"$f":"Input!B118","v":0},{"$f":"Input!C118","v":0},{"$f":"Input!D118","v":0},null,null,null,null,null,null,null,null,null,null,null,null,null,null,null,null,null,null,null,null,null,null,null,null,0,{"$f":"IF(Input!$G$14=0,0,SUM(M110:P110))","v":0},{"$f":"IF(Input!$H$14=0,0,SUM(Q110:T110))","v":0},{"$f":"IF(Input!$I$14=0,0,SUM(U110:X110))","v":0},{"$f":"IF(Input!$J$14=0,0,SUM(Y110:AB110))","v":0}]
[null,{"$f":"Input!B119","v":0},{"$f":"Input!C119","v":0},{"$f":"Input!D119","v":0},null,null,null,null,null,null,null,null,null,null,null,null,null,null,null,null,null,null,null,null,null,null,null,null,0,{"$f":"IF(Input!$G$14=0,0,SUM(M111:P111))","v":0},{"$f":"IF(Input!$H$14=0,0,SUM(Q111:T111))","v":0},{"$f":"IF(Input!$I$14=0,0,SUM(U111:X111))","v":0},{"$f":"IF(Input!$J$14=0,0,SUM(Y111:AB111))","v":0}]
[null,{"$f":"Input!B120","v":0},{"$f":"Input!C120","v":0},{"$f":"Input!D120","v":0},null,null,null,null,null,null,null,null,null,null,null,null,null,null,null,null,null,null,null,null,null,null,null,null,0,{"$f":"IF(Input!$G$14=0,0,SUM(M112:P112))","v":0},{"$f":"IF(Input!$H$14=0,0,SUM(Q112:T112))","v":0},{"$f":"IF(Input!$I$14=0,0,SUM(U112:X112))","v":0},{"$f":"IF(Input!$J$14=0,0,SUM(Y112:AB112))","v":0}]
[null,{"$f":"Input!B121","v":0},{"$f":"Input!C121","v":0},{"$f":"Input!D121","v":0},null,null,null,null,null,null,null,null,null,null,null,null,null,null,null,null,null,null,null,null,null,null,null,null,0,{"$f":"IF(Input!$G$14=0,0,SUM(M113:P113))","v":0},{"$f":"IF(Input!$H$14=0,0,SUM(Q113:T113))","v":0},{"$f":"IF(Input!$I$14=0,0,SUM(U113:X113))","v":0},{"$f":"IF(Input!$J$14=0,0,SUM(Y113:AB113))","v":0}]
[null,{"$f":"Input!B122","v":0},{"$f":"Input!C122","v":0},{"$f":"Input!D122","v":0},null,null,null,null,null,null,null,null,null,null,null,null,null,null,null,null,null,null,null,null,null,null,null,null,0,{"$f":"IF(Input!$G$14=0,0,SUM(M114:P114))","v":0},{"$f":"IF(Input!$H$14=0,0,SUM(Q114:T114))","v":0},{"$f":"IF(Input!$I$14=0,0,SUM(U114:X114))","v":0},{"$f":"IF(Input!$J$14=0,0,SUM(Y114:AB114))","v":0}]
[null,{"$f":"Input!B123","v":0},{"$f":"Input!C123","v":0},{"$f":"Input!D123","v":0},null,null,null,null,null,null,null,null,null,null,null,null,null,null,null,null,null,null,null,null,null,null,null,null,0,{"$f":"IF(Input!$G$14=0,0,SUM(M115:P115))","v":0},{"$f":"IF(Input!$H$14=0,0,SUM(Q115:T115))","v":0},{"$f":"IF(Input!$I$14=0,0,SUM(U115:X115))","v":0},{"$f":"IF(Input!$J$14=0,0,SUM(Y115:AB115))","v":0}]
[]
[null,"SPECIAL SIGNS",null,null,null,null,null,null,null,{"$f":"CONCATENATE(\"Phase \",Input!$F$14)","v":"Phase "},null,null,null,{"$f":"CONCATENATE(\"Phase \",Input!$G$14)","v":"Phase "},null,null,null,{"$f":"CONCATENATE(\"Phase \",Input!$H$14)","v":"Phase "},null,null,null,{"$f":"CONCATENATE(\"Phase \",Input!$I$14)","v":"Phase "},null,null,null,{"$f":"CONCATENATE(\"Phase \",Input!$J$14)","v":"Phase "},null,null,{"$f":"IF(COUNTBLANK(Input!G14:J14)=4,\"Total\",\"Total Amount Required\")","v":"Total"}]
[null,"SIGN NUMBER","SIGN SIZE","DESCRIPTION",null,null,null,null,null,{"$f":"J6","v":"Sheet 1"},{"$f":"K6","v":"Sheet2"},{"$f":"L6","v":0},null,{"$f":"N6","v":"Sheet 3"},{"$f":"O6","v":"Sheet 4"},null,null,{"$f":"R6","v":"Sheet 5"},{"$f":"S6","v":"Sheet 6"},null,null,{"$f":"V6","v":"Sheet 7"},{"$f":"W6","v":"Sheet 8"},null,null,{"$f":"Z6","v":"Sheet 9"},{"$f":"AA6","v":"Sheet 10"},null,{"$f":"CONCATENATE(\"Phase\n\",Input!$F$14)","v":"Phase\n"},{"$f":"CONCATENATE(\"Phase\n\",Input!$G$14)","v":"Phase\n"},{"$f":"CONCATENATE(\"Phase\n\",Input!$H$14)","v":"Phase\n"},{"$f":"CONCATENATE(\"Phase\n\",Input!$I$14)","v":"Phase\n"},{"$f":"CONCATENATE(\"Phase\n\",Input!$J$14)","v":"Phase\n"}]
[null,{"$f":"Input!B129","v":0},{"$f":"Input!C129","v":0},{"$f":"Input!D129","v":0},null,null,null,null,null,null,null,null,null,null,null,null,null,null,null,null,null,null,null,null,null,null,null,null,{"$f":"SUM(I119:L119)","v":0},{"$f":"IF(Input!$G$14=0,0,SUM(M119:P119))","v":0},{"$f":"IF(Input!$H$14=0,0,SUM(Q119:T119))","v":0},{"$f":"IF(Input!$I$14=0,0,SUM(U119:X119))","v":0},{"$f":"IF(Input!$J$14=0,0,SUM(Y119:AB119))","v":0}]
[null,{"$f":"Input!B130","v":0},{"$f":"Input!C130","v":0},{"$f":"Input!D130","v":0},null,null,null,null,null,null,null,null,null,null,null,null,null,null,null,null,null,null,null,null,null,null,null,null,0,{"$f":"IF(Input!$G$14=0,0,SUM(M120:P120))","v":0},{"$f":"IF(Input!$H$14=0,0,SUM(Q120:T120))","v":0},{"$f":"IF(Input!$I$14=0,0,SUM(U120:X120))","v":0},{"$f":"IF(Input!$J$14=0,0,SUM(Y120:AB120))","v":0}]
[null,{"$f":"Input!B131","v":0},{"$f":"Input!C131","v":0},{"$f":"Input!D131","v":0},null,null,null,null,null,null,null,null,null,null,null,null,null,null,null,null,null,null,null,null,null,null,null,null,0,{"$f":"IF(Input!$G$14=0,0,SUM(M121:P121))","v":0},{"$f":"IF(Input!$H$14=0,0,SUM(Q121:T121))","v":0},{"$f":"IF(Input!$I$14=0,0,SUM(U121:X121))","v":0},{"$f":"IF(Input!$J$14=0,0,SUM(Y121:AB121))","v":0}]
[null,{"$f":"Input!B132","v":0},{"$f":"Input!C132","v":0},{"$f":"Input!D132","v":0},null,null,null,null,null,null,null,null,null,null,null,null,null,null,null,null,null,null,null,null,null,null,null,null,0,{"$f":"IF(Input!$G$14=0,0,SUM(M122:P122))","v":0},{"$f":"IF(Input!$H$14=0,0,SUM(Q122:T122))","v":0},{"$f":"IF(Input!$I$14=0,0,SUM(U122:X122))","v":0},{"$f":"IF(Input!$J$14=0,0,SUM(Y122:AB122))","v":0}]
[null,{"$f":"Input!B133","v":0},{"$f":"Input!C133","v":0},{"$f":"Input!D133","v":0},null,null,null,null,null,null,null,null,null,null,null,null,null,null,null,null,null,null,null,null,null,null,null,null,0,{"$f":"IF(Input!$G$14=0,0,SUM(M123:P123))","v":0},{"$f":"IF(Input!$H$14=0,0,SUM(Q123:T123))","v":0},{"$f":"IF(Input!$I$14=0,0,SUM(U123:X123))","v":0},{"$f":"IF(Input!$J$14=0,0,SUM(Y123:AB123))","v":0}]
[null,{"$f":"Input!B134","v":0},{"$f":"Input!C134","v":0},{"$f":"Input!D134","v":0},null,null,null,null,null,null,null,null,null,null,null,null,null,null,null,null,null,null,null,null,null,null,null,null,0,{"$f":"IF(Input!$G$14=0,0,SUM(M124:P124))","v":0},{"$f":"IF(Input!$H$14=0,0,SUM(Q124:T124))","v":0},{"$f":"IF(Input!$I$14=0,0,SUM(U124:X124))","v":0},{"$f":"IF(Input!$J$14=0,0,SUM(Y124:AB124))","v":0}]
[null,{"$f":"Input!B135","v":0},{"$f":"Input!C135","v":0},{"$f":"Input!D135","v":0},null,null,null,null,null,null,null,null,null,null,null,null,null,null,null,null,null,null,null,null,null,null,null,null,0,{"$f":"IF(Input!$G$14=0,0,SUM(M125:P125))","v":0},{"$f":"IF(Input!$H$14=0,0,SUM(Q125:T125))","v":0},{"$f":"IF(Input!$I$14=0,0,SUM(U125:X125))","v":0},{"$f":"IF(Input!$J$14=0,0,SUM(Y125:AB125))","v":0}]
[null,{"$f":"Input!B136","v":0},{"$f":"Input!C136","v":0},{"$f":"Input!D136","v":0},null,null,null,null,null,null,null,null,null,null,null,null,null,null,null,null,null,null,null,null,null,null,null,null,0,{"$f":"IF(Input!$G$14=0,0,SUM(M126:P126))","v":0},{"$f":"IF(Input!$H$14=0,0,SUM(Q126:T126))","v":0},{"$f":"IF(Input!$I$14=0,0,SUM(U126:X126))","v":0},{"$f":"IF(Input!$J$14=0,0,SUM(Y126:AB126))","v":0}]
[null,{"$f":"Input!B137","v":0},{"$f":"Input!C137","v":0},{"$f":"Input!D137","v":0},null,null,null,null,null,null,null,null,null,null,null,null,null,null,null,null,null,null,null,null,null,null,null,null,0,{"$f":"IF(Input!$G$14=0,0,SUM(M127:P127))","v":0},{"$f":"IF(Input!$H$14=0,0,SUM(Q127:T127))","v":0},{"$f":"IF(Input!$I$14=0,0,SUM(U127:X127))","v":0},{"$f":"IF(Input!$J$14=0,0,SUM(Y127:AB127))","v":0}]
[null,{"$f":"Input!B138","v":0},{"$f":"Input!C138","v":0},{"$f":"Input!D138","v":0},null,null,null,null,null,null,null,null,null,null,null,null,null,null,null,null,null,null,null,null,null,null,null,null,0,{"$f":"IF(Input!$G$14=0,0,SUM(M128:P128))","v":0},{"$f":"IF(Input!$H$14=0,0,SUM(Q128:T128))","v":0},{"$f":"IF(Input!$I$14=0,0,SUM(U128:X128))","v":0},{"$f":"IF(Input!$J$14=0,0,SUM(Y128:AB128))","v":0}]
[null,{"$f":"Input!B139","v":0},{"$f":"Input!C139","v":0},{"$f":"Input!D139","v":0},null,null,null,null,null,null,null,null,null,null,null,null,null,null,null,null,null,null,null,null,null,null,null,null,0,{"$f":"IF(Input!$G$14=0,0,SUM(M129:P129))","v":0},{"$f":"IF(Input!$H$14=0,0,SUM(Q129:T129))","v":0},{"$f":"IF(Input!$I$14=0,0,SUM(U129:X129))","v":0},{"$f":"IF(Input!$J$14=0,0,SUM(Y129:AB129))","v":0}]
[null,{"$f":"Input!B140","v":0},{"$f":"Input!C140","v":0},{"$f":"Input!D140","v":0},null,null,null,null,null,null,null,null,null,null,null,null,null,null,null,null,null,null,null,null,null,null,null,null,0,{"$f":"IF(Input!$G$14=0,0,SUM(M130:P130))","v":0},{"$f":"IF(Input!$H$14=0,0,SUM(Q130:T130))","v":0},{"$f":"IF(Input!$I$14=0,0,SUM(U130:X130))","v":0},{"$f":"IF(Input!$J$14=0,0,SUM(Y130:AB130))","v":0}]
[null,{"$f":"Input!B141","v":0},{"$f":"Input!C141","v":0},{"$f":"Input!D141","v":0},null,null,null,null,null,null,null,null,null,null,null,null,null,null,null,null,null,null,null,null,null,null,null,null,0,{"$f":"IF(Input!$G$14=0,0,SUM(M131:P131))","v":0},{"$f":"IF(Input!$H$14=0,0,SUM(Q131:T131))","v":0},{"$f":"IF(Input!$I$14=0,0,SUM(U131:X131))","v":0},{"$f":"IF(Input!$J$14=0,0,SUM(Y131:AB131))","v":0}]
[null,{"$f":"Input!B142","v":0},{"$f":"Input!C142","v":0},{"$f":"Input!D142","v":0},null,null,null,null,null,null,null,null,null,null,null,null,null,null,null,null,null,null,null,null,null,null,null,null,0,{"$f":"IF(Input!$G$14=0,0,SUM(M132:P132))","v":0},{"$f":"IF(Input!$H$14=0,0,SUM(Q132:T132))","v":0},{"$f":"IF(Input!$I$14=0,0,SUM(U132:X132))","v":0},{"$f":"IF(Input!$J$14=0,0,SUM(Y132:AB132))","v":0}]
[null,{"$f":"Input!B143","v":0},{"$f":"Input!C143","v":0},{"$f":"Input!D143","v":0},null,null,null,null,null,null,null,null,null,null,null,null,null,null,null,null,null,null,null,null,null,null,null,null,0,{"$f":"IF(Input!$G$14=0,0,SUM(M133:P133))","v":0},{"$f":"IF(Input!$H$14=0,0,SUM(Q133:T133))","v":0},{"$f":"IF(Input!$I$14=0,0,SUM(U133:X133))","v":0},{"$f":"IF(Input!$J$14=0,0,SUM(Y133:AB133))","v":0}]
[]
[null,"TRAFFIC CONTROL DEVICES",null,null,null,null,null,null,null,{"$f":"CONCATENATE(\"Phase \",Input!$F$14)","v":"Phase "},null,null,null,{"$f":"CONCATENATE(\"Phase \",Input!$G$14)","v":"Phase "},null,null,null,{"$f":"CONCATENATE(\"Phase \",Input!$H$14)","v":"Phase "},null,null,null,{"$f":"CONCATENATE(\"Phase \",Input!$I$14)","v":"Phase "},null,null,null,{"$f":"CONCATENATE(\"Phase \",Input!$J$14)","v":"Phase "},null,null,{"$f":"IF(COUNTBLANK(Input!G14:J14)=4,\"Total\",\"Total Amount Required\")","v":"Total"}]
[null,"SPEC","CODE","DESCRIPTION",null,null,null,null,null,{"$f":"J6","v":"Sheet 1"},{"$f":"K6","v":"Sheet2"},{"$f":"L6","v":0},null,{"$f":"N6","v":"Sheet 3"},{"$f":"O6","v":"Sheet 4"},null,null,{"$f":"R6","v":"Sheet 5"},{"$f":"S6","v":"Sheet 6"},null,null,{"$f":"V6","v":"Sheet 7"},{"$f":"W6","v":"Sheet 8"},null,null,{"$f":"Z6","v":"Sheet 9"},{"$f":"AA6","v":"Sheet 10"},null,{"$f":"CONCATENATE(\"Phase\n\",Input!$F$14)","v":"Phase\n"},{"$f":"CONCATENATE(\"Phase\n\",Input!$G$14)","v":"Phase\n"},{"$f":"CONCATENATE(\"Phase\n\",Input!$H$14)","v":"Phase\n"},{"$f":"CONCATENATE(\"Phase\n\",Input!$I$14)","v":"Phase\n"},{"$f":"CONCATENATE(\"Phase\n\",Input!$J$14)","v":"Phase\n"}]
[null,{"$f":"ROUNDDOWN((Input!L15/10000),0)","v":704},{"$f":"((Input!L15/10000)-Master!B137)*10000","v":99.999999999909051},{"$f":"Input!M15","v":"FLAGGING"},null,null,null,null,null,null,null,null,null,null,null,null,null,null,null,null,null,null,null,null,null,null,null,null,{"$f":"SUM(I137:L137)","v":0},{"$f":"IF(Input!$G$14=0,0,SUM(M137:P137))","v":0},{"$f":"IF(Input!$H$14=0,0,SUM(Q137:T137))","v":0},{"$f":"IF(Input!$I$14=0,0,SUM(U137:X137))","v":0},{"$f":"IF(Input!$J$14=0,0,SUM(Y137:AB137))","v":0}]
[null,{"$f":"ROUNDDOWN((Input!L16/10000),0)","v":704},{"$f":"((Input!L16/10000)-Master!B138)*10000","v":1047.9999999995471},{"$f":"Input!M16","v":"PORTABLE RUMBLE STRIPS"},null,null,null,null,null,null,null,null,null,null,null,null,null,null,null,null,null,null,null,null,null,null,null,null,0,{"$f":"IF(Input!$G$14=0,0,SUM(M138:P138))","v":0},{"$f":"IF(Input!$H$14=0,0,SUM(Q138:T138))","v":0},{"$f":"IF(Input!$I$14=0,0,SUM(U138:X138))","v":0},{"$f":"IF(Input!$J$14=0,0,SUM(Y138:AB138))","v":0}]
[null,{"$f":"ROUNDDOWN((Input!L17/10000),0)","v":704},{"$f":"((Input!L17/10000)-Master!B139)*10000","v":1050.0000000001819},{"$f":"Input!M17","v":"TYPE I BARRICADES"},null,null,null,null,null,null,null,null,null,null,null,null,null,null,null,null,null,null,null,null,null,null,null,null,0,{"$f":"IF(Input!$G$14=0,0,SUM(M139:P139))","v":0},{"$f":"IF(Input!$H$14=0,0,SUM(Q139:T139))","v":0},{"$f":"IF(Input!$I$14=0,0,SUM(U139:X139))","v":0},{"$f":"IF(Input!$J$14=0,0,SUM(Y139:AB139))","v":0}]
[null,{"$f":"ROUNDDOWN((Input!L18/10000),0)","v":704},{"$f":"((Input!L18/10000)-Master!B140)*10000","v":1051.9999999996799},{"$f":"Input!M18","v":"TYPE III BARRICADES"},null,null,null,null,null,null,null,null,null,null,null,null,null,null,null,null,null,null,null,null,null,null,null,null,0,{"$f":"IF(Input!$G$14=0,0,SUM(M140:P140))","v":0},{"$f":"IF(Input!$H$14=0,0,SUM(Q140:T140))","v":0},{"$f":"IF(Input!$I$14=0,0,SUM(U140:X140))","v":0},{"$f":"IF(Input!$J$14=0,0,SUM(Y140:AB140))","v":0}]
[null,{"$f":"ROUNDDOWN((Input!L19/10000),0)","v":704},{"$f":"((Input!L19/10000)-Master!B141)*10000","v":1059.9999999999454},{"$f":"Input!M19","v":"DELINEATOR DRUMS"},null,null,null,null,null,null,null,null,null,null,null,null,null,null,null,null,null,null,null,null,null,null,null,null,0,{"$f":"IF(Input!$G$14=0,0,SUM(M141:P141))","v":0},{"$f":"IF(Input!$H$14=0,0,SUM(Q141:T141))","v":0},{"$f":"IF(Input!$I$14=0,0,SUM(U141:X141))","v":0},{"$f":"IF(Input!$J$14=0,0,SUM(Y141:AB141))","v":0}]
[null,{"$f":"ROUNDDOWN((Input!L20/10000),0)","v":704},{"$f":"((Input!L20/10000)-Master!B142)*10000","v":1064.9999999998272},{"$f":"Input!M20","v":"TRAFFIC CONES"},null,null,null,null,null,null,null,null,null,null,null,null,null,null,null,null,null,null,null,null,null,null,null,null,0,{"$f":"IF(Input!$G$14=0,0,SUM(M142:P142))","v":0},{"$f":"IF(Input!$H$14=0,0,SUM(Q142:T142))","v":0},{"$f":"IF(Input!$I$14=0,0,SUM(U142:X142))","v":0},{"$f":"IF(Input!$J$14=0,0,SUM(Y142:AB142))","v":0}]
[{"$f":"COUNTIF(I3:Y3,\"=0\")","v":0},{"$f":"ROUNDDOWN((Input!L21/10000),0)","v":704},{"$f":"((Input!L21/10000)-Master!B143)*10000","v":1067.000000000462},{"$f":"Input!M21","v":"TUBULAR MARKERS"},null,null,null,null,null,null,null,null,null,null,null,null,null,null,null,null,null,null,null,null,null,null,null,null,0,{"$f":"IF(Input!$G$14=0,0,SUM(M143:P143))","v":0},{"$f":"IF(Input!$H$14=0,0,SUM(Q143:T143))","v":0},{"$f":"IF(Input!$I$14=0,0,SUM(U143:X143))","v":0},{"$f":"IF(Input!$J$14=0,0,SUM(Y143:AB143))","v":0}]
[null,{"$f":"ROUNDDOWN((Input!L22/10000),0)","v":704},{"$f":"((Input!L22/10000)-Master!B144)*10000","v":1069.999999999709},{"$f":"Input!M22","v":"DELINEATOR"},null,null,null,null,null,null,null,null,null,null,null,null,null,null,null,null,null,null,null,null,null,null,null,null,0,{"$f":"IF(Input!$G$14=0,0,SUM(M144:P144))","v":0},{"$f":"IF(Input!$H$14=0,0,SUM(Q144:T144))","v":0},{"$f":"IF(Input!$I$14=0,0,SUM(U144:X144))","v":0},{"$f":"IF(Input!$J$14=0,0,SUM(Y144:AB144))","v":0}]
[null,{"$f":"ROUNDDOWN((Input!L23/10000),0)","v":704},{"$f":"((Input!L23/10000)-Master!B145)*10000","v":1072.0000000003438},{"$f":"Input!M23","v":"FLEXIBLE DELINEATORS"},null,null,null,null,null,null,null,null,null,null,null,null,null,null,null,null,null,null,null,null,null,null,null,null,0,{"$f":"IF(Input!$G$14=0,0,SUM(M145:P145))","v":0},{"$f":"IF(Input!$H$14=0,0,SUM(Q145:T145))","v":0},{"$f":"IF(Input!$I$14=0,0,SUM(U145:X145))","v":0},{"$f":"IF(Input!$J$14=0,0,SUM(Y145:AB145))","v":0}]
[null,{"$f":"ROUNDDOWN((Input!L24/10000),0)","v":704},{"$f":"((Input!L24/10000)-Master!B146)*10000","v":1079.9999999994725},{"$f":"Input!M24","v":"STACKABLE VERTICAL PANELS"},null,null,null,null,null,null,null,null,null,null,null,null,null,null,null,null,null,null,null,null,null,null,null,null,0,{"$f":"IF(Input!$G$14=0,0,SUM(M146:P146))","v":0},{"$f":"IF(Input!$H$14=0,0,SUM(Q146:T146))","v":0},{"$f":"IF(Input!$I$14=0,0,SUM(U146:X146))","v":0},{"$f":"IF(Input!$J$14=0,0,SUM(Y146:AB146))","v":0}]
[null,{"$f":"ROUNDDOWN((Input!L25/10000),0)","v":704},{"$f":"((Input!L25/10000)-Master!B147)*10000","v":1081.0000000003583},{"$f":"Input!M25","v":"VERTICAL PANELS - BACK TO BACK"},null,null,null,null,null,null,null,null,null,null,null,null,null,null,null,null,null,null,null,null,null,null,null,null,0,{"$f":"IF(Input!$G$14=0,0,SUM(M147:P147))","v":0},{"$f":"IF(Input!$H$14=0,0,SUM(Q147:T147))","v":0},{"$f":"IF(Input!$I$14=0,0,SUM(U147:X147))","v":0},{"$f":"IF(Input!$J$14=0,0,SUM(Y147:AB147))","v":0}]
[null,{"$f":"ROUNDDOWN((Input!L26/10000),0)","v":704},{"$f":"((Input!L26/10000)-Master!B148)*10000","v":1085.0000000004911},{"$f":"Input!M26","v":"SEQUENCING ARROW PANEL - TYPE A"},null,null,null,null,null,null,null,null,null,null,null,null,null,null,null,null,null,null,null,null,null,null,null,null,0,{"$f":"IF(Input!$G$14=0,0,SUM(M148:P148))","v":0},{"$f":"IF(Input!$H$14=0,0,SUM(Q148:T148))","v":0},{"$f":"IF(Input!$I$14=0,0,SUM(U148:X148))","v":0},{"$f":"IF(Input!$J$14=0,0,SUM(Y148:AB148))","v":0}]
[null,{"$f":"ROUNDDOWN((Input!L27/10000),0)","v":704},{"$f":"((Input!L27/10000)-Master!B149)*10000","v":1086.0000000002401},{"$f":"Input!M27","v":"SEQUENCING ARROW PANEL - TYPE B"},null,null,null,null,null,null,null,null,null,null,null,null,null,null,null,null,null,null,null,null,null,null,null,null,0,{"$f":"IF(Input!$G$14=0,0,SUM(M149:P149))","v":0},{"$f":"IF(Input!$H$14=0,0,SUM(Q149:T149))","v":0},{"$f":"IF(Input!$I$14=0,0,SUM(U149:X149))","v":0},{"$f":"IF(Input!$J$14=0,0,SUM(Y149:AB149))","v":0}]
[null,{"$f":"ROUNDDOWN((Input!L28/10000),0)","v":704},{"$f":"((Input!L28/10000)-Master!B150)*10000","v":1086.9999999999891},{"$f":"Input!M28","v":"SEQUENCING ARROW PANEL - TYPE C"},null,null,null,null,null,null,null,null,null,null,null,null,null,null,null,null,null,null,null,null,null,null,null,null,0,{"$f":"IF(Input!$G$14=0,0,SUM(M150:P150))","v":0},{"$f":"IF(Input!$H$14=0,0,SUM(Q150:T150))","v":0},{"$f":"IF(Input!$I$14=0,0,SUM(U150:X150))","v":0},{"$f":"IF(Input!$J$14=0,0,SUM(Y150:AB150))","v":0}]
[null,{"$f":"ROUNDDOWN((Input!L29/10000),0)","v":704},{"$f":"((Input!L29/10000)-Master!B151)*10000","v":3500.9999999999764},{"$f":"Input!M29","v":"PORTABLE PRECAST CONCRETE MED BARRIER"},null,null,null,null,null,null,null,null,null,null,null,null,null,null,null,null,null,null,null,null,null,null,null,null,0,{"$f":"IF(Input!$G$14=0,0,SUM(M151:P151))","v":0},{"$f":"IF(Input!$H$14=0,0,SUM(Q151:T151))","v":0},{"$f":"IF(Input!$I$14=0,0,SUM(U151:X151))","v":0},{"$f":"IF(Input!$J$14=0,0,SUM(Y151:AB151))","v":0}]
[null,{"$f":"ROUNDDOWN((Input!L30/10000),0)","v":704},{"$f":"((Input!L30/10000)-Master!B152)*10000","v":3509.9999999999909},{"$f":"Input!M30","v":"PRECAST CONCRETE MED BARRIER - STATE FURNISHED"},null,null,null,null,null,null,null,null,null,null,null,null,null,null,null,null,null,null,null,null,null,null,null,null,0,{"$f":"IF(Input!$G$14=0,0,SUM(M152:P152))","v":0},{"$f":"IF(Input!$H$14=0,0,SUM(Q152:T152))","v":0},{"$f":"IF(Input!$I$14=0,0,SUM(U152:X152))","v":0},{"$f":"IF(Input!$J$14=0,0,SUM(Y152:AB152))","v":0}]
[null,{"$f":"ROUNDDOWN((Input!L31/10000),0)","v":762},{"$f":"((Input!L31/10000)-Master!B153)*10000","v":199.9999999998181},{"$f":"Input!M31","v":"RAISED PAVEMENT MARKERS"},null,null,null,null,null,null,null,null,null,null,null,null,null,null,null,null,null,null,null,null,null,null,null,null,0,{"$f":"IF(Input!$G$14=0,0,SUM(M153:P153))","v":0},{"$f":"IF(Input!$H$14=0,0,SUM(Q153:T153))","v":0},{"$f":"IF(Input!$I$14=0,0,SUM(U153:X153))","v":0},{"$f":"IF(Input!$J$14=0,0,SUM(Y153:AB153))","v":0}]
[null,{"$f":"ROUNDDOWN((Input!L32/10000),0)","v":762},{"$f":"((Input!L32/10000)-Master!B154)*10000","v":420.00000000030013},{"$f":"Input!M32","v":"SHORT TERM 4IN LINE - TYPE R"},null,null,null,null,null,null,null,null,null,null,null,null,null,null,null,null,null,null,null,null,null,null,null,null,0,{"$f":"IF(Input!$G$14=0,0,SUM(M154:P154))","v":0},{"$f":"IF(Input!$H$14=0,0,SUM(Q154:T154))","v":0},{"$f":"IF(Input!$I$14=0,0,SUM(U154:X154))","v":0},{"$f":"IF(Input!$J$14=0,0,SUM(Y154:AB154))","v":0}]
[null,{"$f":"ROUNDDOWN((Input!L33/10000),0)","v":762},{"$f":"((Input!L33/10000)-Master!B155)*10000","v":430.00000000006366},{"$f":"Input!M33","v":"SHORT TERM 4IN LINE - TYPE NR"},null,null,null,null,null,null,null,null,null,null,null,null,null,null,null,null,null,null,null,null,null,null,null,null,0,{"$f":"IF(Input!$G$14=0,0,SUM(M155:P155))","v":0},{"$f":"IF(Input!$H$14=0,0,SUM(Q155:T155))","v":0},{"$f":"IF(Input!$I$14=0,0,SUM(U155:X155))","v":0},{"$f":"IF(Input!$J$14=0,0,SUM(Y155:AB155))","v":0}]
[null,{"$f":"ROUNDDOWN((Input!L34/10000),0)","v":704},{"$f":"((Input!L34/10000)-Master!B156)*10000","v":1499.9999999997726},{"$f":"Input!M34","v":"OBLITERATION OF PVMT MK"},null,null,null,null,null,null,null,null,null,null,null,null,null,null,null,null,null,null,null,null,null,null,null,null,0,{"$f":"IF(Input!$G$14=0,0,SUM(M156:P156))","v":0},{"$f":"IF(Input!$H$14=0,0,SUM(Q156:T156))","v":0},{"$f":"IF(Input!$I$14=0,0,SUM(U156:X156))","v":0},{"$f":"IF(Input!$J$14=0,0,SUM(Y156:AB156))","v":0}]
[null,{"$f":"ROUNDDOWN((Input!L35/10000),0)","v":0},{"$f":"((Input!L35/10000)-Master!B157)*10000","v":0},{"$f":"Input!M35","v":0},null,null,null,null,null,null,null,null,null,null,null,null,null,null,null,null,null,null,null,null,null,null,null,null,0,{"$f":"IF(Input!$G$14=0,0,SUM(M157:P157))","v":0},{"$f":"IF(Input!$H$14=0,0,SUM(Q157:T157))","v":0},{"$f":"IF(Input!$I$14=0,0,SUM(U157:X157))","v":0},{"$f":"IF(Input!$J$14=0,0,SUM(Y157:AB157))","v":0}]
[null,{"$f":"ROUNDDOWN((Input!L36/10000),0)","v":0},{"$f":"((Input!L36/10000)-Master!B158)*10000","v":0},{"$f":"Input!M36","v":0},null,null,null,null,null,null,null,null,null,null,null,null,null,null,null,null,null,null,null,null,null,null,null,null,0,{"$f":"IF(Input!$G$14=0,0,SUM(M158:P158))","v":0},{"$f":"IF(Input!$H$14=0,0,SUM(Q158:T158))","v":0},{"$f":"IF(Input!$I$14=0,0,SUM(U158:X158))","v":0},{"$f":"IF(Input!$J$14=0,0,SUM(Y158:AB158))","v":0}]
[null,{"$f":"ROUNDDOWN((Input!L37/10000),0)","v":0},{"$f":"((Input!L37/10000)-Master!B159)*10000","v":0},{"$f":"Input!M37","v":0},null,null,null,null,null,null,null,null,null,null,null,null,null,null,null,null,null,null,null,null,null,null,null,null,0,{"$f":"IF(Input!$G$14=0,0,SUM(M159:P159))","v":0},{"$f":"IF(Input!$H$14=0,0,SUM(Q159:T159))","v":0},{"$f":"IF(Input!$I$14=0,0,SUM(U159:X159))","v":0},{"$f":"IF(Input!$J$14=0,0,SUM(Y159:AB159))","v":0}]
[null,{"$f":"ROUNDDOWN((Input!L38/10000),0)","v":0},{"$f":"((Input!L38/10000)-Master!B160)*10000","v":0},{"$f":"Input!M38","v":0},null,null,null,null,null,null,null,null,null,null,null,null,null,null,null,null,null,null,null,null,null,null,null,null,0,{"$f":"IF(Input!$G$14=0,0,SUM(M160:P160))","v":0},{"$f":"IF(Input!$H$14=0,0,SUM(Q160:T160))","v":0},{"$f":"IF(Input!$I$14=0,0,SUM(U160:X160))","v":0},{"$f":"IF(Input!$J$14=0,0,SUM(Y160:AB160))","v":0}]
[null,{"$f":"ROUNDDOWN((Input!L39/10000),0)","v":0},{"$f":"((Input!L39/10000)-Master!B161)*10000","v":0},{"$f":"Input!M39","v":0},null,null,null,null,null,null,null,null,null,null,null,null,null,null,null,null,null,null,null,null,null,null,null,null,0,{"$f":"IF(Input!$G$14=0,0,SUM(M161:P161))","v":0},{"$f":"IF(Input!$H$14=0,0,SUM(Q161:T161))","v":0},{"$f":"IF(Input!$I$14=0,0,SUM(U161:X161))","v":0},{"$f":"IF(Input!$J$14=0,0,SUM(Y161:AB161))","v":0}]
[null,{"$f":"ROUNDDOWN((Input!L40/10000),0)","v":0},{"$f":"((Input!L40/10000)-Master!B162)*10000","v":0},{"$f":"Input!M40","v":0},null,null,null,null,null,null,null,null,null,null,null,null,null,null,null,null,null,null,null,null,null,null,null,null,0,{"$f":"IF(Input!$G$14=0,0,SUM(M162:P162))","v":0},{"$f":"IF(Input!$H$14=0,0,SUM(Q162:T162))","v":0},{"$f":"IF(Input!$I$14=0,0,SUM(U162:X162))","v":0},{"$f":"IF(Input!$J$14=0,0,SUM(Y162:AB162))","v":0}]
[null,{"$f":"ROUNDDOWN((Input!L41/10000),0)","v":0},{"$f":"((Input!L41/10000)-Master!B163)*10000","v":0},{"$f":"Input!M41","v":0},null,null,null,null,null,null,null,null,null,null,null,null,null,null,null,null,null,null,null,null,null,null,null,null,0,{"$f":"IF(Input!$G$14=0,0,SUM(M163:P163))","v":0},{"$f":"IF(Input!$H$14=0,0,SUM(Q163:T163))","v":0},{"$f":"IF(Input!$I$14=0,0,SUM(U163:X163))","v":0},{"$f":"IF(Input!$J$14=0,0,SUM(Y163:AB163))","v":0}]
[null,{"$f":"ROUNDDOWN((Input!L42/10000),0)","v":0},{"$f":"((Input!L42/10000)-Master!B164)*10000","v":0},{"$f":"Input!M42","v":0},null,null,null,null,null,null,null,null,null,null,null,null,null,null,null,null,null,null,null,null,null,null,null,null,0,{"$f":"IF(Input!$G$14=0,0,SUM(M164:P164))","v":0},{"$f":"IF(Input!$H$14=0,0,SUM(Q164:T164))","v":0},{"$f":"IF(Input!$I$14=0,0,SUM(U164:X164))","v":0},{"$f":"IF(Input!$J$14=0,0,SUM(Y164:AB164))","v":0}]
[null,{"$f":"ROUNDDOWN((Input!L43/10000),0)","v":0},{"$f":"((Input!L43/10000)-Master!B165)*10000","v":0},{"$f":"Input!M43","v":0},null,null,null,null,null,null,null,null,null,null,null,null,null,null,null,null,null,null,null,null,null,null,null,null,0,{"$f":"IF(Input!$G$14=0,0,SUM(M165:P165))","v":0},{"$f":"IF(Input!$H$14=0,0,SUM(Q165:T165))","v":0},{"$f":"IF(Input!$I$14=0,0,SUM(U165:X165))","v":0},{"$f":"IF(Input!$J$14=0,0,SUM(Y165:AB165))","v":0}]
[null,{"$f":"ROUNDDOWN((Input!L44/10000),0)","v":0},{"$f":"((Input!L44/10000)-Master!B166)*10000","v":0},{"$f":"Input!M44","v":0},null,null,null,null,null,null,null,null,null,null,null,null,null,null,null,null,null,null,null,null,null,null,null,null,0,{"$f":"IF(Input!$G$14=0,0,SUM(M166:P166))","v":0},{"$f":"IF(Input!$H$14=0,0,SUM(Q166:T166))","v":0},{"$f":"IF(Input!$I$14=0,0,SUM(U166:X166))","v":0},{"$f":"IF(Input!$J$14=0,0,SUM(Y166:AB166))","v":0}]